Workbook
Name _MON_1456571954: 'Outsourcing Register'!#REF!
Name _MON_1456571954: 'Validation Check'!#REF!
Name category_provider: #REF!
Name Material_Subcon_1: #REF!
Name Outsource_Services: 'Validation Check'!#REF!
Name Outsource_Services: 'Outsourcing Register'!#REF!
Name Service_Provider_1: #REF!

Sheet Cover Page
B3: OUTSOURCING REGISTER (Version 1.1)
B5: Name of Bank
B6: Updated as at | C6: YYYY-MM-DD
B7: FI Code
B8: Business Code (if applicable)
B9: Name of Respondent
B10: Respondent Designation / Title
B11: Respondent Contact Number
B12: Respondent Email Address
B13: Name of Reviewer
B14: Reviewer Designation / Title
B15: Reviewer Contact Number
B16: Reviewer Email Address
B18: Instructions 1. Every bank in Singapore must submit a separate register by FI Code unless the bank owns multiple banking legal entities, in which case, it should submit a separate register by Business Code 2. It is mandatory to fill up all applicable cover page details 3. The "Updated as at" field must be completed using the prescribed date format e.g. 2024-12-31 4. Every bank must input the correct FI Code and Business Code used for regulatory reporting to MAS and must not input other identifiers such as UEN

Sheet Instructions
A1: General instructions for this template
A2: a. | B2: The bank is to provide information at the entity level.
A3: b. | B3: Outsourced relevant services reported should include all service providers and material sub-contractors. Please refer to Row E for the definition of material sub-contractor.
A4: c. | B4: Ongoing outsourced relevant services reported should include all live arrangements as at the reporting date. Arrangements that were ceased since the last reporting date should be excluded.
A5: d. | B5: Outsourced relevant services obtained or received from a service provider since the last reporting date which are non-ongoing, but which involve the disclosure of customer information, should also be reported in the register. For such services, the bank should only fill in Columns A, B, C, D, E, F, G, H, I, M, P, S, U, V and AC. All other columns should be left blank.
A6: e. | B6: All dates should be filled in using the YYYY-MM-DD format.
A7: f. | B7: After filling in the outsourcing register, please check the "Validation Check" tab. Where fields in the "Validation Check" tab return errors, please review the corresponding field(s) within the <Outsourcing Register> tab and rectify the error(s) accordingly. For example, if cell B2 of the "Validation Check" tab returns an error, it means that the inputs in cell B2 of the outsourcing register need to be amended. Please refer to the "Sample (Validation Check)" tab for an example.
A11: g. | B11: The outsourcing register is limited to a maximum of 2500 rows. Should more rows be required, please inform your respective review officer.
A12: h. | B12: Please read the below special instructions carefully for further information on how to fill in the columns of the outsourcing register accurately.
A14: Special instructions on filling in outsourcing register
A15: Column | B15: Description | C15: Instruction
A16: A | B16: Unique Identifier | C16: Please input a unique identifier that would help MAS and the bank identify the same arrangement (e.g. identifier available in the bank's outsourcing system). A separate row should be added for each unique service, including each service under a master agreement.
A17: B | B17: Outsourced relevant service(s) | C17: Please choose the category according to the drop-down list that best describes the type of outsourced relevant service. For more details on the examples of services that fall within each category, please refer to Annexes A and C of the MAS Notice on Management of Outsourced Relevant Services.
A18: C | B18: Is this an ongoing outsourced relevant service? | C18: Please indicate if the arrangement is an ongoing outsourced relevant service i.e. Yes or No. Banks should refer to the MAS Notice on Management of Outsourced Relevant Services for the definition of an ongoing outsourced relevant service.
A19: D | B19: Description of outsourced relevant service(s) | C19: Please provide more information to describe what the outsourced relevant service relates to.
A20: E | B20: Name of service provider / material sub-contractor as set out in the outsourcing agreement | C20: Please input the exact company name as per its registered business name. For each service provider, please provide information on each material sub-contractor, if any, under a new row. For the avoidance of doubt, a "material sub-contractor", means a sub-contractor where the bank in Singapore has reasonable grounds to believe that: (a) any unauthorised disclosure of, access to, collection of, copying of, modification of, use of, disposal of or acts with similar risks done in relation to, any information, held by the sub-contractor; (b) any unauthorised access to the books, systems or premises of the sub-contractor; or (c) a failure by the sub-contractor to provide the relevant service in the manner it was engaged to provide will materially affect adversely or is likely to materially affect adversely the provision of the Material Ongoing Outsourced Relevant Service to the bank. Please refer to the MAS Notice on Management of Outsourced Relevant Services for the definition of sub-contractor, and guidance on whether an arrangement would be considered a material ongoing outsourced relevant service.
A21: F | B21: Business registration number of service provider / material sub-contractor | C21: Please input the company's (inclusive of bank's intragroup service providers) business registration number per the country which it is registered in.
A22: G | B22: Country or Jurisdiction where the service provider / material sub-contractor is registered | C22: Please input the country or jurisdiction where the company is registered in, according to the drop-down list. The country or jurisdiction should correspond to the business registration number provided in Column F.
A23: H | B23: Category of provider (service provider or material sub-contractor) | C23: Please indicate if the outsourced relevant service is provided by a service provider, or material sub-contractor.
A24: I | B24: Type of outsourced relevant service provider | C24: Please indicate if the outsourced relevant service is provided by an intragroup service provider, or a non-intragroup service provider.
A25: J | B25: Materiality | C25: Please indicate if the outsourced relevant service is material, or non-material. In assessing materiality, banks should refer to the MAS Notice on Management of Outsourced Relevant Services for the definition of a Material Outsourced Relevant Service.
A26: K | B26: When did the bank perform the materiality assessment? | C26: Please input the date that the most recent materiality assessment was performed.
... A44: AC | B44: Other comments (if any) | C44: Please provide any supplementary information which would help MAS better understand the service being provided to the bank.

Sheet Sample
A1: Sheet name: | B1: Outsourcing Register
A2: Unique Identifier | B2: Outsourced relevant service(s) | C2: Is this an ongoing outsourced relevant service? | D2: Description of outsourced relevant service(s) | E2: Name of service provider / material sub-contractor as set out in the outsourcing agreement | F2: Business registration number of service provider / material sub-contractor | G2: Country or Jurisdiction where the service provider / material sub-contractor is registered | H2: Category of provider (service provider or material sub-contractor) | I2: Type of outsourced relevant service provider | J2: Materiality | K2: When did the bank perform the materiality assessment? | L2: Service provider / material sub-contractor supports business operations that are time critical | M2: Is customer information disclosed to, or accessed, collected, copied, modified, used, stored or processed by the service provider / material sub-contractor? | N2: Please list all the countries or jurisdictions where the service will be carried out in <Col N - Jurisdictions> tab | O2: Please list all the cities where the service will be carried out in <Col O - Cities> tab | P2: Please list all the countries or jurisdictions where customer information will be disclosed to, or accessed, collected, copied, modified, used, stored or processed by the service provider / material sub-contractor in <Col P - Cust_Info> tab | Q2: Service provider substitutability | R2: Has an alternate service provider been identified? | S2: Service commencement date | T2: Last contract renewal date (where applicable) | U2: Service expiry or next contract renewal date (where applicable) | V2: When did the institution last undertake due diligence on the outsourcing / sub-contracting arrangement? | W2: Was there a change in materiality following the most recent materiality assessment performed for the outsourcing / sub-contracting arrangement? | X2: Institution's frequency of audit on the service provider / material sub-contractor (Year(s)) | Y2: When was an independent audit last conducted on the service provider / material sub-contractor? | Z2: Who conducted the audit? | AA2: When did the service provider / material sub-contractor last test its business continuity plan (BCP)? | AB2: Did the service provider / material sub-contractor meet all the objectives of the BCP test successfully? | AC2: Other comments (if any)
A3: Example 1 | B3: Data centre operations or data centre facilities management services | C3: Yes | D3: Data centre facilities management services | E3: XYZ Pte Ltd. | F3: 123456789A | G3: SG | H3: Service provider | I3: Non-intragroup | J3: Material | K3: 41050 | L3: No | M3: Yes | Q3: Can be substituted with moderate impact to business operations | R3: Yes, identified | S3: 41110 | T3: 44397 | U3: 45493 | V3: 44459 | W3: Yes (please elaborate in the Other Comments column) | X3: 1 | Y3: 44844 | Z3: Internal auditor of bank | AA3: 44579 | AB3: Yes | AC3: Per Column W: Change in materiality following the most recent materiality assessment performed on the arrangement was due to …..
A4: Example 1a | B4: Data centre operations or data centre facilities management services | C4: Yes | D4: Control and regulation of data centre environmental conditions (e.g. temperature and humidity) | E4: ABC Pte Ltd. | F4: 987654321A | G4: SG | H4: Material sub-contractor | I4: Non-intragroup | J4: Material | K4: 41050 | L4: No | M4: No | S4: 41110 | T4: NA | U4: NA | V4: 44459 | W4: Yes (please elaborate in the Other Comments column) | X4: 1 | Y4: 44844 | Z4: External auditor of material sub-contractor | AA4: 44514 | AB4: Yes | AC4: Per Column W: Change in materiality following the most recent materiality assessment performed on the arrangement was due to …..
A5: Example 2 | B5: Middle and back office operations | C5: Yes | D5: Outsourcing of remittance and treasury operations | E5: DEF Inc. | F5: 12-3456789 | G5: US | H5: Service provider | I5: Intragroup | J5: Material | K5: 44289 | L5: Yes | M5: Yes | Q5: Can be substituted with major impact to business operations | R5: No, not identified (please elaborate in the Other Comments column) | S5: 44397 | T5: NA | U5: 45127 | V5: 44318 | W5: No | X5: 2 | Y5: 44318 | Z5: Internal auditor of bank | AA5: 43894 | AB5: Yes | AC5: Per Column R: Alternate Service provider was not identified because…
A6: Example 2b | B6: Middle and back office operations | C6: Yes | D6: Outsourcing of remittance and treasury operations | E6: GHIJK Inc. | F6: 98-7654321 | G6: US | H6: Material sub-contractor | I6: Non-intragroup | J6: Material | K6: 44289 | L6: Yes | M6: Yes | S6: 44397 | T6: NA | U6: NA | V6: 44318 | W6: No | X6: 2 | Y6: 44318 | Z6: Internal auditor of bank | AA6: 43894 | AB6: Yes
A7: Example 3 | B7: Marketing or research | C7: No | D7: One-time marketing service engagement for event | E7: LMNO Pte Ltd. | F7: 10-2030492 | G7: SG | H7: Service provider | I7: Non-intragroup | M7: Yes | S7: 44941 | U7: 44977 | V7: 44876 | Y7: 44318
A8: Example 4 | B8: This is an example of an erroneous input. Refer to cell B8 of "Sample Validation Check" tab.
A10: Sheet name: | B10: Col N - Jurisdictions
A11: Unique Identifier | B11: Outsourced relevant service(s) | C11: Is this an ongoing outsourced relevant service? | D11: Description of outsourced relevant service(s) | E11: Name of service provider / material sub-contractor as set out in the outsourcing agreement | F11: Business registration number of service provider / material sub-contractor | G11: Please list all the countries or jurisdictions where the service will be carried out.
A12: Example 1 | B12: Data centre operations or data centre facilities management services | C12: Yes | D12: Data centre facilities management services | E12: XYZ Pte Ltd. | F12: 123456789A | G12: SG
A13: Example 1 | B13: Data centre operations or data centre facilities management services | C13: Yes | D13: Data centre facilities management services | E13: XYZ Pte Ltd. | F13: 123456789A | G13: MY
A14: Example 1a | B14: Data centre operations or data centre facilities management services | C14: Yes | D14: Control and regulation of data centre environmental conditions (e.g. temperature and humidity) | E14: ABC Pte Ltd. | F14: 987654321A | G14: SG
A15: Example 1a | B15: Data centre operations or data centre facilities management services | C15: Yes | D15: Control and regulation of data centre environmental conditions (e.g. temperature and humidity) | E15: ABC Pte Ltd. | F15: 987654321A | G15: MY
A17: Sheet name: | B17: Col O - Cities
A18: Unique Identifier | B18: Outsourced relevant service(s) | C18: Is this an ongoing outsourced relevant service? | D18: Description of outsourced relevant service(s) | E18: Name of service provider / material sub-contractor as set out in the outsourcing agreement | F18: Business registration number of service provider / material sub-contractor | G18: Please input all the cities where the service will be carried out.
A19: Example 1 | B19: Data centre operations or data centre facilities management services | C19: Yes | D19: Data centre facilities management services | E19: XYZ Pte Ltd. | F19: 123456789A | G19: Singapore
A20: Example 1 | B20: Data centre operations or data centre facilities management services | C20: Yes | D20: Data centre facilities management services | E20: XYZ Pte Ltd. | F20: 123456789A | G20: Kuala Lumpur
A21: Example 1a | B21: Data centre operations or data centre facilities management services | C21: Yes | D21: Control and regulation of data centre environmental conditions (e.g. temperature and humidity) | E21: ABC Pte Ltd. | F21: 987654321A | G21: Singapore
A22: Example 1a | B22: Data centre operations or data centre facilities management services | C22: Yes | D22: Control and regulation of data centre environmental conditions (e.g. temperature and humidity) | E22: ABC Pte Ltd. | F22: 987654321A | G22: Kuala Lumpur
A24: Sheet name: | B24: Col P - Cust_Info
A25: Unique Identifier | B25: Outsourced relevant service(s) | C25: Is this an ongoing outsourced relevant service? | D25: Description of outsourced relevant service(s) | E25: Name of service provider / material sub-contractor as set out in the outsourcing agreement | F25: Business registration number of service provider / material sub-contractor | G25: Please input all the countries or jurisdictions where customer information will be disclosed to, or accessed, collected, copied, modified, used, stored or processed by the service provider/material sub-contractor.
A26: Example 1 | B26: Data centre operations or data centre facilities management services | C26: Yes | D26: Data centre facilities management services | E26: XYZ Pte Ltd. | F26: 123456789A | G26: SG
A27: Example 1 | B27: Data centre operations or data centre facilities management services | C27: Yes | D27: Data centre facilities management services | E27: XYZ Pte Ltd. | F27: 123456789A | G27: MY
A28: Example 1a | B28: Data centre operations or data centre facilities management services | C28: Yes | D28: Control and regulation of data centre environmental conditions (e.g. temperature and humidity) | E28: ABC Pte Ltd. | F28: 987654321A | G28: SG
A29: Example 1a | B29: Data centre operations or data centre facilities management services | C29: Yes | D29: Control and regulation of data centre environmental conditions (e.g. temperature and humidity) | E29: ABC Pte Ltd. | F29: 987654321A | G29: MY

Sheet Sample Validation Check
A2: Unique Identifier | B2: Outsourced relevant service(s) | C2: Is this an ongoing outsourced relevant service? | D2: Description of outsourced relevant service(s) | E2: Name of service provider / material sub-contractor as set out in the outsourcing agreement | F2: Business registration number of service provider / material sub-contractor | G2: Country or Jurisdiction where the service provider / material sub-contractor is registered | H2: Category of provider (service provider or material sub-contractor) | I2: Type of outsourced relevant service provider | J2: Materiality | K2: When did the bank perform the materiality assessment? | L2: Service provider / material sub-contractor supports business operations that are time critical | M2: Is customer information disclosed to, or accessed, collected, copied, modified, used, stored or processed by the service provider / material sub-contractor? | N2: Please list all the countries or jurisdictions where the service will be carried out in <Col N - Jurisdictions> tab | O2: Please list all the cities where the service will be carried out in <Col O - Cities> tab | P2: Please list all the countries or jurisdictions where customer information will be disclosed, accessed, collected, copied, modified, used, stored or processed by the service provider / material sub-contractor in <Col P - Cust_Info> tab | Q2: Service provider substitutability | R2: Has an alternate service provider been identified? | S2: Service commencement date | T2: Last contract renewal date (where applicable) | U2: Service expiry or next contract renewal date (where applicable) | V2: When did the institution last undertake due diligence on the outsourcing / sub-contracting arrangement? | W2: Was there a change in materiality following the most recent materiality assessment performed for the outsourcing / sub-contracting arrangement? | X2: Institution's frequency of audit on the service provider / material sub-contractor (Year(s)) | Y2: When was an independent audit last conducted on the service provider / material sub-contractor? | Z2: Who conducted the audit? | AA2: When did the service provider / material sub-contractor last test its business continuity plan (BCP)? | AB2: Did the service provider / material sub-contractor meet all the objectives of the BCP test successfully? | AC2: Other comments (if any)
A3: =IF(ISBLANK(Sample!A3),"FIELD IS BLANK","OK") -> OK | B3: =IF(ISBLANK(Sample!B3),"FIELD IS BLANK",IF(ISNA(VLOOKUP(Sample!B3,'Drop-down Data'!$A$2:$A$23,1,0)),"ERROR, PLEASE CHECK FIELD","OK")) -> OK | C3: =IF(ISBLANK(Sample!C3),"FIELD IS BLANK",IF(Sample!C3="Yes","OK",IF(Sample!C3="No","OK","ERROR, PLEASE CHECK FIELD"))) -> OK | D3: =IF(ISBLANK(Sample!D3),"FIELD IS BLANK","OK") -> OK | E3: =IF(ISBLANK(Sample!E3),"FIELD IS BLANK","OK") -> OK | F3: =IF(ISBLANK(Sample!F3),"FIELD IS BLANK","OK") -> OK | G3: =IF(ISBLANK(Sample!G3),"FIELD IS BLANK",IF(ISNA(VLOOKUP(Sample!G3,'Drop-down Data'!$B$2:$B$251,1,0)),"ERROR, PLEASE CHECK FIELD","OK")) -> OK | H3: =IF(ISBLANK(Sample!H3),"FIELD IS BLANK",IF(Sample!H3="Service provider","OK",IF(Sample!H3="Material sub-contractor","OK","ERROR, PLEASE CHECK FIELD"))) -> OK | I3: =IF(ISBLANK(Sample!I3),"FIELD IS BLANK",IF(Sample!I3="Intragroup","OK",IF(Sample!I3="Non-intragroup","OK","ERROR, PLEASE CHECK FIELD"))) -> OK | J3: =IF(ISBLANK(Sample!J3),"FIELD IS BLANK",IF(Sample!J3="Material","OK",IF(Sample!J3="Non-material","OK","ERROR, PLEASE CHECK FIELD"))) -> OK | K3: =IF(ISBLANK(Sample!K3),"FIELD IS BLANK","OK") -> OK | L3: =IF(ISBLANK(Sample!L3),"FIELD IS BLANK",IF(Sample!L3="Yes","OK",IF(Sample!L3="No","OK","ERROR, PLEASE CHECK FIELD"))) -> OK | M3: =IF(ISBLANK(Sample!M3),"FIELD IS BLANK",IF(Sample!M3="Yes","OK",IF(Sample!M3="No","OK","ERROR, PLEASE CHECK FIELD"))) -> OK | N3: =IF(ISBLANK(Sample!N3),"OK","ERROR, PLEASE CHECK FIELD") -> OK | O3: =IF(ISBLANK(Sample!O3),"OK","ERROR, PLEASE CHECK FIELD") -> OK | P3: =IF(ISBLANK(Sample!P3),"OK","ERROR, PLEASE CHECK FIELD") -> OK | Q3: =IF(ISBLANK(Sample!Q3),"FIELD IS BLANK",IF(ISNA(VLOOKUP(Sample!Q3,'Drop-down Data'!$D$2:$D$5,1,0)),"ERROR, PLEASE CHECK FIELD","OK")) -> OK | R3: =IF(ISBLANK(Sample!R3),"FIELD IS BLANK",IF(ISNA(VLOOKUP(Sample!R3,'Drop-down Data'!$E$2:$E$3,1,0)),"ERROR, PLEASE CHECK FIELD","OK")) -> OK | S3: =IF(ISBLANK(Sample!S3),"FIELD IS BLANK","OK") -> OK | T3: =IF(ISBLANK(Sample!T3),"FIELD IS BLANK","OK") -> OK | U3: =IF(ISBLANK(Sample!U3),"FIELD IS BLANK","OK") -> OK | V3: =IF(ISBLANK(Sample!V3),"FIELD IS BLANK","OK") -> OK | W3: =IF(ISBLANK(Sample!W3),"FIELD IS BLANK",IF(ISNA(VLOOKUP(Sample!W3,'Drop-down Data'!$F$2:$F$3,1,0)),"ERROR, PLEASE CHECK FIELD","OK")) -> OK | X3: =IF(ISBLANK(Sample!X3),"FIELD IS BLANK",IF(Sample!X3<0,"ERROR","OK")) -> OK | Y3: =IF(ISBLANK(Sample!Y3),"FIELD IS BLANK","OK") -> OK | Z3: =IF(ISBLANK(Sample!Z3),"FIELD IS BLANK",IF(ISNA(VLOOKUP(Sample!Z3,'Drop-down Data'!$G$2:$G$6,1,0)),"ERROR, PLEASE CHECK FIELD","OK")) -> OK | AA3: =IF(ISBLANK(Sample!AA3),"FIELD IS BLANK","OK") -> OK | AB3: =IF(ISBLANK(Sample!AB3),"FIELD IS BLANK",IF(Sample!AB3="Yes","OK",IF(Sample!AB3="No (please elaborate in the Other Comments column)","OK","ERROR, PLEASE CHECK FIELD"))) -> OK | AC3: =IF(ISBLANK(Sample!AC3),"FIELD IS BLANK","OK") -> OK | AH3: =TRIM(MID(SUBSTITUTE('Outsourcing Register'!$N2,",",REPT(" ",99)),COLUMNS($A:F)*99-98,99))
A4: =IF(ISBLANK(Sample!A4),"FIELD IS BLANK","OK") -> OK | B4: =IF(ISBLANK(Sample!B4),"FIELD IS BLANK",IF(ISNA(VLOOKUP(Sample!B4,'Drop-down Data'!$A$2:$A$23,1,0)),"ERROR, PLEASE CHECK FIELD","OK")) -> OK | C4: =IF(ISBLANK(Sample!C4),"FIELD IS BLANK",IF(Sample!C4="Yes","OK",IF(Sample!C4="No","OK","ERROR, PLEASE CHECK FIELD"))) -> OK | D4: =IF(ISBLANK(Sample!D4),"FIELD IS BLANK","OK") -> OK | E4: =IF(ISBLANK(Sample!E4),"FIELD IS BLANK","OK") -> OK | F4: =IF(ISBLANK(Sample!F4),"FIELD IS BLANK","OK") -> OK | G4: =IF(ISBLANK(Sample!G4),"FIELD IS BLANK",IF(ISNA(VLOOKUP(Sample!G4,'Drop-down Data'!$B$2:$B$251,1,0)),"ERROR, PLEASE CHECK FIELD","OK")) -> OK | H4: =IF(ISBLANK(Sample!H4),"FIELD IS BLANK",IF(Sample!H4="Service provider","OK",IF(Sample!H4="Material sub-contractor","OK","ERROR, PLEASE CHECK FIELD"))) -> OK | I4: =IF(ISBLANK(Sample!I4),"FIELD IS BLANK",IF(Sample!I4="Intragroup","OK",IF(Sample!I4="Non-intragroup","OK","ERROR, PLEASE CHECK FIELD"))) -> OK | J4: =IF(ISBLANK(Sample!J4),"FIELD IS BLANK",IF(Sample!J4="Material","OK",IF(Sample!J4="Non-material","OK","ERROR, PLEASE CHECK FIELD"))) -> OK | K4: =IF(ISBLANK(Sample!K4),"FIELD IS BLANK","OK") -> OK | L4: =IF(ISBLANK(Sample!L4),"FIELD IS BLANK",IF(Sample!L4="Yes","OK",IF(Sample!L4="No","OK","ERROR, PLEASE CHECK FIELD"))) -> OK | M4: =IF(ISBLANK(Sample!M4),"FIELD IS BLANK",IF(Sample!M4="Yes","OK",IF(Sample!M4="No","OK","ERROR, PLEASE CHECK FIELD"))) -> OK | N4: =IF(ISBLANK(Sample!N4),"OK","ERROR, PLEASE CHECK FIELD") -> OK | O4: =IF(ISBLANK(Sample!O4),"OK","ERROR, PLEASE CHECK FIELD") -> OK | P4: =IF(ISBLANK(Sample!P4),"OK","ERROR, PLEASE CHECK FIELD") -> OK | Q4: =IF(ISBLANK(Sample!Q4),"FIELD IS BLANK",IF(ISNA(VLOOKUP(Sample!Q4,'Drop-down Data'!$D$2:$D$5,1,0)),"ERROR, PLEASE CHECK FIELD","OK")) -> FIELD IS BLANK | R4: =IF(ISBLANK(Sample!R4),"FIELD IS BLANK",IF(ISNA(VLOOKUP(Sample!R4,'Drop-down Data'!$E$2:$E$3,1,0)),"ERROR, PLEASE CHECK FIELD","OK")) -> FIELD IS BLANK | S4: =IF(ISBLANK(Sample!S4),"FIELD IS BLANK","OK") -> OK | T4: =IF(ISBLANK(Sample!T4),"FIELD IS BLANK","OK") -> OK | U4: =IF(ISBLANK(Sample!U4),"FIELD IS BLANK","OK") -> OK | V4: =IF(ISBLANK(Sample!V4),"FIELD IS BLANK","OK") -> OK | W4: =IF(ISBLANK(Sample!W4),"FIELD IS BLANK",IF(ISNA(VLOOKUP(Sample!W4,'Drop-down Data'!$F$2:$F$3,1,0)),"ERROR, PLEASE CHECK FIELD","OK")) -> OK | X4: =IF(ISBLANK(Sample!X4),"FIELD IS BLANK",IF(Sample!X4<0,"ERROR","OK")) -> OK | Y4: =IF(ISBLANK(Sample!Y4),"FIELD IS BLANK","OK") -> OK | Z4: =IF(ISBLANK(Sample!Z4),"FIELD IS BLANK",IF(ISNA(VLOOKUP(Sample!Z4,'Drop-down Data'!$G$2:$G$6,1,0)),"ERROR, PLEASE CHECK FIELD","OK")) -> OK | AA4: =IF(ISBLANK(Sample!AA4),"FIELD IS BLANK","OK") -> OK | AB4: =IF(ISBLANK(Sample!AB4),"FIELD IS BLANK",IF(Sample!AB4="Yes","OK",IF(Sample!AB4="No (please elaborate in the Other Comments column)","OK","ERROR, PLEASE CHECK FIELD"))) -> OK | AC4: =IF(ISBLANK(Sample!AC4),"FIELD IS BLANK","OK") -> OK | AH4: =TRIM(MID(SUBSTITUTE('Outsourcing Register'!$N3,",",REPT(" ",99)),COLUMNS($A:F)*99-98,99))
A5: =IF(ISBLANK(Sample!A5),"FIELD IS BLANK","OK") -> OK | B5: =IF(ISBLANK(Sample!B5),"FIELD IS BLANK",IF(ISNA(VLOOKUP(Sample!B5,'Drop-down Data'!$A$2:$A$23,1,0)),"ERROR, PLEASE CHECK FIELD","OK")) -> OK | C5: =IF(ISBLANK(Sample!C5),"FIELD IS BLANK",IF(Sample!C5="Yes","OK",IF(Sample!C5="No","OK","ERROR, PLEASE CHECK FIELD"))) -> OK | D5: =IF(ISBLANK(Sample!D5),"FIELD IS BLANK","OK") -> OK | E5: =IF(ISBLANK(Sample!E5),"FIELD IS BLANK","OK") -> OK | F5: =IF(ISBLANK(Sample!F5),"FIELD IS BLANK","OK") -> OK | G5: =IF(ISBLANK(Sample!G5),"FIELD IS BLANK",IF(ISNA(VLOOKUP(Sample!G5,'Drop-down Data'!$B$2:$B$251,1,0)),"ERROR, PLEASE CHECK FIELD","OK")) -> OK | H5: =IF(ISBLANK(Sample!H5),"FIELD IS BLANK",IF(Sample!H5="Service provider","OK",IF(Sample!H5="Material sub-contractor","OK","ERROR, PLEASE CHECK FIELD"))) -> OK | I5: =IF(ISBLANK(Sample!I5),"FIELD IS BLANK",IF(Sample!I5="Intragroup","OK",IF(Sample!I5="Non-intragroup","OK","ERROR, PLEASE CHECK FIELD"))) -> OK | J5: =IF(ISBLANK(Sample!J5),"FIELD IS BLANK",IF(Sample!J5="Material","OK",IF(Sample!J5="Non-material","OK","ERROR, PLEASE CHECK FIELD"))) -> OK | K5: =IF(ISBLANK(Sample!K5),"FIELD IS BLANK","OK") -> OK | L5: =IF(ISBLANK(Sample!L5),"FIELD IS BLANK",IF(Sample!L5="Yes","OK",IF(Sample!L5="No","OK","ERROR, PLEASE CHECK FIELD"))) -> OK | M5: =IF(ISBLANK(Sample!M5),"FIELD IS BLANK",IF(Sample!M5="Yes","OK",IF(Sample!M5="No","OK","ERROR, PLEASE CHECK FIELD"))) -> OK | N5: =IF(ISBLANK(Sample!N5),"OK","ERROR, PLEASE CHECK FIELD") -> OK | O5: =IF(ISBLANK(Sample!O5),"OK","ERROR, PLEASE CHECK FIELD") -> OK | P5: =IF(ISBLANK(Sample!P5),"OK","ERROR, PLEASE CHECK FIELD") -> OK | Q5: =IF(ISBLANK(Sample!Q5),"FIELD IS BLANK",IF(ISNA(VLOOKUP(Sample!Q5,'Drop-down Data'!$D$2:$D$5,1,0)),"ERROR, PLEASE CHECK FIELD","OK")) -> OK | R5: =IF(ISBLANK(Sample!R5),"FIELD IS BLANK",IF(ISNA(VLOOKUP(Sample!R5,'Drop-down Data'!$E$2:$E$3,1,0)),"ERROR, PLEASE CHECK FIELD","OK")) -> OK | S5: =IF(ISBLANK(Sample!S5),"FIELD IS BLANK","OK") -> OK | T5: =IF(ISBLANK(Sample!T5),"FIELD IS BLANK","OK") -> OK | U5: =IF(ISBLANK(Sample!U5),"FIELD IS BLANK","OK") -> OK | V5: =IF(ISBLANK(Sample!V5),"FIELD IS BLANK","OK") -> OK | W5: =IF(ISBLANK(Sample!W5),"FIELD IS BLANK",IF(ISNA(VLOOKUP(Sample!W5,'Drop-down Data'!$F$2:$F$3,1,0)),"ERROR, PLEASE CHECK FIELD","OK")) -> OK | X5: =IF(ISBLANK(Sample!X5),"FIELD IS BLANK",IF(Sample!X5<0,"ERROR","OK")) -> OK | Y5: =IF(ISBLANK(Sample!Y5),"FIELD IS BLANK","OK") -> OK | Z5: =IF(ISBLANK(Sample!Z5),"FIELD IS BLANK",IF(ISNA(VLOOKUP(Sample!Z5,'Drop-down Data'!$G$2:$G$6,1,0)),"ERROR, PLEASE CHECK FIELD","OK")) -> OK | AA5: =IF(ISBLANK(Sample!AA5),"FIELD IS BLANK","OK") -> OK | AB5: =IF(ISBLANK(Sample!AB5),"FIELD IS BLANK",IF(Sample!AB5="Yes","OK",IF(Sample!AB5="No (please elaborate in the Other Comments column)","OK","ERROR, PLEASE CHECK FIELD"))) -> OK | AC5: =IF(ISBLANK(Sample!AC5),"FIELD IS BLANK","OK") -> OK | AH5: =TRIM(MID(SUBSTITUTE('Outsourcing Register'!$N4,",",REPT(" ",99)),COLUMNS($A:F)*99-98,99))
A6: =IF(ISBLANK(Sample!A6),"FIELD IS BLANK","OK") -> OK | B6: =IF(ISBLANK(Sample!B6),"FIELD IS BLANK",IF(ISNA(VLOOKUP(Sample!B6,'Drop-down Data'!$A$2:$A$23,1,0)),"ERROR, PLEASE CHECK FIELD","OK")) -> OK | C6: =IF(ISBLANK(Sample!C6),"FIELD IS BLANK",IF(Sample!C6="Yes","OK",IF(Sample!C6="No","OK","ERROR, PLEASE CHECK FIELD"))) -> OK | D6: =IF(ISBLANK(Sample!D6),"FIELD IS BLANK","OK") -> OK | E6: =IF(ISBLANK(Sample!E6),"FIELD IS BLANK","OK") -> OK | F6: =IF(ISBLANK(Sample!F6),"FIELD IS BLANK","OK") -> OK | G6: =IF(ISBLANK(Sample!G6),"FIELD IS BLANK",IF(ISNA(VLOOKUP(Sample!G6,'Drop-down Data'!$B$2:$B$251,1,0)),"ERROR, PLEASE CHECK FIELD","OK")) -> OK | H6: =IF(ISBLANK(Sample!H6),"FIELD IS BLANK",IF(Sample!H6="Service provider","OK",IF(Sample!H6="Material sub-contractor","OK","ERROR, PLEASE CHECK FIELD"))) -> OK | I6: =IF(ISBLANK(Sample!I6),"FIELD IS BLANK",IF(Sample!I6="Intragroup","OK",IF(Sample!I6="Non-intragroup","OK","ERROR, PLEASE CHECK FIELD"))) -> OK | J6: =IF(ISBLANK(Sample!J6),"FIELD IS BLANK",IF(Sample!J6="Material","OK",IF(Sample!J6="Non-material","OK","ERROR, PLEASE CHECK FIELD"))) -> OK | K6: =IF(ISBLANK(Sample!K6),"FIELD IS BLANK","OK") -> OK | L6: =IF(ISBLANK(Sample!L6),"FIELD IS BLANK",IF(Sample!L6="Yes","OK",IF(Sample!L6="No","OK","ERROR, PLEASE CHECK FIELD"))) -> OK | M6: =IF(ISBLANK(Sample!M6),"FIELD IS BLANK",IF(Sample!M6="Yes","OK",IF(Sample!M6="No","OK","ERROR, PLEASE CHECK FIELD"))) -> OK | N6: =IF(ISBLANK(Sample!N6),"OK","ERROR, PLEASE CHECK FIELD") -> OK | O6: =IF(ISBLANK(Sample!O6),"OK","ERROR, PLEASE CHECK FIELD") -> OK | P6: =IF(ISBLANK(Sample!P6),"OK","ERROR, PLEASE CHECK FIELD") -> OK | Q6: =IF(ISBLANK(Sample!Q6),"FIELD IS BLANK",IF(ISNA(VLOOKUP(Sample!Q6,'Drop-down Data'!$D$2:$D$5,1,0)),"ERROR, PLEASE CHECK FIELD","OK")) -> FIELD IS BLANK | R6: =IF(ISBLANK(Sample!R6),"FIELD IS BLANK",IF(ISNA(VLOOKUP(Sample!R6,'Drop-down Data'!$E$2:$E$3,1,0)),"ERROR, PLEASE CHECK FIELD","OK")) -> FIELD IS BLANK | S6: =IF(ISBLANK(Sample!S6),"FIELD IS BLANK","OK") -> OK | T6: =IF(ISBLANK(Sample!T6),"FIELD IS BLANK","OK") -> OK | U6: =IF(ISBLANK(Sample!U6),"FIELD IS BLANK","OK") -> OK | V6: =IF(ISBLANK(Sample!V6),"FIELD IS BLANK","OK") -> OK | W6: =IF(ISBLANK(Sample!W6),"FIELD IS BLANK",IF(ISNA(VLOOKUP(Sample!W6,'Drop-down Data'!$F$2:$F$3,1,0)),"ERROR, PLEASE CHECK FIELD","OK")) -> OK | X6: =IF(ISBLANK(Sample!X6),"FIELD IS BLANK",IF(Sample!X6<0,"ERROR","OK")) -> OK | Y6: =IF(ISBLANK(Sample!Y6),"FIELD IS BLANK","OK") -> OK | Z6: =IF(ISBLANK(Sample!Z6),"FIELD IS BLANK",IF(ISNA(VLOOKUP(Sample!Z6,'Drop-down Data'!$G$2:$G$6,1,0)),"ERROR, PLEASE CHECK FIELD","OK")) -> OK | AA6: =IF(ISBLANK(Sample!AA6),"FIELD IS BLANK","OK") -> OK | AB6: =IF(ISBLANK(Sample!AB6),"FIELD IS BLANK",IF(Sample!AB6="Yes","OK",IF(Sample!AB6="No (please elaborate in the Other Comments column)","OK","ERROR, PLEASE CHECK FIELD"))) -> OK | AC6: =IF(ISBLANK(Sample!AC6),"FIELD IS BLANK","OK") -> FIELD IS BLANK | AH6: =TRIM(MID(SUBSTITUTE('Outsourcing Register'!$N5,",",REPT(" ",99)),COLUMNS($A:F)*99-98,99))
A7: =IF(ISBLANK(Sample!A7),"FIELD IS BLANK","OK") -> OK | B7: =IF(ISBLANK(Sample!B7),"FIELD IS BLANK",IF(ISNA(VLOOKUP(Sample!B7,'Drop-down Data'!$A$2:$A$23,1,0)),"ERROR, PLEASE CHECK FIELD","OK")) -> ERROR, PLEASE CHECK FIELD | C7: =IF(ISBLANK(Sample!C7),"FIELD IS BLANK",IF(Sample!C7="Yes","OK",IF(Sample!C7="No","OK","ERROR, PLEASE CHECK FIELD"))) -> OK | D7: =IF(ISBLANK(Sample!D7),"FIELD IS BLANK","OK") -> OK | E7: =IF(ISBLANK(Sample!E7),"FIELD IS BLANK","OK") -> OK | F7: =IF(ISBLANK(Sample!F7),"FIELD IS BLANK","OK") -> OK | G7: =IF(ISBLANK(Sample!G7),"FIELD IS BLANK",IF(ISNA(VLOOKUP(Sample!G7,'Drop-down Data'!$B$2:$B$251,1,0)),"ERROR, PLEASE CHECK FIELD","OK")) -> OK | H7: =IF(ISBLANK(Sample!H7),"FIELD IS BLANK",IF(Sample!H7="Service provider","OK",IF(Sample!H7="Material sub-contractor","OK","ERROR, PLEASE CHECK FIELD"))) -> OK | I7: =IF(ISBLANK(Sample!I7),"FIELD IS BLANK",IF(Sample!I7="Intragroup","OK",IF(Sample!I7="Non-intragroup","OK","ERROR, PLEASE CHECK FIELD"))) -> OK | J7: =IF(ISBLANK(Sample!J7),"FIELD IS BLANK",IF(Sample!J7="Material","OK",IF(Sample!J7="Non-material","OK","ERROR, PLEASE CHECK FIELD"))) -> FIELD IS BLANK | K7: =IF(ISBLANK(Sample!K7),"FIELD IS BLANK","OK") -> FIELD IS BLANK | L7: =IF(ISBLANK(Sample!L7),"FIELD IS BLANK",IF(Sample!L7="Yes","OK",IF(Sample!L7="No","OK","ERROR, PLEASE CHECK FIELD"))) -> FIELD IS BLANK | M7: =IF(ISBLANK(Sample!M7),"FIELD IS BLANK",IF(Sample!M7="Yes","OK",IF(Sample!M7="No","OK","ERROR, PLEASE CHECK FIELD"))) -> OK | N7: =IF(ISBLANK(Sample!N7),"OK","ERROR, PLEASE CHECK FIELD") -> OK | O7: =IF(ISBLANK(Sample!O7),"OK","ERROR, PLEASE CHECK FIELD") -> OK | P7: =IF(ISBLANK(Sample!P7),"OK","ERROR, PLEASE CHECK FIELD") -> OK | Q7: =IF(ISBLANK(Sample!Q7),"FIELD IS BLANK",IF(ISNA(VLOOKUP(Sample!Q7,'Drop-down Data'!$D$2:$D$5,1,0)),"ERROR, PLEASE CHECK FIELD","OK")) -> FIELD IS BLANK | R7: =IF(ISBLANK(Sample!R7),"FIELD IS BLANK",IF(ISNA(VLOOKUP(Sample!R7,'Drop-down Data'!$E$2:$E$3,1,0)),"ERROR, PLEASE CHECK FIELD","OK")) -> FIELD IS BLANK | S7: =IF(ISBLANK(Sample!S7),"FIELD IS BLANK","OK") -> OK | T7: =IF(ISBLANK(Sample!T7),"FIELD IS BLANK","OK") -> FIELD IS BLANK | U7: =IF(ISBLANK(Sample!U7),"FIELD IS BLANK","OK") -> OK | V7: =IF(ISBLANK(Sample!V7),"FIELD IS BLANK","OK") -> OK | W7: =IF(ISBLANK(Sample!W7),"FIELD IS BLANK",IF(ISNA(VLOOKUP(Sample!W7,'Drop-down Data'!$F$2:$F$3,1,0)),"ERROR, PLEASE CHECK FIELD","OK")) -> FIELD IS BLANK | X7: =IF(ISBLANK(Sample!X7),"FIELD IS BLANK",IF(Sample!X7<0,"ERROR","OK")) -> FIELD IS BLANK | Y7: =IF(ISBLANK(Sample!Y7),"FIELD IS BLANK","OK") -> OK | Z7: =IF(ISBLANK(Sample!Z7),"FIELD IS BLANK",IF(ISNA(VLOOKUP(Sample!Z7,'Drop-down Data'!$G$2:$G$6,1,0)),"ERROR, PLEASE CHECK FIELD","OK")) -> FIELD IS BLANK | AA7: =IF(ISBLANK(Sample!AA7),"FIELD IS BLANK","OK") -> FIELD IS BLANK | AB7: =IF(ISBLANK(Sample!AB7),"FIELD IS BLANK",IF(Sample!AB7="Yes","OK",IF(Sample!AB7="No (please elaborate in the Other Comments column)","OK","ERROR, PLEASE CHECK FIELD"))) -> FIELD IS BLANK | AC7: =IF(ISBLANK(Sample!AC7),"FIELD IS BLANK","OK") -> FIELD IS BLANK | AH7: =TRIM(MID(SUBSTITUTE('Outsourcing Register'!$N6,",",REPT(" ",99)),COLUMNS($A:F)*99-98,99))
A8: =IF(ISBLANK(Sample!A8),"FIELD IS BLANK","OK") -> OK | B8: =IF(ISBLANK(Sample!B8),"FIELD IS BLANK",IF(ISNA(VLOOKUP(Sample!B8,'Drop-down Data'!$A$2:$A$23,1,0)),"ERROR, PLEASE CHECK FIELD","OK")) -> ERROR, PLEASE CHECK FIELD | C8: =IF(ISBLANK(Sample!C8),"FIELD IS BLANK",IF(Sample!C8="Yes","OK",IF(Sample!C8="No","OK","ERROR, PLEASE CHECK FIELD"))) -> FIELD IS BLANK | D8: =IF(ISBLANK(Sample!D8),"FIELD IS BLANK","OK") -> FIELD IS BLANK | E8: =IF(ISBLANK(Sample!E8),"FIELD IS BLANK","OK") -> FIELD IS BLANK | F8: =IF(ISBLANK(Sample!F8),"FIELD IS BLANK","OK") -> FIELD IS BLANK | G8: =IF(ISBLANK(Sample!G8),"FIELD IS BLANK",IF(ISNA(VLOOKUP(Sample!G8,'Drop-down Data'!$B$2:$B$251,1,0)),"ERROR, PLEASE CHECK FIELD","OK")) -> FIELD IS BLANK | H8: =IF(ISBLANK(Sample!H8),"FIELD IS BLANK",IF(Sample!H8="Service provider","OK",IF(Sample!H8="Material sub-contractor","OK","ERROR, PLEASE CHECK FIELD"))) -> FIELD IS BLANK | I8: =IF(ISBLANK(Sample!I8),"FIELD IS BLANK",IF(Sample!I8="Intragroup","OK",IF(Sample!I8="Non-intragroup","OK","ERROR, PLEASE CHECK FIELD"))) -> FIELD IS BLANK | J8: =IF(ISBLANK(Sample!J8),"FIELD IS BLANK",IF(Sample!J8="Material","OK",IF(Sample!J8="Non-material","OK","ERROR, PLEASE CHECK FIELD"))) -> FIELD IS BLANK | K8: =IF(ISBLANK(Sample!K8),"FIELD IS BLANK","OK") -> FIELD IS BLANK | L8: =IF(ISBLANK(Sample!L8),"FIELD IS BLANK",IF(Sample!L8="Yes","OK",IF(Sample!L8="No","OK","ERROR, PLEASE CHECK FIELD"))) -> FIELD IS BLANK | M8: =IF(ISBLANK(Sample!M8),"FIELD IS BLANK",IF(Sample!M8="Yes","OK",IF(Sample!M8="No","OK","ERROR, PLEASE CHECK FIELD"))) -> FIELD IS BLANK | N8: =IF(ISBLANK(Sample!N8),"OK","ERROR, PLEASE CHECK FIELD") -> OK | O8: =IF(ISBLANK(Sample!O8),"OK","ERROR, PLEASE CHECK FIELD") -> OK | P8: =IF(ISBLANK(Sample!P8),"OK","ERROR, PLEASE CHECK FIELD") -> OK | Q8: =IF(ISBLANK(Sample!Q8),"FIELD IS BLANK",IF(ISNA(VLOOKUP(Sample!Q8,'Drop-down Data'!$D$2:$D$5,1,0)),"ERROR, PLEASE CHECK FIELD","OK")) -> FIELD IS BLANK | R8: =IF(ISBLANK(Sample!R8),"FIELD IS BLANK",IF(ISNA(VLOOKUP(Sample!R8,'Drop-down Data'!$E$2:$E$3,1,0)),"ERROR, PLEASE CHECK FIELD","OK")) -> FIELD IS BLANK | S8: =IF(ISBLANK(Sample!S8),"FIELD IS BLANK","OK") -> FIELD IS BLANK | T8: =IF(ISBLANK(Sample!T8),"FIELD IS BLANK","OK") -> FIELD IS BLANK | U8: =IF(ISBLANK(Sample!U8),"FIELD IS BLANK","OK") -> FIELD IS BLANK | V8: =IF(ISBLANK(Sample!V8),"FIELD IS BLANK","OK") -> FIELD IS BLANK | W8: =IF(ISBLANK(Sample!W8),"FIELD IS BLANK",IF(ISNA(VLOOKUP(Sample!W8,'Drop-down Data'!$F$2:$F$3,1,0)),"ERROR, PLEASE CHECK FIELD","OK")) -> FIELD IS BLANK | X8: =IF(ISBLANK(Sample!X8),"FIELD IS BLANK",IF(Sample!X8<0,"ERROR","OK")) -> FIELD IS BLANK | Y8: =IF(ISBLANK(Sample!Y8),"FIELD IS BLANK","OK") -> FIELD IS BLANK | Z8: =IF(ISBLANK(Sample!Z8),"FIELD IS BLANK",IF(ISNA(VLOOKUP(Sample!Z8,'Drop-down Data'!$G$2:$G$6,1,0)),"ERROR, PLEASE CHECK FIELD","OK")) -> FIELD IS BLANK | AA8: =IF(ISBLANK(Sample!AA8),"FIELD IS BLANK","OK") -> FIELD IS BLANK | AB8: =IF(ISBLANK(Sample!AB8),"FIELD IS BLANK",IF(Sample!AB8="Yes","OK",IF(Sample!AB8="No (please elaborate in the Other Comments column)","OK","ERROR, PLEASE CHECK FIELD"))) -> FIELD IS BLANK | AC8: =IF(ISBLANK(Sample!AC8),"FIELD IS BLANK","OK") -> FIELD IS BLANK

Sheet Outsourcing Register
A1: Unique Identifier | B1: Outsourced relevant service(s) | C1: Is this an ongoing outsourced relevant service? | D1: Description of outsourced relevant service(s) | E1: Name of service provider / material sub-contractor as set out in the outsourcing agreement | F1: Business registration number of service provider / material sub-contractor | G1: Country or Jurisdiction where the service provider / material sub-contractor is registered | H1: Category of provider (service provider or material sub-contractor) | I1: Type of outsourced relevant service provider | J1: Materiality | K1: When did the bank perform the materiality assessment? | L1: Service provider / material sub-contractor supports business operations that are time critical | M1: Is customer information disclosed to, or accessed, collected, copied, modified, used, stored or processed by the service provider / material sub-contractor? | N1: Please list all the countries or jurisdictions where the service will be carried out in <Col N - Jurisdictions> tab | O1: Please list all the cities where the service will be carried out in <Col O - Cities> tab | P1: Please list all the countries or jurisdictions where customer information will be disclosed to, or accessed, collected, copied, modified, used, stored or processed by the service provider / material sub-contractor in <Col P - Cust_Info> tab | Q1: Service provider substitutability | R1: Has an alternate service provider been identified? | S1: Service commencement date | T1: Last contract renewal date (where applicable) | U1: Service expiry or next contract renewal date (where applicable) | V1: When did the institution last undertake due diligence on the outsourcing / sub-contracting arrangement? | W1: Was there a change in materiality following the most recent materiality assessment performed for the outsourcing / sub-contracting arrangement? | X1: Institution's frequency of audit on the service provider / material sub-contractor (Year(s)) | Y1: When was an independent audit last conducted on the service provider / material sub-contractor? | Z1: Who conducted the audit? | AA1: When did the service provider / material sub-contractor last test its business continuity plan (BCP)? | AB1: Did the service provider / material sub-contractor meet all the objectives of the BCP test successfully? | AC1: Other comments (if any)

Sheet Col N - Jurisdictions
A1: Unique Identifier | B1: Outsourced relevant service(s) | C1: Is this an ongoing outsourced relevant service? | D1: Description of outsourced relevant service(s) | E1: Name of service provider / material sub-contractor as set out in the outsourcing agreement | F1: Business registration number of service provider / material sub-contractor | G1: Please list all the countries or jurisdictions where the service will be carried out.

Sheet Col O - Cities
A1: Unique Identifier | B1: Outsourced relevant service(s) | C1: Is this an ongoing outsourced relevant service? | D1: Description of outsourced relevant service(s) | E1: Name of service provider / material sub-contractor as set out in the outsourcing agreement | F1: Business registration number of service provider / material sub-contractor | G1: Please input all the cities where the service will be carried out.

Sheet Col P - Cust_Info
A1: Unique Identifier | B1: Outsourced relevant service(s) | C1: Is this an ongoing outsourced relevant service? | D1: Description of outsourced relevant service(s) | E1: Name of service provider / material sub-contractor as set out in the outsourcing agreement | F1: Business registration number of service provider / material sub-contractor | G1: Please input all the countries or jurisdictions where customer information will be disclosed to, or accessed, collected, copied, modified, used, stored or processed by the service provider/material sub-contractor.

Sheet Validation Check
A1: Unique Identifier | B1: Outsourced relevant service(s) | C1: Is this an ongoing outsourced relevant service? | D1: Description of outsourced relevant service(s) | E1: Name of service provider / material sub-contractor as set out in the outsourcing agreement | F1: Business registration number of service provider / material sub-contractor | G1: Country or Jurisdiction where the service provider / material sub-contractor is registered | H1: Category of provider (service provider or material sub-contractor) | I1: Type of outsourced relevant service provider | J1: Materiality | K1: When did the bank perform the materiality assessment? | L1: Service provider / material sub-contractor supports business operations that are time critical | M1: Is customer information disclosed to, or accessed, collected, copied, modified, used, stored or processed by the service provider / material sub-contractor? | N1: Please list all the countries or jurisdictions where the service will be carried out in <Col N - Jurisdictions> tab | O1: Please list all the cities where the service will be carried out in <Col O - Cities> tab | P1: Please list all the countries or jurisdictions where customer information will be disclosed to, or accessed, collected, copied, modified, used, stored or processed by the service provider / material sub-contractor in <Col P - Cust_Info> tab | Q1: Service provider substitutability *Service Provider only | R1: Has an alternate service provider been identified? *Service Provider only | S1: Service commencement date | T1: Last contract renewal date (where applicable) *Service Provider only | U1: Service expiry or next contract renewal date (where applicable) *Service Provider only | V1: When did the bank last undertake due diligence on the outsourcing / sub-contracting arrangement? | W1: Was there a change in materiality following the most recent materiality assessment performed for the outsourcing / sub-contracting arrangement? | X1: Bank's frequency of audit on the service provider / material sub-contractor (Year(s)) | Y1: When was an independent audit last conducted on the service provider / material sub-contractor? | Z1: Who conducted the audit? | AA1: When did the service provider / material sub-contractor last test its business continuity plan (BCP)? | AB1: Did the service provider / material sub-contractor meet all the objectives of the BCP test successfully? | AC1: Other comments (if any)
A2: =IF(ISBLANK('Outsourcing Register'!A2),"FIELD IS BLANK","OK") -> FIELD IS BLANK | B2: =IF(ISBLANK('Outsourcing Register'!B2),"FIELD IS BLANK",IF(ISNA(VLOOKUP('Outsourcing Register'!B2,'Drop-down Data'!$A$2:$A$23,1,0)),"ERROR, PLEASE CHECK FIELD","OK")) -> FIELD IS BLANK | C2: =IF(ISBLANK('Outsourcing Register'!C2),"FIELD IS BLANK",IF('Outsourcing Register'!C2="Yes","OK",IF('Outsourcing Register'!C2="No","OK","ERROR, PLEASE CHECK FIELD"))) -> FIELD IS BLANK | D2: =IF(ISBLANK('Outsourcing Register'!D2),"FIELD IS BLANK","OK") -> FIELD IS BLANK | E2: =IF(ISBLANK('Outsourcing Register'!E2),"FIELD IS BLANK","OK") -> FIELD IS BLANK | F2: =IF(ISBLANK('Outsourcing Register'!F2),"FIELD IS BLANK","OK") -> FIELD IS BLANK | G2: =IF(ISBLANK('Outsourcing Register'!G2),"FIELD IS BLANK",IF(ISNA(VLOOKUP('Outsourcing Register'!G2,'Drop-down Data'!$B$2:$B$251,1,0)),"ERROR, PLEASE CHECK FIELD","OK")) -> FIELD IS BLANK | H2: =IF(ISBLANK('Outsourcing Register'!H2),"FIELD IS BLANK",IF('Outsourcing Register'!H2="Service provider","OK",IF('Outsourcing Register'!H2="Material sub-contractor","OK","ERROR, PLEASE CHECK FIELD"))) -> FIELD IS BLANK | I2: =IF(ISBLANK('Outsourcing Register'!I2),"FIELD IS BLANK",IF('Outsourcing Register'!I2="Intragroup","OK",IF('Outsourcing Register'!I2="Non-intragroup","OK","ERROR, PLEASE CHECK FIELD"))) -> FIELD IS BLANK | J2: =IF(ISBLANK('Outsourcing Register'!J2),"FIELD IS BLANK",IF('Outsourcing Register'!J2="Material","OK",IF('Outsourcing Register'!J2="Non-material","OK","ERROR, PLEASE CHECK FIELD"))) -> FIELD IS BLANK | K2: =IF(ISBLANK('Outsourcing Register'!K2),"FIELD IS BLANK","OK") -> FIELD IS BLANK | L2: =IF(ISBLANK('Outsourcing Register'!L2),"FIELD IS BLANK",IF('Outsourcing Register'!L2="Yes","OK",IF('Outsourcing Register'!L2="No","OK","ERROR, PLEASE CHECK FIELD"))) -> FIELD IS BLANK | M2: =IF(ISBLANK('Outsourcing Register'!M2),"FIELD IS BLANK",IF('Outsourcing Register'!M2="Yes","OK",IF('Outsourcing Register'!M2="No","OK","ERROR, PLEASE CHECK FIELD"))) -> FIELD IS BLANK | N2: =IF(ISBLANK('Outsourcing Register'!N2),"OK","ERROR, PLEASE CHECK FIELD") -> OK | O2: =IF(ISBLANK('Outsourcing Register'!O2),"OK","ERROR, PLEASE CHECK FIELD") -> OK | P2: =IF(ISBLANK('Outsourcing Register'!P2),"OK","ERROR, PLEASE CHECK FIELD") -> OK | Q2: =IF(ISBLANK('Outsourcing Register'!Q2),"FIELD IS BLANK",IF(ISNA(VLOOKUP('Outsourcing Register'!Q2,'Drop-down Data'!$D$2:$D$5,1,0)),"ERROR, PLEASE CHECK FIELD","OK")) -> FIELD IS BLANK | R2: =IF(ISBLANK('Outsourcing Register'!R2),"FIELD IS BLANK",IF(ISNA(VLOOKUP('Outsourcing Register'!R2,'Drop-down Data'!$E$2:$E$3,1,0)),"ERROR, PLEASE CHECK FIELD","OK")) -> FIELD IS BLANK | S2: =IF(ISBLANK('Outsourcing Register'!S2),"FIELD IS BLANK","OK") -> FIELD IS BLANK | T2: =IF(ISBLANK('Outsourcing Register'!T2),"FIELD IS BLANK","OK") -> FIELD IS BLANK | U2: =IF(ISBLANK('Outsourcing Register'!U2),"FIELD IS BLANK","OK") -> FIELD IS BLANK | V2: =IF(ISBLANK('Outsourcing Register'!V2),"FIELD IS BLANK","OK") -> FIELD IS BLANK | W2: =IF(ISBLANK('Outsourcing Register'!W2),"FIELD IS BLANK",IF(ISNA(VLOOKUP('Outsourcing Register'!W2,'Drop-down Data'!$F$2:$F$3,1,0)),"ERROR, PLEASE CHECK FIELD","OK")) -> FIELD IS BLANK | X2: =IF(ISBLANK('Outsourcing Register'!X2),"FIELD IS BLANK",IF('Outsourcing Register'!X2<0,"ERROR","OK")) -> FIELD IS BLANK | Y2: =IF(ISBLANK('Outsourcing Register'!Y2),"FIELD IS BLANK","OK") -> FIELD IS BLANK | Z2: =IF(ISBLANK('Outsourcing Register'!Z2),"FIELD IS BLANK",IF(ISNA(VLOOKUP('Outsourcing Register'!Z2,'Drop-down Data'!$G$2:$G$6,1,0)),"ERROR, PLEASE CHECK FIELD","OK")) -> FIELD IS BLANK | AA2: =IF(ISBLANK('Outsourcing Register'!AA2),"FIELD IS BLANK","OK") -> FIELD IS BLANK | AB2: =IF(ISBLANK('Outsourcing Register'!AB2),"FIELD IS BLANK",IF('Outsourcing Register'!AB2="Yes","OK",IF('Outsourcing Register'!AB2="No (please elaborate in the Other Comments column)","OK","ERROR, PLEASE CHECK FIELD"))) -> FIELD IS BLANK | AC2: =IF(ISBLANK('Outsourcing Register'!AC2),"FIELD IS BLANK","OK") -> FIELD IS BLANK | AH2: =TRIM(MID(SUBSTITUTE('Outsourcing Register'!$N2,",",REPT(" ",99)),COLUMNS($A:F)*99-98,99))
A3: =IF(ISBLANK('Outsourcing Register'!A3),"FIELD IS BLANK","OK") -> FIELD IS BLANK | B3: =IF(ISBLANK('Outsourcing Register'!B3),"FIELD IS BLANK",IF(ISNA(VLOOKUP('Outsourcing Register'!B3,'Drop-down Data'!$A$2:$A$23,1,0)),"ERROR, PLEASE CHECK FIELD","OK")) -> FIELD IS BLANK | C3: =IF(ISBLANK('Outsourcing Register'!C3),"FIELD IS BLANK",IF('Outsourcing Register'!C3="Yes","OK",IF('Outsourcing Register'!C3="No","OK","ERROR, PLEASE CHECK FIELD"))) -> FIELD IS BLANK | D3: =IF(ISBLANK('Outsourcing Register'!D3),"FIELD IS BLANK","OK") -> FIELD IS BLANK | E3: =IF(ISBLANK('Outsourcing Register'!E3),"FIELD IS BLANK","OK") -> FIELD IS BLANK | F3: =IF(ISBLANK('Outsourcing Register'!F3),"FIELD IS BLANK","OK") -> FIELD IS BLANK | G3: =IF(ISBLANK('Outsourcing Register'!G3),"FIELD IS BLANK",IF(ISNA(VLOOKUP('Outsourcing Register'!G3,'Drop-down Data'!$B$2:$B$251,1,0)),"ERROR, PLEASE CHECK FIELD","OK")) -> FIELD IS BLANK | H3: =IF(ISBLANK('Outsourcing Register'!H3),"FIELD IS BLANK",IF('Outsourcing Register'!H3="Service provider","OK",IF('Outsourcing Register'!H3="Material sub-contractor","OK","ERROR, PLEASE CHECK FIELD"))) -> FIELD IS BLANK | I3: =IF(ISBLANK('Outsourcing Register'!I3),"FIELD IS BLANK",IF('Outsourcing Register'!I3="Intragroup","OK",IF('Outsourcing Register'!I3="Non-intragroup","OK","ERROR, PLEASE CHECK FIELD"))) -> FIELD IS BLANK | J3: =IF(ISBLANK('Outsourcing Register'!J3),"FIELD IS BLANK",IF('Outsourcing Register'!J3="Material","OK",IF('Outsourcing Register'!J3="Non-material","OK","ERROR, PLEASE CHECK FIELD"))) -> FIELD IS BLANK | K3: =IF(ISBLANK('Outsourcing Register'!K3),"FIELD IS BLANK","OK") -> FIELD IS BLANK | L3: =IF(ISBLANK('Outsourcing Register'!L3),"FIELD IS BLANK",IF('Outsourcing Register'!L3="Yes","OK",IF('Outsourcing Register'!L3="No","OK","ERROR, PLEASE CHECK FIELD"))) -> FIELD IS BLANK | M3: =IF(ISBLANK('Outsourcing Register'!M3),"FIELD IS BLANK",IF('Outsourcing Register'!M3="Yes","OK",IF('Outsourcing Register'!M3="No","OK","ERROR, PLEASE CHECK FIELD"))) -> FIELD IS BLANK | N3: =IF(ISBLANK('Outsourcing Register'!N3),"OK","ERROR, PLEASE CHECK FIELD") -> OK | O3: =IF(ISBLANK('Outsourcing Register'!O3),"OK","ERROR, PLEASE CHECK FIELD") -> OK | P3: =IF(ISBLANK('Outsourcing Register'!P3),"OK","ERROR, PLEASE CHECK FIELD") -> OK | Q3: =IF(ISBLANK('Outsourcing Register'!Q3),"FIELD IS BLANK",IF(ISNA(VLOOKUP('Outsourcing Register'!Q3,'Drop-down Data'!$D$2:$D$5,1,0)),"ERROR, PLEASE CHECK FIELD","OK")) -> FIELD IS BLANK | R3: =IF(ISBLANK('Outsourcing Register'!R3),"FIELD IS BLANK",IF(ISNA(VLOOKUP('Outsourcing Register'!R3,'Drop-down Data'!$E$2:$E$3,1,0)),"ERROR, PLEASE CHECK FIELD","OK")) -> FIELD IS BLANK | S3: =IF(ISBLANK('Outsourcing Register'!S3),"FIELD IS BLANK","OK") -> FIELD IS BLANK | T3: =IF(ISBLANK('Outsourcing Register'!T3),"FIELD IS BLANK","OK") -> FIELD IS BLANK | U3: =IF(ISBLANK('Outsourcing Register'!U3),"FIELD IS BLANK","OK") -> FIELD IS BLANK | V3: =IF(ISBLANK('Outsourcing Register'!V3),"FIELD IS BLANK","OK") -> FIELD IS BLANK | W3: =IF(ISBLANK('Outsourcing Register'!W3),"FIELD IS BLANK",IF(ISNA(VLOOKUP('Outsourcing Register'!W3,'Drop-down Data'!$F$2:$F$3,1,0)),"ERROR, PLEASE CHECK FIELD","OK")) -> FIELD IS BLANK | X3: =IF(ISBLANK('Outsourcing Register'!X3),"FIELD IS BLANK",IF('Outsourcing Register'!X3<0,"ERROR","OK")) -> FIELD IS BLANK | Y3: =IF(ISBLANK('Outsourcing Register'!Y3),"FIELD IS BLANK","OK") -> FIELD IS BLANK | Z3: =IF(ISBLANK('Outsourcing Register'!Z3),"FIELD IS BLANK",IF(ISNA(VLOOKUP('Outsourcing Register'!Z3,'Drop-down Data'!$G$2:$G$6,1,0)),"ERROR, PLEASE CHECK FIELD","OK")) -> FIELD IS BLANK | AA3: =IF(ISBLANK('Outsourcing Register'!AA3),"FIELD IS BLANK","OK") -> FIELD IS BLANK | AB3: =IF(ISBLANK('Outsourcing Register'!AB3),"FIELD IS BLANK",IF('Outsourcing Register'!AB3="Yes","OK",IF('Outsourcing Register'!AB3="No (please elaborate in the Other Comments column)","OK","ERROR, PLEASE CHECK FIELD"))) -> FIELD IS BLANK | AC3: =IF(ISBLANK('Outsourcing Register'!AC3),"FIELD IS BLANK","OK") -> FIELD IS BLANK | AH3: =TRIM(MID(SUBSTITUTE('Outsourcing Register'!$N3,",",REPT(" ",99)),COLUMNS($A:F)*99-98,99))
A4: =IF(ISBLANK('Outsourcing Register'!A4),"FIELD IS BLANK","OK") -> FIELD IS BLANK | B4: =IF(ISBLANK('Outsourcing Register'!B4),"FIELD IS BLANK",IF(ISNA(VLOOKUP('Outsourcing Register'!B4,'Drop-down Data'!$A$2:$A$23,1,0)),"ERROR, PLEASE CHECK FIELD","OK")) -> FIELD IS BLANK | C4: =IF(ISBLANK('Outsourcing Register'!C4),"FIELD IS BLANK",IF('Outsourcing Register'!C4="Yes","OK",IF('Outsourcing Register'!C4="No","OK","ERROR, PLEASE CHECK FIELD"))) -> FIELD IS BLANK | D4: =IF(ISBLANK('Outsourcing Register'!D4),"FIELD IS BLANK","OK") -> FIELD IS BLANK | E4: =IF(ISBLANK('Outsourcing Register'!E4),"FIELD IS BLANK","OK") -> FIELD IS BLANK | F4: =IF(ISBLANK('Outsourcing Register'!F4),"FIELD IS BLANK","OK") -> FIELD IS BLANK | G4: =IF(ISBLANK('Outsourcing Register'!G4),"FIELD IS BLANK",IF(ISNA(VLOOKUP('Outsourcing Register'!G4,'Drop-down Data'!$B$2:$B$251,1,0)),"ERROR, PLEASE CHECK FIELD","OK")) -> FIELD IS BLANK | H4: =IF(ISBLANK('Outsourcing Register'!H4),"FIELD IS BLANK",IF('Outsourcing Register'!H4="Service provider","OK",IF('Outsourcing Register'!H4="Material sub-contractor","OK","ERROR, PLEASE CHECK FIELD"))) -> FIELD IS BLANK | I4: =IF(ISBLANK('Outsourcing Register'!I4),"FIELD IS BLANK",IF('Outsourcing Register'!I4="Intragroup","OK",IF('Outsourcing Register'!I4="Non-intragroup","OK","ERROR, PLEASE CHECK FIELD"))) -> FIELD IS BLANK | J4: =IF(ISBLANK('Outsourcing Register'!J4),"FIELD IS BLANK",IF('Outsourcing Register'!J4="Material","OK",IF('Outsourcing Register'!J4="Non-material","OK","ERROR, PLEASE CHECK FIELD"))) -> FIELD IS BLANK | K4: =IF(ISBLANK('Outsourcing Register'!K4),"FIELD IS BLANK","OK") -> FIELD IS BLANK | L4: =IF(ISBLANK('Outsourcing Register'!L4),"FIELD IS BLANK",IF('Outsourcing Register'!L4="Yes","OK",IF('Outsourcing Register'!L4="No","OK","ERROR, PLEASE CHECK FIELD"))) -> FIELD IS BLANK | M4: =IF(ISBLANK('Outsourcing Register'!M4),"FIELD IS BLANK",IF('Outsourcing Register'!M4="Yes","OK",IF('Outsourcing Register'!M4="No","OK","ERROR, PLEASE CHECK FIELD"))) -> FIELD IS BLANK | N4: =IF(ISBLANK('Outsourcing Register'!N4),"OK","ERROR, PLEASE CHECK FIELD") -> OK | O4: =IF(ISBLANK('Outsourcing Register'!O4),"OK","ERROR, PLEASE CHECK FIELD") -> OK | P4: =IF(ISBLANK('Outsourcing Register'!P4),"OK","ERROR, PLEASE CHECK FIELD") -> OK | Q4: =IF(ISBLANK('Outsourcing Register'!Q4),"FIELD IS BLANK",IF(ISNA(VLOOKUP('Outsourcing Register'!Q4,'Drop-down Data'!$D$2:$D$5,1,0)),"ERROR, PLEASE CHECK FIELD","OK")) -> FIELD IS BLANK | R4: =IF(ISBLANK('Outsourcing Register'!R4),"FIELD IS BLANK",IF(ISNA(VLOOKUP('Outsourcing Register'!R4,'Drop-down Data'!$E$2:$E$3,1,0)),"ERROR, PLEASE CHECK FIELD","OK")) -> FIELD IS BLANK | S4: =IF(ISBLANK('Outsourcing Register'!S4),"FIELD IS BLANK","OK") -> FIELD IS BLANK | T4: =IF(ISBLANK('Outsourcing Register'!T4),"FIELD IS BLANK","OK") -> FIELD IS BLANK | U4: =IF(ISBLANK('Outsourcing Register'!U4),"FIELD IS BLANK","OK") -> FIELD IS BLANK | V4: =IF(ISBLANK('Outsourcing Register'!V4),"FIELD IS BLANK","OK") -> FIELD IS BLANK | W4: =IF(ISBLANK('Outsourcing Register'!W4),"FIELD IS BLANK",IF(ISNA(VLOOKUP('Outsourcing Register'!W4,'Drop-down Data'!$F$2:$F$3,1,0)),"ERROR, PLEASE CHECK FIELD","OK")) -> FIELD IS BLANK | X4: =IF(ISBLANK('Outsourcing Register'!X4),"FIELD IS BLANK",IF('Outsourcing Register'!X4<0,"ERROR","OK")) -> FIELD IS BLANK | Y4: =IF(ISBLANK('Outsourcing Register'!Y4),"FIELD IS BLANK","OK") -> FIELD IS BLANK | Z4: =IF(ISBLANK('Outsourcing Register'!Z4),"FIELD IS BLANK",IF(ISNA(VLOOKUP('Outsourcing Register'!Z4,'Drop-down Data'!$G$2:$G$6,1,0)),"ERROR, PLEASE CHECK FIELD","OK")) -> FIELD IS BLANK | AA4: =IF(ISBLANK('Outsourcing Register'!AA4),"FIELD IS BLANK","OK") -> FIELD IS BLANK | AB4: =IF(ISBLANK('Outsourcing Register'!AB4),"FIELD IS BLANK",IF('Outsourcing Register'!AB4="Yes","OK",IF('Outsourcing Register'!AB4="No (please elaborate in the Other Comments column)","OK","ERROR, PLEASE CHECK FIELD"))) -> FIELD IS BLANK | AC4: =IF(ISBLANK('Outsourcing Register'!AC4),"FIELD IS BLANK","OK") -> FIELD IS BLANK | AH4: =TRIM(MID(SUBSTITUTE('Outsourcing Register'!$N4,",",REPT(" ",99)),COLUMNS($A:F)*99-98,99))
