Workbook
Name _MON_1456571954: 'Outsourcing Register'!#REF!
Name _MON_1456571954: 'Validation Check'!#REF!
Name category_provider: #REF!
Name Material_Subcon_1: #REF!
Name Outsource_Services: 'Validation Check'!#REF!
Name Outsource_Services: 'Outsourcing Register'!#REF!
Name Service_Provider_1: #REF!

Sheet Cover Page
B3: OUTSOURCING REGISTER (Version 1.1)
B5: Name of Bank
B6: Updated as at | C6: YYYY-MM-DD
B7: FI Code
B8: Business Code (if applicable)
B9: Name of Respondent
B10: Respondent Designation / Title
B11: Respondent Contact Number
B12: Respondent Email Address
B13: Name of Reviewer
B14: Reviewer Designation / Title
B15: Reviewer Contact Number
B16: Reviewer Email Address
B18: Instructions 1. Every bank in Singapore must submit a separate register by FI Code unless the bank owns multiple banking legal entities, in which case, it should submit a separate register by Business Code 2. It is mandatory to fill up all applicable cover page details 3. The "Updated as at" field must be completed using the prescribed date format e.g. 2024-12-31 4. Every bank must input the correct FI Code and Business Code used for regulatory reporting to MAS and must not input other identifiers such as UEN

Sheet Instructions
A1: General instructions for this template
A2: a. | B2: The bank is to provide information at the entity level.
A3: b. | B3: Outsourced relevant services reported should include all service providers and material sub-contractors. Please refer to Row E for the definition of material sub-contractor.
A4: c. | B4: Ongoing outsourced relevant services reported should include all live arrangements as at the reporting date. Arrangements that were ceased since the last reporting date should be excluded.
A5: d. | B5: Outsourced relevant services obtained or received from a service provider since the last reporting date which are non-ongoing, but which involve the disclosure of customer information, should also be reported in the register. For such services, the bank should only fill in Columns A, B, C, D, E, F, G, H, I, M, P, S, U, V and AC. All other columns should be left blank.
A6: e. | B6: All dates should be filled in using the YYYY-MM-DD format.
A7: f. | B7: After filling in the outsourcing register, please check the "Validation Check" tab. Where fields in the "Validation Check" tab return errors, please review the corresponding field(s) within the <Outsourcing Register> tab and rectify the error(s) accordingly. For example, if cell B2 of the "Validation Check" tab returns an error, it means that the inputs in cell B2 of the outsourcing register need to be amended. Please refer to the "Sample (Validation Check)" tab for an example.
A11: g. | B11: The outsourcing register is limited to a maximum of 2500 rows. Should more rows be required, please inform your respective review officer.
A12: h. | B12: Please read the below special instructions carefully for further information on how to fill in the columns of the outsourcing register accurately.
A14: Special instructions on filling in outsourcing register
A15: Column | B15: Description | C15: Instruction
A16: A | B16: Unique Identifier | C16: Please input a unique identifier that would help MAS and the bank identify the same arrangement (e.g. identifier available in the bank's outsourcing system). A separate row should be added for each unique service, including each service under a master agreement.
A17: B | B17: Outsourced relevant service(s) | C17: Please choose the category according to the drop-down list that best describes the type of outsourced relevant service. For more details on the examples of services that fall within each category, please refer to Annexes A and C of the MAS Notice on Management of Outsourced Relevant Services.
A18: C | B18: Is this an ongoing outsourced relevant service? | C18: Please indicate if the arrangement is an ongoing outsourced relevant service i.e. Yes or No. Banks should refer to the MAS Notice on Management of Outsourced Relevant Services for the definition of an ongoing outsourced relevant service.
A19: D | B19: Description of outsourced relevant service(s) | C19: Please provide more information to describe what the outsourced relevant service relates to.
A20: E | B20: Name of service provider / material sub-contractor as set out in the outsourcing agreement | C20: Please input the exact company name as per its registered business name. For each service provider, please provide information on each material sub-contractor, if any, under a new row. For the avoidance of doubt, a "material sub-contractor", means a sub-contractor where the bank in Singapore has reasonable grounds to believe that: (a) any unauthorised disclosure of, access to, collection of, copying of, modification of, use of, disposal of or acts with similar risks done in relation to, any information, held by the sub-contractor; (b) any unauthorised access to the books, systems or premises of the sub-contractor; or (c) a failure by the sub-contractor to provide the relevant service in the manner it was engaged to provide will materially affect adversely or is likely to materially affect adversely the provision of the Material Ongoing Outsourced Relevant Service to the bank. Please refer to the MAS Notice on Management of Outsourced Relevant Services for the definition of sub-contractor, and guidance on whether an arrangement would be considered a material ongoing outsourced relevant service.
A21: F | B21: Business registration number of service provider / material sub-contractor | C21: Please input the company's (inclusive of bank's intragroup service providers) business registration number per the country which it is registered in.
A22: G | B22: Country or Jurisdiction where the service provider / material sub-contractor is registered | C22: Please input the country or jurisdiction where the company is registered in, according to the drop-down list. The country or jurisdiction should correspond to the business registration number provided in Column F.
A23: H | B23: Category of provider (service provider or material sub-contractor) | C23: Please indicate if the outsourced relevant service is provided by a service provider, or material sub-contractor.
A24: I | B24: Type of outsourced relevant service provider | C24: Please indicate if the outsourced relevant service is provided by an intragroup service provider, or a non-intragroup service provider.
A25: J | B25: Materiality | C25: Please indicate if the outsourced relevant service is material, or non-material. In assessing materiality, banks should refer to the MAS Notice on Management of Outsourced Relevant Services for the definition of a Material Outsourced Relevant Service.
A26: K | B26: When did the bank perform the materiality assessment? | C26: Please input the date that the most recent materiality assessment was performed.
... A44: AC | B44: Other comments (if any) | C44: Please provide any supplementary information which would help MAS better understand the service being provided to the bank.

Sheet Sample
A1: Sheet name: | B1: Outsourcing Register
A2: Unique Identifier | B2: Outsourced relevant service(s) | C2: Is this an ongoing outsourced relevant service? | D2: Description of outsourced relevant service(s) | E2: Name of service provider / material sub-contractor as set out in the outsourcing agreement | F2: Business registration number of service provider / material sub-contractor | G2: Country or Jurisdiction where the service provider / material sub-contractor is registered | H2: Category of provider (service provider or material sub-contractor) | I2: Type of outsourced relevant service provider | J2: Materiality | K2: When did the bank perform the materiality assessment? | L2: Service provider / material sub-contractor supports business operations that are time critical | M2: Is customer information disclosed to, or accessed, collected, copied, modified, used, stored or processed by the service provider / material sub-contractor? | N2: Please list all the countries or jurisdictions where the service will be carried out in <Col N - Jurisdictions> tab | O2: Please list all the cities where the service will be carried out in <Col O - Cities> tab | P2: Please list all the countries or jurisdictions where customer information will be disclosed to, or accessed, collected, copied, modified, used, stored or processed by the service provider / material sub-contractor in <Col P - Cust_Info> tab | Q2: Service provider substitutability | R2: Has an alternate service provider been identified? | S2: Service commencement date | T2: Last contract renewal date (where applicable) | U2: Service expiry or next contract renewal date (where applicable) | V2: When did the institution last undertake due diligence on the outsourcing / sub-contracting arrangement? | W2: Was there a change in materiality following the most recent materiality assessment performed for the outsourcing / sub-contracting arrangement? | X2: Institution's frequency of audit on the service provider / material sub-contractor (Year(s)) | Y2: When was an independent audit last conducted on the service provider / material sub-contractor? | Z2: Who conducted the audit? | AA2: When did the service provider / material sub-contractor last test its business continuity plan (BCP)? | AB2: Did the service provider / material sub-contractor meet all the objectives of the BCP test successfully? | AC2: Other comments (if any)
A3: Example 1 | B3: Data centre operations or data centre facilities management services | C3: Yes | D3: Data centre facilities management services | E3: XYZ Pte Ltd. | F3: 123456789A | G3: SG | H3: Service provider | I3: Non-intragroup | J3: Material | K3: 41050 | L3: No | M3: Yes | Q3: Can be substituted with moderate impact to business operations | R3: Yes, identified | S3: 41110 | T3: 44397 | U3: 45493 | V3: 44459 | W3: Yes (please elaborate in the Other Comments column) | X3: 1 | Y3: 44844 | Z3: Internal auditor of bank | AA3: 44579 | AB3: Yes | AC3: Per Column W: Change in materiality following the most recent materiality assessment performed on the arrangement was due to …..
A4: Example 1a | B4: Data centre operations or data centre facilities management services | C4: Yes | D4: Control and regulation of data centre environmental conditions (e.g. temperature and humidity) | E4: ABC Pte Ltd. | F4: 987654321A | G4: SG | H4: Material sub-contractor | I4: Non-intragroup | J4: Material | K4: 41050 | L4: No | M4: No | S4: 41110 | T4: NA | U4: NA | V4: 44459 | W4: Yes (please elaborate in the Other Comments column) | X4: 1 | Y4: 44844 | Z4: External auditor of material sub-contractor | AA4: 44514 | AB4: Yes | AC4: Per Column W: Change in materiality following the most recent materiality assessment performed on the arrangement was due to …..
A5: Example 2 | B5: Middle and back office operations | C5: Yes | D5: Outsourcing of remittance and treasury operations | E5: DEF Inc. | F5: 12-3456789 | G5: US | H5: Service provider | I5: Intragroup | J5: Material | K5: 44289 | L5: Yes | M5: Yes | Q5: Can be substituted with major impact to business operations | R5: No, not identified (please elaborate in the Other Comments column) | S5: 44397 | T5: NA | U5: 45127 | V5: 44318 | W5: No | X5: 2 | Y5: 44318 | Z5: Internal auditor of bank | AA5: 43894 | AB5: Yes | AC5: Per Column R: Alternate Service provider was not identified because…
A6: Example 2b | B6: Middle and back office operations | C6: Yes | D6: Outsourcing of remittance and treasury operations | E6: GHIJK Inc. | F6: 98-7654321 | G6: US | H6: Material sub-contractor | I6: Non-intragroup | J6: Material | K6: 44289 | L6: Yes | M6: Yes | S6: 44397 | T6: NA | U6: NA | V6: 44318 | W6: No | X6: 2 | Y6: 44318 | Z6: Internal auditor of bank | AA6: 43894 | AB6: Yes
A7: Example 3 | B7: Marketing or research | C7: No | D7: One-time marketing service engagement for event | E7: LMNO Pte Ltd. | F7: 10-2030492 | G7: SG | H7: Service provider | I7: Non-intragroup | M7: Yes | S7: 44941 | U7: 44977 | V7: 44876 | Y7: 44318
A8: Example 4 | B8: This is an example of an erroneous input. Refer to cell B8 of "Sample Validation Check" tab.
A10: Sheet name: | B10: Col N - Jurisdictions
A11: Unique Identifier | B11: Outsourced relevant service(s) | C11: Is this an ongoing outsourced relevant service? | D11: Description of outsourced relevant service(s) | E11: Name of service provider / material sub-contractor as set out in the outsourcing agreement | F11: Business registration number of service provider / material sub-contractor | G11: Please list all the countries or jurisdictions where the service will be carried out.
A12: Example 1 | B12: Data centre operations or data centre facilities management services | C12: Yes | D12: Data centre facilities management services | E12: XYZ Pte Ltd. | F12: 123456789A | G12: SG
A13: Example 1 | B13: Data centre operations or data centre facilities management services | C13: Yes | D13: Data centre facilities management services | E13: XYZ Pte Ltd. | F13: 123456789A | G13: MY
A14: Example 1a | B14: Data centre operations or data centre facilities management services | C14: Yes | D14: Control and regulation of data centre environmental conditions (e.g. temperature and humidity) | E14: ABC Pte Ltd. | F14: 987654321A | G14: SG
A15: Example 1a | B15: Data centre operations or data centre facilities management services | C15: Yes | D15: Control and regulation of data centre environmental conditions (e.g. temperature and humidity) | E15: ABC Pte Ltd. | F15: 987654321A | G15: MY
A17: Sheet name: | B17: Col O - Cities
A18: Unique Identifier | B18: Outsourced relevant service(s) | C18: Is this an ongoing outsourced relevant service? | D18: Description of outsourced relevant service(s) | E18: Name of service provider / material sub-contractor as set out in the outsourcing agreement | F18: Business registration number of service provider / material sub-contractor | G18: Please input all the cities where the service will be carried out.
A19: Example 1 | B19: Data centre operations or data centre facilities management services | C19: Yes | D19: Data centre facilities management services | E19: XYZ Pte Ltd. | F19: 123456789A | G19: Singapore
A20: Example 1 | B20: Data centre operations or data centre facilities management services | C20: Yes | D20: Data centre facilities management services | E20: XYZ Pte Ltd. | F20: 123456789A | G20: Kuala Lumpur
A21: Example 1a | B21: Data centre operations or data centre facilities management services | C21: Yes | D21: Control and regulation of data centre environmental conditions (e.g. temperature and humidity) | E21: ABC Pte Ltd. | F21: 987654321A | G21: Singapore
A22: Example 1a | B22: Data centre operations or data centre facilities management services | C22: Yes | D22: Control and regulation of data centre environmental conditions (e.g. temperature and humidity) | E22: ABC Pte Ltd. | F22: 987654321A | G22: Kuala Lumpur
A24: Sheet name: | B24: Col P - Cust_Info
A25: Unique Identifier | B25: Outsourced relevant service(s) | C25: Is this an ongoing outsourced relevant service? | D25: Description of outsourced relevant service(s) | E25: Name of service provider / material sub-contractor as set out in the outsourcing agreement | F25: Business registration number of service provider / material sub-contractor | G25: Please input all the countries or jurisdictions where customer information will be disclosed to, or accessed, collected, copied, modified, used, stored or processed by the service provider/material sub-contractor.
A26: Example 1 | B26: Data centre operations or data centre facilities management services | C26: Yes | D26: Data centre facilities management services | E26: XYZ Pte Ltd. | F26: 123456789A | G26: SG
A27: Example 1 | B27: Data centre operations or data centre facilities management services | C27: Yes | D27: Data centre facilities management services | E27: XYZ Pte Ltd. | F27: 123456789A | G27: MY
A28: Example 1a | B28: Data centre operations or data centre facilities management services | C28: Yes | D28: Control and regulation of data centre environmental conditions (e.g. temperature and humidity) | E28: ABC Pte Ltd. | F28: 987654321A | G28: SG
A29: Example 1a | B29: Data centre operations or data centre facilities management services | C29: Yes | D29: Control and regulation of data centre environmental conditions (e.g. temperature and humidity) | E29: ABC Pte Ltd. | F29: 987654321A | G29: MY

Sheet Sample Validation Check
A2: Unique Identifier | B2: Outsourced relevant service(s) | C2: Is this an ongoing outsourced relevant service? | D2: Description of outsourced relevant service(s) | E2: Name of service provider / material sub-contractor as set out in the outsourcing agreement | F2: Business registration number of service provider / material sub-contractor | G2: Country or Jurisdiction where the service provider / material sub-contractor is registered | H2: Category of provider (service provider or material sub-contractor) | I2: Type of outsourced relevant service provider | J2: Materiality | K2: When did the bank perform the materiality assessment? | L2: Service provider / material sub-contractor supports business operations that are time critical | M2: Is customer information disclosed to, or accessed, collected, copied, modified, used, stored or processed by the service provider / material sub-contractor? | N2: Please list all the countries or jurisdictions where the service will be carried out in <Col N - Jurisdictions> tab | O2: Please list all the cities where the service will be carried out in <Col O - Cities> tab | P2: Please list all the countries or jurisdictions where customer information will be disclosed, accessed, collected, copied, modified, used, stored or processed by the service provider / material sub-contractor in <Col P - Cust_Info> tab | Q2: Service provider substitutability | R2: Has an alternate service provider been identified? | S2: Service commencement date | T2: Last contract renewal date (where applicable) | U2: Service expiry or next contract renewal date (where applicable) | V2: When did the institution last undertake due diligence on the outsourcing / sub-contracting arrangement? | W2: Was there a change in materiality following the most recent materiality assessment performed for the outsourcing / sub-contracting arrangement? | X2: Institution's frequency of audit on the service provider / material sub-contractor (Year(s)) | Y2: When was an independent audit last conducted on the service provider / material sub-contractor? | Z2: Who conducted the audit? | AA2: When did the service provider / material sub-contractor last test its business continuity plan (BCP)? | AB2: Did the service provider / material sub-contractor meet all the objectives of the BCP test successfully? | AC2: Other comments (if any)
A3: =IF(ISBLANK(Sample!A3),"FIELD IS BLANK","OK") -> OK | B3: =IF(ISBLANK(Sample!B3),"FIELD IS BLANK",IF(ISNA(VLOOKUP(Sample!B3,'Drop-down Data'!$A$2:$A$23,1,0)),"ERROR, PLEASE CHECK FIELD","OK")) -> OK | C3: =IF(ISBLANK(Sample!C3),"FIELD IS BLANK",IF(Sample!C3="Yes","OK",IF(Sample!C3="No","OK","ERROR, PLEASE CHECK FIELD"))) -> OK | D3: =IF(ISBLANK(Sample!D3),"FIELD IS BLANK","OK") -> OK | E3: =IF(ISBLANK(Sample!E3),"FIELD IS BLANK","OK") -> OK | F3: =IF(ISBLANK(Sample!F3),"FIELD IS BLANK","OK") -> OK | G3: =IF(ISBLANK(Sample!G3),"FIELD IS BLANK",IF(ISNA(VLOOKUP(Sample!G3,'Drop-down Data'!$B$2:$B$251,1,0)),"ERROR, PLEASE CHECK FIELD","OK")) -> OK | H3: =IF(ISBLANK(Sample!H3),"FIELD IS BLANK",IF(Sample!H3="Service provider","OK",IF(Sample!H3="Material sub-contractor","OK","ERROR, PLEASE CHECK FIELD"))) -> OK | I3: =IF(ISBLANK(Sample!I3),"FIELD IS BLANK",IF(Sample!I3="Intragroup","OK",IF(Sample!I3="Non-intragroup","OK","ERROR, PLEASE CHECK FIELD"))) -> OK | J3: =IF(ISBLANK(Sample!J3),"FIELD IS BLANK",IF(Sample!J3="Material","OK",IF(Sample!J3="Non-material","OK","ERROR, PLEASE CHECK FIELD"))) -> OK | K3: =IF(ISBLANK(Sample!K3),"FIELD IS BLANK","OK") -> OK | L3: =IF(ISBLANK(Sample!L3),"FIELD IS BLANK",IF(Sample!L3="Yes","OK",IF(Sample!L3="No","OK","ERROR, PLEASE CHECK FIELD"))) -> OK | M3: =IF(ISBLANK(Sample!M3),"FIELD IS BLANK",IF(Sample!M3="Yes","OK",IF(Sample!M3="No","OK","ERROR, PLEASE CHECK FIELD"))) -> OK | N3: =IF(ISBLANK(Sample!N3),"OK","ERROR, PLEASE CHECK FIELD") -> OK | O3: =IF(ISBLANK(Sample!O3),"OK","ERROR, PLEASE CHECK FIELD") -> OK | P3: =IF(ISBLANK(Sample!P3),"OK","ERROR, PLEASE CHECK FIELD") -> OK | Q3: =IF(ISBLANK(Sample!Q3),"FIELD IS BLANK",IF(ISNA(VLOOKUP(Sample!Q3,'Drop-down Data'!$D$2:$D$5,1,0)),"ERROR, PLEASE CHECK FIELD","OK")) -> OK | R3: =IF(ISBLANK(Sample!R3),"FIELD IS BLANK",IF(ISNA(VLOOKUP(Sample!R3,'Drop-down Data'!$E$2:$E$3,1,0)),"ERROR, PLEASE CHECK FIELD","OK")) -> OK | S3: =IF(ISBLANK(Sample!S3),"FIELD IS BLANK","OK") -> OK | T3: =IF(ISBLANK(Sample!T3),"FIELD IS BLANK","OK") -> OK | U3: =IF(ISBLANK(Sample!U3),"FIELD IS BLANK","OK") -> OK | V3: =IF(ISBLANK(Sample!V3),"FIELD IS BLANK","OK") -> OK | W3: =IF(ISBLANK(Sample!W3),"FIELD IS BLANK",IF(ISNA(VLOOKUP(Sample!W3,'Drop-down Data'!$F$2:$F$3,1,0)),"ERROR, PLEASE CHECK FIELD","OK")) -> OK | X3: =IF(ISBLANK(Sample!X3),"FIELD IS BLANK",IF(Sample!X3<0,"ERROR","OK")) -> OK | Y3: =IF(ISBLANK(Sample!Y3),"FIELD IS BLANK","OK") -> OK | Z3: =IF(ISBLANK(Sample!Z3),"FIELD IS BLANK",IF(ISNA(VLOOKUP(Sample!Z3,'Drop-down Data'!$G$2:$G$6,1,0)),"ERROR, PLEASE CHECK FIELD","OK")) -> OK | AA3: =IF(ISBLANK(Sample!AA3),"FIELD IS BLANK","OK") -> OK | AB3: =IF(ISBLANK(Sample!AB3),"FIELD IS BLANK",IF(Sample!AB3="Yes","OK",IF(Sample!AB3="No (please elaborate in the Other Comments column)","OK","ERROR, PLEASE CHECK FIELD"))) -> OK | AC3: =IF(ISBLANK(Sample!AC3),"FIELD IS BLANK","OK") -> OK | AH3: =TRIM(MID(SUBSTITUTE('Outsourcing Register'!$N2,",",REPT(" ",99)),COLUMNS($A:F)*99-98,99))
A4: =IF(ISBLANK(Sample!A4),"FIELD IS BLANK","OK") -> OK | B4: =IF(ISBLANK(Sample!B4),"FIELD IS BLANK",IF(ISNA(VLOOKUP(Sample!B4,'Drop-down Data'!$A$2:$A$23,1,0)),"ERROR, PLEASE CHECK FIELD","OK")) -> OK | C4: =IF(ISBLANK(Sample!C4),"FIELD IS BLANK",IF(Sample!C4="Yes","OK",IF(Sample!C4="No","OK","ERROR, PLEASE CHECK FIELD"))) -> OK | D4: =IF(ISBLANK(Sample!D4),"FIELD IS BLANK","OK") -> OK | E4: =IF(ISBLANK(Sample!E4),"FIELD IS BLANK","OK") -> OK | F4: =IF(ISBLANK(Sample!F4),"FIELD IS BLANK","OK") -> OK | G4: =IF(ISBLANK(Sample!G4),"FIELD IS BLANK",IF(ISNA(VLOOKUP(Sample!G4,'Drop-down Data'!$B$2:$B$251,1,0)),"ERROR, PLEASE CHECK FIELD","OK")) -> OK | H4: =IF(ISBLANK(Sample!H4),"FIELD IS BLANK",IF(Sample!H4="Service provider","OK",IF(Sample!H4="Material sub-contractor","OK","ERROR, PLEASE CHECK FIELD"))) -> OK | I4: =IF(ISBLANK(Sample!I4),"FIELD IS BLANK",IF(Sample!I4="Intragroup","OK",IF(Sample!I4="Non-intragroup","OK","ERROR, PLEASE CHECK FIELD"))) -> OK | J4: =IF(ISBLANK(Sample!J4),"FIELD IS BLANK",IF(Sample!J4="Material","OK",IF(Sample!J4="Non-material","OK","ERROR, PLEASE CHECK FIELD"))) -> OK | K4: =IF(ISBLANK(Sample!K4),"FIELD IS BLANK","OK") -> OK | L4: =IF(ISBLANK(Sample!L4),"FIELD IS BLANK",IF(Sample!L4="Yes","OK",IF(Sample!L4="No","OK","ERROR, PLEASE CHECK FIELD"))) -> OK | M4: =IF(ISBLANK(Sample!M4),"FIELD IS BLANK",IF(Sample!M4="Yes","OK",IF(Sample!M4="No","OK","ERROR, PLEASE CHECK FIELD"))) -> OK | N4: =IF(ISBLANK(Sample!N4),"OK","ERROR, PLEASE CHECK FIELD") -> OK | O4: =IF(ISBLANK(Sample!O4),"OK","ERROR, PLEASE CHECK FIELD") -> OK | P4: =IF(ISBLANK(Sample!P4),"OK","ERROR, PLEASE CHECK FIELD") -> OK | Q4: =IF(ISBLANK(Sample!Q4),"FIELD IS BLANK",IF(ISNA(VLOOKUP(Sample!Q4,'Drop-down Data'!$D$2:$D$5,1,0)),"ERROR, PLEASE CHECK FIELD","OK")) -> FIELD IS BLANK | R4: =IF(ISBLANK(Sample!R4),"FIELD IS BLANK",IF(ISNA(VLOOKUP(Sample!R4,'Drop-down Data'!$E$2:$E$3,1,0)),"ERROR, PLEASE CHECK FIELD","OK")) -> FIELD IS BLANK | S4: =IF(ISBLANK(Sample!S4),"FIELD IS BLANK","OK") -> OK | T4: =IF(ISBLANK(Sample!T4),"FIELD IS BLANK","OK") -> OK | U4: =IF(ISBLANK(Sample!U4),"FIELD IS BLANK","OK") -> OK | V4: =IF(ISBLANK(Sample!V4),"FIELD IS BLANK","OK") -> OK | W4: =IF(ISBLANK(Sample!W4),"FIELD IS BLANK",IF(ISNA(VLOOKUP(Sample!W4,'Drop-down Data'!$F$2:$F$3,1,0)),"ERROR, PLEASE CHECK FIELD","OK")) -> OK | X4: =IF(ISBLANK(Sample!X4),"FIELD IS BLANK",IF(Sample!X4<0,"ERROR","OK")) -> OK | Y4: =IF(ISBLANK(Sample!Y4),"FIELD IS BLANK","OK") -> OK | Z4: =IF(ISBLANK(Sample!Z4),"FIELD IS BLANK",IF(ISNA(VLOOKUP(Sample!Z4,'Drop-down Data'!$G$2:$G$6,1,0)),"ERROR, PLEASE CHECK FIELD","OK")) -> OK | AA4: =IF(ISBLANK(Sample!AA4),"FIELD IS BLANK","OK") -> OK | AB4: =IF(ISBLANK(Sample!AB4),"FIELD IS BLANK",IF(Sample!AB4="Yes","OK",IF(Sample!AB4="No (please elaborate in the Other Comments column)","OK","ERROR, PLEASE CHECK FIELD"))) -> OK | AC4: =IF(ISBLANK(Sample!AC4),"FIELD IS BLANK","OK") -> OK | AH4: =TRIM(MID(SUBSTITUTE('Outsourcing Register'!$N3,",",REPT(" ",99)),COLUMNS($A:F)*99-98,99))
A5: =IF(ISBLANK(Sample!A5),"FIELD IS BLANK","OK") -> OK | B5: =IF(ISBLANK(Sample!B5),"FIELD IS BLANK",IF(ISNA(VLOOKUP(Sample!B5,'Drop-down Data'!$A$2:$A$23,1,0)),"ERROR, PLEASE CHECK FIELD","OK")) -> OK | C5: =IF(ISBLANK(Sample!C5),"FIELD IS BLANK",IF(Sample!C5="Yes","OK",IF(Sample!C5="No","OK","ERROR, PLEASE CHECK FIELD"))) -> OK | D5: =IF(ISBLANK(Sample!D5),"FIELD IS BLANK","OK") -> OK | E5: =IF(ISBLANK(Sample!E5),"FIELD IS BLANK","OK") -> OK | F5: =IF(ISBLANK(Sample!F5),"FIELD IS BLANK","OK") -> OK | G5: =IF(ISBLANK(Sample!G5),"FIELD IS BLANK",IF(ISNA(VLOOKUP(Sample!G5,'Drop-down Data'!$B$2:$B$251,1,0)),"ERROR, PLEASE CHECK FIELD","OK")) -> OK | H5: =IF(ISBLANK(Sample!H5),"FIELD IS BLANK",IF(Sample!H5="Service provider","OK",IF(Sample!H5="Material sub-contractor","OK","ERROR, PLEASE CHECK FIELD"))) -> OK | I5: =IF(ISBLANK(Sample!I5),"FIELD IS BLANK",IF(Sample!I5="Intragroup","OK",IF(Sample!I5="Non-intragroup","OK","ERROR, PLEASE CHECK FIELD"))) -> OK | J5: =IF(ISBLANK(Sample!J5),"FIELD IS BLANK",IF(Sample!J5="Material","OK",IF(Sample!J5="Non-material","OK","ERROR, PLEASE CHECK FIELD"))) -> OK | K5: =IF(ISBLANK(Sample!K5),"FIELD IS BLANK","OK") -> OK | L5: =IF(ISBLANK(Sample!L5),"FIELD IS BLANK",IF(Sample!L5="Yes","OK",IF(Sample!L5="No","OK","ERROR, PLEASE CHECK FIELD"))) -> OK | M5: =IF(ISBLANK(Sample!M5),"FIELD IS BLANK",IF(Sample!M5="Yes","OK",IF(Sample!M5="No","OK","ERROR, PLEASE CHECK FIELD"))) -> OK | N5: =IF(ISBLANK(Sample!N5),"OK","ERROR, PLEASE CHECK FIELD") -> OK | O5: =IF(ISBLANK(Sample!O5),"OK","ERROR, PLEASE CHECK FIELD") -> OK | P5: =IF(ISBLANK(Sample!P5),"OK","ERROR, PLEASE CHECK FIELD") -> OK | Q5: =IF(ISBLANK(Sample!Q5),"FIELD IS BLANK",IF(ISNA(VLOOKUP(Sample!Q5,'Drop-down Data'!$D$2:$D$5,1,0)),"ERROR, PLEASE CHECK FIELD","OK")) -> OK | R5: =IF(ISBLANK(Sample!R5),"FIELD IS BLANK",IF(ISNA(VLOOKUP(Sample!R5,'Drop-down Data'!$E$2:$E$3,1,0)),"ERROR, PLEASE CHECK FIELD","OK")) -> OK | S5: =IF(ISBLANK(Sample!S5),"FIELD IS BLANK","OK") -> OK | T5: =IF(ISBLANK(Sample!T5),"FIELD IS BLANK","OK") -> OK | U5: =IF(ISBLANK(Sample!U5),"FIELD IS BLANK","OK") -> OK | V5: =IF(ISBLANK(Sample!V5),"FIELD IS BLANK","OK") -> OK | W5: =IF(ISBLANK(Sample!W5),"FIELD IS BLANK",IF(ISNA(VLOOKUP(Sample!W5,'Drop-down Data'!$F$2:$F$3,1,0)),"ERROR, PLEASE CHECK FIELD","OK")) -> OK | X5: =IF(ISBLANK(Sample!X5),"FIELD IS BLANK",IF(Sample!X5<0,"ERROR","OK")) -> OK | Y5: =IF(ISBLANK(Sample!Y5),"FIELD IS BLANK","OK") -> OK | Z5: =IF(ISBLANK(Sample!Z5),"FIELD IS BLANK",IF(ISNA(VLOOKUP(Sample!Z5,'Drop-down Data'!$G$2:$G$6,1,0)),"ERROR, PLEASE CHECK FIELD","OK")) -> OK | AA5: =IF(ISBLANK(Sample!AA5),"FIELD IS BLANK","OK") -> OK | AB5: =IF(ISBLANK(Sample!AB5),"FIELD IS BLANK",IF(Sample!AB5="Yes","OK",IF(Sample!AB5="No (please elaborate in the Other Comments column)","OK","ERROR, PLEASE CHECK FIELD"))) -> OK | AC5: =IF(ISBLANK(Sample!AC5),"FIELD IS BLANK","OK") -> OK | AH5: =TRIM(MID(SUBSTITUTE('Outsourcing Register'!$N4,",",REPT(" ",99)),COLUMNS($A:F)*99-98,99))
A6: =IF(ISBLANK(Sample!A6),"FIELD IS BLANK","OK") -> OK | B6: =IF(ISBLANK(Sample!B6),"FIELD IS BLANK",IF(ISNA(VLOOKUP(Sample!B6,'Drop-down Data'!$A$2:$A$23,1,0)),"ERROR, PLEASE CHECK FIELD","OK")) -> OK | C6: =IF(ISBLANK(Sample!C6),"FIELD IS BLANK",IF(Sample!C6="Yes","OK",IF(Sample!C6="No","OK","ERROR, PLEASE CHECK FIELD"))) -> OK | D6: =IF(ISBLANK(Sample!D6),"FIELD IS BLANK","OK") -> OK | E6: =IF(ISBLANK(Sample!E6),"FIELD IS BLANK","OK") -> OK | F6: =IF(ISBLANK(Sample!F6),"FIELD IS BLANK","OK") -> OK | G6: =IF(ISBLANK(Sample!G6),"FIELD IS BLANK",IF(ISNA(VLOOKUP(Sample!G6,'Drop-down Data'!$B$2:$B$251,1,0)),"ERROR, PLEASE CHECK FIELD","OK")) -> OK | H6: =IF(ISBLANK(Sample!H6),"FIELD IS BLANK",IF(Sample!H6="Service provider","OK",IF(Sample!H6="Material sub-contractor","OK","ERROR, PLEASE CHECK FIELD"))) -> OK | I6: =IF(ISBLANK(Sample!I6),"FIELD IS BLANK",IF(Sample!I6="Intragroup","OK",IF(Sample!I6="Non-intragroup","OK","ERROR, PLEASE CHECK FIELD"))) -> OK | J6: =IF(ISBLANK(Sample!J6),"FIELD IS BLANK",IF(Sample!J6="Material","OK",IF(Sample!J6="Non-material","OK","ERROR, PLEASE CHECK FIELD"))) -> OK | K6: =IF(ISBLANK(Sample!K6),"FIELD IS BLANK","OK") -> OK | L6: =IF(ISBLANK(Sample!L6),"FIELD IS BLANK",IF(Sample!L6="Yes","OK",IF(Sample!L6="No","OK","ERROR, PLEASE CHECK FIELD"))) -> OK | M6: =IF(ISBLANK(Sample!M6),"FIELD IS BLANK",IF(Sample!M6="Yes","OK",IF(Sample!M6="No","OK","ERROR, PLEASE CHECK FIELD"))) -> OK | N6: =IF(ISBLANK(Sample!N6),"OK","ERROR, PLEASE CHECK FIELD") -> OK | O6: =IF(ISBLANK(Sample!O6),"OK","ERROR, PLEASE CHECK FIELD") -> OK | P6: =IF(ISBLANK(Sample!P6),"OK","ERROR, PLEASE CHECK FIELD") -> OK | Q6: =IF(ISBLANK(Sample!Q6),"FIELD IS BLANK",IF(ISNA(VLOOKUP(Sample!Q6,'Drop-down Data'!$D$2:$D$5,1,0)),"ERROR, PLEASE CHECK FIELD","OK")) -> FIELD IS BLANK | R6: =IF(ISBLANK(Sample!R6),"FIELD IS BLANK",IF(ISNA(VLOOKUP(Sample!R6,'Drop-down Data'!$E$2:$E$3,1,0)),"ERROR, PLEASE CHECK FIELD","OK")) -> FIELD IS BLANK | S6: =IF(ISBLANK(Sample!S6),"FIELD IS BLANK","OK") -> OK | T6: =IF(ISBLANK(Sample!T6),"FIELD IS BLANK","OK") -> OK | U6: =IF(ISBLANK(Sample!U6),"FIELD IS BLANK","OK") -> OK | V6: =IF(ISBLANK(Sample!V6),"FIELD IS BLANK","OK") -> OK | W6: =IF(ISBLANK(Sample!W6),"FIELD IS BLANK",IF(ISNA(VLOOKUP(Sample!W6,'Drop-down Data'!$F$2:$F$3,1,0)),"ERROR, PLEASE CHECK FIELD","OK")) -> OK | X6: =IF(ISBLANK(Sample!X6),"FIELD IS BLANK",IF(Sample!X6<0,"ERROR","OK")) -> OK | Y6: =IF(ISBLANK(Sample!Y6),"FIELD IS BLANK","OK") -> OK | Z6: =IF(ISBLANK(Sample!Z6),"FIELD IS BLANK",IF(ISNA(VLOOKUP(Sample!Z6,'Drop-down Data'!$G$2:$G$6,1,0)),"ERROR, PLEASE CHECK FIELD","OK")) -> OK | AA6: =IF(ISBLANK(Sample!AA6),"FIELD IS BLANK","OK") -> OK | AB6: =IF(ISBLANK(Sample!AB6),"FIELD IS BLANK",IF(Sample!AB6="Yes","OK",IF(Sample!AB6="No (please elaborate in the Other Comments column)","OK","ERROR, PLEASE CHECK FIELD"))) -> OK | AC6: =IF(ISBLANK(Sample!AC6),"FIELD IS BLANK","OK") -> FIELD IS BLANK | AH6: =TRIM(MID(SUBSTITUTE('Outsourcing Register'!$N5,",",REPT(" ",99)),COLUMNS($A:F)*99-98,99))
A7: =IF(ISBLANK(Sample!A7),"FIELD IS BLANK","OK") -> OK | B7: =IF(ISBLANK(Sample!B7),"FIELD IS BLANK",IF(ISNA(VLOOKUP(Sample!B7,'Drop-down Data'!$A$2:$A$23,1,0)),"ERROR, PLEASE CHECK FIELD","OK")) -> ERROR, PLEASE CHECK FIELD | C7: =IF(ISBLANK(Sample!C7),"FIELD IS BLANK",IF(Sample!C7="Yes","OK",IF(Sample!C7="No","OK","ERROR, PLEASE CHECK FIELD"))) -> OK | D7: =IF(ISBLANK(Sample!D7),"FIELD IS BLANK","OK") -> OK | E7: =IF(ISBLANK(Sample!E7),"FIELD IS BLANK","OK") -> OK | F7: =IF(ISBLANK(Sample!F7),"FIELD IS BLANK","OK") -> OK | G7: =IF(ISBLANK(Sample!G7),"FIELD IS BLANK",IF(ISNA(VLOOKUP(Sample!G7,'Drop-down Data'!$B$2:$B$251,1,0)),"ERROR, PLEASE CHECK FIELD","OK")) -> OK | H7: =IF(ISBLANK(Sample!H7),"FIELD IS BLANK",IF(Sample!H7="Service provider","OK",IF(Sample!H7="Material sub-contractor","OK","ERROR, PLEASE CHECK FIELD"))) -> OK | I7: =IF(ISBLANK(Sample!I7),"FIELD IS BLANK",IF(Sample!I7="Intragroup","OK",IF(Sample!I7="Non-intragroup","OK","ERROR, PLEASE CHECK FIELD"))) -> OK | J7: =IF(ISBLANK(Sample!J7),"FIELD IS BLANK",IF(Sample!J7="Material","OK",IF(Sample!J7="Non-material","OK","ERROR, PLEASE CHECK FIELD"))) -> FIELD IS BLANK | K7: =IF(ISBLANK(Sample!K7),"FIELD IS BLANK","OK") -> FIELD IS BLANK | L7: =IF(ISBLANK(Sample!L7),"FIELD IS BLANK",IF(Sample!L7="Yes","OK",IF(Sample!L7="No","OK","ERROR, PLEASE CHECK FIELD"))) -> FIELD IS BLANK | M7: =IF(ISBLANK(Sample!M7),"FIELD IS BLANK",IF(Sample!M7="Yes","OK",IF(Sample!M7="No","OK","ERROR, PLEASE CHECK FIELD"))) -> OK | N7: =IF(ISBLANK(Sample!N7),"OK","ERROR, PLEASE CHECK FIELD") -> OK | O7: =IF(ISBLANK(Sample!O7),"OK","ERROR, PLEASE CHECK FIELD") -> OK | P7: =IF(ISBLANK(Sample!P7),"OK","ERROR, PLEASE CHECK FIELD") -> OK | Q7: =IF(ISBLANK(Sample!Q7),"FIELD IS BLANK",IF(ISNA(VLOOKUP(Sample!Q7,'Drop-down Data'!$D$2:$D$5,1,0)),"ERROR, PLEASE CHECK FIELD","OK")) -> FIELD IS BLANK | R7: =IF(ISBLANK(Sample!R7),"FIELD IS BLANK",IF(ISNA(VLOOKUP(Sample!R7,'Drop-down Data'!$E$2:$E$3,1,0)),"ERROR, PLEASE CHECK FIELD","OK")) -> FIELD IS BLANK | S7: =IF(ISBLANK(Sample!S7),"FIELD IS BLANK","OK") -> OK | T7: =IF(ISBLANK(Sample!T7),"FIELD IS BLANK","OK") -> FIELD IS BLANK | U7: =IF(ISBLANK(Sample!U7),"FIELD IS BLANK","OK") -> OK | V7: =IF(ISBLANK(Sample!V7),"FIELD IS BLANK","OK") -> OK | W7: =IF(ISBLANK(Sample!W7),"FIELD IS BLANK",IF(ISNA(VLOOKUP(Sample!W7,'Drop-down Data'!$F$2:$F$3,1,0)),"ERROR, PLEASE CHECK FIELD","OK")) -> FIELD IS BLANK | X7: =IF(ISBLANK(Sample!X7),"FIELD IS BLANK",IF(Sample!X7<0,"ERROR","OK")) -> FIELD IS BLANK | Y7: =IF(ISBLANK(Sample!Y7),"FIELD IS BLANK","OK") -> OK | Z7: =IF(ISBLANK(Sample!Z7),"FIELD IS BLANK",IF(ISNA(VLOOKUP(Sample!Z7,'Drop-down Data'!$G$2:$G$6,1,0)),"ERROR, PLEASE CHECK FIELD","OK")) -> FIELD IS BLANK | AA7: =IF(ISBLANK(Sample!AA7),"FIELD IS BLANK","OK") -> FIELD IS BLANK | AB7: =IF(ISBLANK(Sample!AB7),"FIELD IS BLANK",IF(Sample!AB7="Yes","OK",IF(Sample!AB7="No (please elaborate in the Other Comments column)","OK","ERROR, PLEASE CHECK FIELD"))) -> FIELD IS BLANK | AC7: =IF(ISBLANK(Sample!AC7),"FIELD IS BLANK","OK") -> FIELD IS BLANK | AH7: =TRIM(MID(SUBSTITUTE('Outsourcing Register'!$N6,",",REPT(" ",99)),COLUMNS($A:F)*99-98,99))
A8: =IF(ISBLANK(Sample!A8),"FIELD IS BLANK","OK") -> OK | B8: =IF(ISBLANK(Sample!B8),"FIELD IS BLANK",IF(ISNA(VLOOKUP(Sample!B8,'Drop-down Data'!$A$2:$A$23,1,0)),"ERROR, PLEASE CHECK FIELD","OK")) -> ERROR, PLEASE CHECK FIELD | C8: =IF(ISBLANK(Sample!C8),"FIELD IS BLANK",IF(Sample!C8="Yes","OK",IF(Sample!C8="No","OK","ERROR, PLEASE CHECK FIELD"))) -> FIELD IS BLANK | D8: =IF(ISBLANK(Sample!D8),"FIELD IS BLANK","OK") -> FIELD IS BLANK | E8: =IF(ISBLANK(Sample!E8),"FIELD IS BLANK","OK") -> FIELD IS BLANK | F8: =IF(ISBLANK(Sample!F8),"FIELD IS BLANK","OK") -> FIELD IS BLANK | G8: =IF(ISBLANK(Sample!G8),"FIELD IS BLANK",IF(ISNA(VLOOKUP(Sample!G8,'Drop-down Data'!$B$2:$B$251,1,0)),"ERROR, PLEASE CHECK FIELD","OK")) -> FIELD IS BLANK | H8: =IF(ISBLANK(Sample!H8),"FIELD IS BLANK",IF(Sample!H8="Service provider","OK",IF(Sample!H8="Material sub-contractor","OK","ERROR, PLEASE CHECK FIELD"))) -> FIELD IS BLANK | I8: =IF(ISBLANK(Sample!I8),"FIELD IS BLANK",IF(Sample!I8="Intragroup","OK",IF(Sample!I8="Non-intragroup","OK","ERROR, PLEASE CHECK FIELD"))) -> FIELD IS BLANK | J8: =IF(ISBLANK(Sample!J8),"FIELD IS BLANK",IF(Sample!J8="Material","OK",IF(Sample!J8="Non-material","OK","ERROR, PLEASE CHECK FIELD"))) -> FIELD IS BLANK | K8: =IF(ISBLANK(Sample!K8),"FIELD IS BLANK","OK") -> FIELD IS BLANK | L8: =IF(ISBLANK(Sample!L8),"FIELD IS BLANK",IF(Sample!L8="Yes","OK",IF(Sample!L8="No","OK","ERROR, PLEASE CHECK FIELD"))) -> FIELD IS BLANK | M8: =IF(ISBLANK(Sample!M8),"FIELD IS BLANK",IF(Sample!M8="Yes","OK",IF(Sample!M8="No","OK","ERROR, PLEASE CHECK FIELD"))) -> FIELD IS BLANK | N8: =IF(ISBLANK(Sample!N8),"OK","ERROR, PLEASE CHECK FIELD") -> OK | O8: =IF(ISBLANK(Sample!O8),"OK","ERROR, PLEASE CHECK FIELD") -> OK | P8: =IF(ISBLANK(Sample!P8),"OK","ERROR, PLEASE CHECK FIELD") -> OK | Q8: =IF(ISBLANK(Sample!Q8),"FIELD IS BLANK",IF(ISNA(VLOOKUP(Sample!Q8,'Drop-down Data'!$D$2:$D$5,1,0)),"ERROR, PLEASE CHECK FIELD","OK")) -> FIELD IS BLANK | R8: =IF(ISBLANK(Sample!R8),"FIELD IS BLANK",IF(ISNA(VLOOKUP(Sample!R8,'Drop-down Data'!$E$2:$E$3,1,0)),"ERROR, PLEASE CHECK FIELD","OK")) -> FIELD IS BLANK | S8: =IF(ISBLANK(Sample!S8),"FIELD IS BLANK","OK") -> FIELD IS BLANK | T8: =IF(ISBLANK(Sample!T8),"FIELD IS BLANK","OK") -> FIELD IS BLANK | U8: =IF(ISBLANK(Sample!U8),"FIELD IS BLANK","OK") -> FIELD IS BLANK | V8: =IF(ISBLANK(Sample!V8),"FIELD IS BLANK","OK") -> FIELD IS BLANK | W8: =IF(ISBLANK(Sample!W8),"FIELD IS BLANK",IF(ISNA(VLOOKUP(Sample!W8,'Drop-down Data'!$F$2:$F$3,1,0)),"ERROR, PLEASE CHECK FIELD","OK")) -> FIELD IS BLANK | X8: =IF(ISBLANK(Sample!X8),"FIELD IS BLANK",IF(Sample!X8<0,"ERROR","OK")) -> FIELD IS BLANK | Y8: =IF(ISBLANK(Sample!Y8),"FIELD IS BLANK","OK") -> FIELD IS BLANK | Z8: =IF(ISBLANK(Sample!Z8),"FIELD IS BLANK",IF(ISNA(VLOOKUP(Sample!Z8,'Drop-down Data'!$G$2:$G$6,1,0)),"ERROR, PLEASE CHECK FIELD","OK")) -> FIELD IS BLANK | AA8: =IF(ISBLANK(Sample!AA8),"FIELD IS BLANK","OK") -> FIELD IS BLANK | AB8: =IF(ISBLANK(Sample!AB8),"FIELD IS BLANK",IF(Sample!AB8="Yes","OK",IF(Sample!AB8="No (please elaborate in the Other Comments column)","OK","ERROR, PLEASE CHECK FIELD"))) -> FIELD IS BLANK | AC8: =IF(ISBLANK(Sample!AC8),"FIELD IS BLANK","OK") -> FIELD IS BLANK

Sheet Outsourcing Register
A1: Unique Identifier | B1: Outsourced relevant service(s) | C1: Is this an ongoing outsourced relevant service? | D1: Description of outsourced relevant service(s) | E1: Name of service provider / material sub-contractor as set out in the outsourcing agreement | F1: Business registration number of service provider / material sub-contractor | G1: Country or Jurisdiction where the service provider / material sub-contractor is registered | H1: Category of provider (service provider or material sub-contractor) | I1: Type of outsourced relevant service provider | J1: Materiality | K1: When did the bank perform the materiality assessment? | L1: Service provider / material sub-contractor supports business operations that are time critical | M1: Is customer information disclosed to, or accessed, collected, copied, modified, used, stored or processed by the service provider / material sub-contractor? | N1: Please list all the countries or jurisdictions where the service will be carried out in <Col N - Jurisdictions> tab | O1: Please list all the cities where the service will be carried out in <Col O - Cities> tab | P1: Please list all the countries or jurisdictions where customer information will be disclosed to, or accessed, collected, copied, modified, used, stored or processed by the service provider / material sub-contractor in <Col P - Cust_Info> tab | Q1: Service provider substitutability | R1: Has an alternate service provider been identified? | S1: Service commencement date | T1: Last contract renewal date (where applicable) | U1: Service expiry or next contract renewal date (where applicable) | V1: When did the institution last undertake due diligence on the outsourcing / sub-contracting arrangement? | W1: Was there a change in materiality following the most recent materiality assessment performed for the outsourcing / sub-contracting arrangement? | X1: Institution's frequency of audit on the service provider / material sub-contractor (Year(s)) | Y1: When was an independent audit last conducted on the service provider / material sub-contractor? | Z1: Who conducted the audit? | AA1: When did the service provider / material sub-contractor last test its business continuity plan (BCP)? | AB1: Did the service provider / material sub-contractor meet all the objectives of the BCP test successfully? | AC1: Other comments (if any)

Sheet Col N - Jurisdictions
A1: Unique Identifier | B1: Outsourced relevant service(s) | C1: Is this an ongoing outsourced relevant service? | D1: Description of outsourced relevant service(s) | E1: Name of service provider / material sub-contractor as set out in the outsourcing agreement | F1: Business registration number of service provider / material sub-contractor | G1: Please list all the countries or jurisdictions where the service will be carried out.

Sheet Col O - Cities
A1: Unique Identifier | B1: Outsourced relevant service(s) | C1: Is this an ongoing outsourced relevant service? | D1: Description of outsourced relevant service(s) | E1: Name of service provider / material sub-contractor as set out in the outsourcing agreement | F1: Business registration number of service provider / material sub-contractor | G1: Please input all the cities where the service will be carried out.

Sheet Col P - Cust_Info
A1: Unique Identifier | B1: Outsourced relevant service(s) | C1: Is this an ongoing outsourced relevant service? | D1: Description of outsourced relevant service(s) | E1: Name of service provider / material sub-contractor as set out in the outsourcing agreement | F1: Business registration number of service provider / material sub-contractor | G1: Please input all the countries or jurisdictions where customer information will be disclosed to, or accessed, collected, copied, modified, used, stored or processed by the service provider/material sub-contractor.

Sheet Validation Check
A1: Unique Identifier | B1: Outsourced relevant service(s) | C1: Is this an ongoing outsourced relevant service? | D1: Description of outsourced relevant service(s) | E1: Name of service provider / material sub-contractor as set out in the outsourcing agreement | F1: Business registration number of service provider / material sub-contractor | G1: Country or Jurisdiction where the service provider / material sub-contractor is registered | H1: Category of provider (service provider or material sub-contractor) | I1: Type of outsourced relevant service provider | J1: Materiality | K1: When did the bank perform the materiality assessment? | L1: Service provider / material sub-contractor supports business operations that are time critical | M1: Is customer information disclosed to, or accessed, collected, copied, modified, used, stored or processed by the service provider / material sub-contractor? | N1: Please list all the countries or jurisdictions where the service will be carried out in <Col N - Jurisdictions> tab | O1: Please list all the cities where the service will be carried out in <Col O - Cities> tab | P1: Please list all the countries or jurisdictions where customer information will be disclosed to, or accessed, collected, copied, modified, used, stored or processed by the service provider / material sub-contractor in <Col P - Cust_Info> tab | Q1: Service provider substitutability *Service Provider only | R1: Has an alternate service provider been identified? *Service Provider only | S1: Service commencement date | T1: Last contract renewal date (where applicable) *Service Provider only | U1: Service expiry or next contract renewal date (where applicable) *Service Provider only | V1: When did the bank last undertake due diligence on the outsourcing / sub-contracting arrangement? | W1: Was there a change in materiality following the most recent materiality assessment performed for the outsourcing / sub-contracting arrangement? | X1: Bank's frequency of audit on the service provider / material sub-contractor (Year(s)) | Y1: When was an independent audit last conducted on the service provider / material sub-contractor? | Z1: Who conducted the audit? | AA1: When did the service provider / material sub-contractor last test its business continuity plan (BCP)? | AB1: Did the service provider / material sub-contractor meet all the objectives of the BCP test successfully? | AC1: Other comments (if any)
A2: =IF(ISBLANK('Outsourcing Register'!A2),"FIELD IS BLANK","OK") -> FIELD IS BLANK | B2: =IF(ISBLANK('Outsourcing Register'!B2),"FIELD IS BLANK",IF(ISNA(VLOOKUP('Outsourcing Register'!B2,'Drop-down Data'!$A$2:$A$23,1,0)),"ERROR, PLEASE CHECK FIELD","OK")) -> FIELD IS BLANK | C2: =IF(ISBLANK('Outsourcing Register'!C2),"FIELD IS BLANK",IF('Outsourcing Register'!C2="Yes","OK",IF('Outsourcing Register'!C2="No","OK","ERROR, PLEASE CHECK FIELD"))) -> FIELD IS BLANK | D2: =IF(ISBLANK('Outsourcing Register'!D2),"FIELD IS BLANK","OK") -> FIELD IS BLANK | E2: =IF(ISBLANK('Outsourcing Register'!E2),"FIELD IS BLANK","OK") -> FIELD IS BLANK | F2: =IF(ISBLANK('Outsourcing Register'!F2),"FIELD IS BLANK","OK") -> FIELD IS BLANK | G2: =IF(ISBLANK('Outsourcing Register'!G2),"FIELD IS BLANK",IF(ISNA(VLOOKUP('Outsourcing Register'!G2,'Drop-down Data'!$B$2:$B$251,1,0)),"ERROR, PLEASE CHECK FIELD","OK")) -> FIELD IS BLANK | H2: =IF(ISBLANK('Outsourcing Register'!H2),"FIELD IS BLANK",IF('Outsourcing Register'!H2="Service provider","OK",IF('Outsourcing Register'!H2="Material sub-contractor","OK","ERROR, PLEASE CHECK FIELD"))) -> FIELD IS BLANK | I2: =IF(ISBLANK('Outsourcing Register'!I2),"FIELD IS BLANK",IF('Outsourcing Register'!I2="Intragroup","OK",IF('Outsourcing Register'!I2="Non-intragroup","OK","ERROR, PLEASE CHECK FIELD"))) -> FIELD IS BLANK | J2: =IF(ISBLANK('Outsourcing Register'!J2),"FIELD IS BLANK",IF('Outsourcing Register'!J2="Material","OK",IF('Outsourcing Register'!J2="Non-material","OK","ERROR, PLEASE CHECK FIELD"))) -> FIELD IS BLANK | K2: =IF(ISBLANK('Outsourcing Register'!K2),"FIELD IS BLANK","OK") -> FIELD IS BLANK | L2: =IF(ISBLANK('Outsourcing Register'!L2),"FIELD IS BLANK",IF('Outsourcing Register'!L2="Yes","OK",IF('Outsourcing Register'!L2="No","OK","ERROR, PLEASE CHECK FIELD"))) -> FIELD IS BLANK | M2: =IF(ISBLANK('Outsourcing Register'!M2),"FIELD IS BLANK",IF('Outsourcing Register'!M2="Yes","OK",IF('Outsourcing Register'!M2="No","OK","ERROR, PLEASE CHECK FIELD"))) -> FIELD IS BLANK | N2: =IF(ISBLANK('Outsourcing Register'!N2),"OK","ERROR, PLEASE CHECK FIELD") -> OK | O2: =IF(ISBLANK('Outsourcing Register'!O2),"OK","ERROR, PLEASE CHECK FIELD") -> OK | P2: =IF(ISBLANK('Outsourcing Register'!P2),"OK","ERROR, PLEASE CHECK FIELD") -> OK | Q2: =IF(ISBLANK('Outsourcing Register'!Q2),"FIELD IS BLANK",IF(ISNA(VLOOKUP('Outsourcing Register'!Q2,'Drop-down Data'!$D$2:$D$5,1,0)),"ERROR, PLEASE CHECK FIELD","OK")) -> FIELD IS BLANK | R2: =IF(ISBLANK('Outsourcing Register'!R2),"FIELD IS BLANK",IF(ISNA(VLOOKUP('Outsourcing Register'!R2,'Drop-down Data'!$E$2:$E$3,1,0)),"ERROR, PLEASE CHECK FIELD","OK")) -> FIELD IS BLANK | S2: =IF(ISBLANK('Outsourcing Register'!S2),"FIELD IS BLANK","OK") -> FIELD IS BLANK | T2: =IF(ISBLANK('Outsourcing Register'!T2),"FIELD IS BLANK","OK") -> FIELD IS BLANK | U2: =IF(ISBLANK('Outsourcing Register'!U2),"FIELD IS BLANK","OK") -> FIELD IS BLANK | V2: =IF(ISBLANK('Outsourcing Register'!V2),"FIELD IS BLANK","OK") -> FIELD IS BLANK | W2: =IF(ISBLANK('Outsourcing Register'!W2),"FIELD IS BLANK",IF(ISNA(VLOOKUP('Outsourcing Register'!W2,'Drop-down Data'!$F$2:$F$3,1,0)),"ERROR, PLEASE CHECK FIELD","OK")) -> FIELD IS BLANK | X2: =IF(ISBLANK('Outsourcing Register'!X2),"FIELD IS BLANK",IF('Outsourcing Register'!X2<0,"ERROR","OK")) -> FIELD IS BLANK | Y2: =IF(ISBLANK('Outsourcing Register'!Y2),"FIELD IS BLANK","OK") -> FIELD IS BLANK | Z2: =IF(ISBLANK('Outsourcing Register'!Z2),"FIELD IS BLANK",IF(ISNA(VLOOKUP('Outsourcing Register'!Z2,'Drop-down Data'!$G$2:$G$6,1,0)),"ERROR, PLEASE CHECK FIELD","OK")) -> FIELD IS BLANK | AA2: =IF(ISBLANK('Outsourcing Register'!AA2),"FIELD IS BLANK","OK") -> FIELD IS BLANK | AB2: =IF(ISBLANK('Outsourcing Register'!AB2),"FIELD IS BLANK",IF('Outsourcing Register'!AB2="Yes","OK",IF('Outsourcing Register'!AB2="No (please elaborate in the Other Comments column)","OK","ERROR, PLEASE CHECK FIELD"))) -> FIELD IS BLANK | AC2: =IF(ISBLANK('Outsourcing Register'!AC2),"FIELD IS BLANK","OK") -> FIELD IS BLANK | AH2: =TRIM(MID(SUBSTITUTE('Outsourcing Register'!$N2,",",REPT(" ",99)),COLUMNS($A:F)*99-98,99))
A3: =IF(ISBLANK('Outsourcing Register'!A3),"FIELD IS BLANK","OK") -> FIELD IS BLANK | B3: =IF(ISBLANK('Outsourcing Register'!B3),"FIELD IS BLANK",IF(ISNA(VLOOKUP('Outsourcing Register'!B3,'Drop-down Data'!$A$2:$A$23,1,0)),"ERROR, PLEASE CHECK FIELD","OK")) -> FIELD IS BLANK | C3: =IF(ISBLANK('Outsourcing Register'!C3),"FIELD IS BLANK",IF('Outsourcing Register'!C3="Yes","OK",IF('Outsourcing Register'!C3="No","OK","ERROR, PLEASE CHECK FIELD"))) -> FIELD IS BLANK | D3: =IF(ISBLANK('Outsourcing Register'!D3),"FIELD IS BLANK","OK") -> FIELD IS BLANK | E3: =IF(ISBLANK('Outsourcing Register'!E3),"FIELD IS BLANK","OK") -> FIELD IS BLANK | F3: =IF(ISBLANK('Outsourcing Register'!F3),"FIELD IS BLANK","OK") -> FIELD IS BLANK | G3: =IF(ISBLANK('Outsourcing Register'!G3),"FIELD IS BLANK",IF(ISNA(VLOOKUP('Outsourcing Register'!G3,'Drop-down Data'!$B$2:$B$251,1,0)),"ERROR, PLEASE CHECK FIELD","OK")) -> FIELD IS BLANK | H3: =IF(ISBLANK('Outsourcing Register'!H3),"FIELD IS BLANK",IF('Outsourcing Register'!H3="Service provider","OK",IF('Outsourcing Register'!H3="Material sub-contractor","OK","ERROR, PLEASE CHECK FIELD"))) -> FIELD IS BLANK | I3: =IF(ISBLANK('Outsourcing Register'!I3),"FIELD IS BLANK",IF('Outsourcing Register'!I3="Intragroup","OK",IF('Outsourcing Register'!I3="Non-intragroup","OK","ERROR, PLEASE CHECK FIELD"))) -> FIELD IS BLANK | J3: =IF(ISBLANK('Outsourcing Register'!J3),"FIELD IS BLANK",IF('Outsourcing Register'!J3="Material","OK",IF('Outsourcing Register'!J3="Non-material","OK","ERROR, PLEASE CHECK FIELD"))) -> FIELD IS BLANK | K3: =IF(ISBLANK('Outsourcing Register'!K3),"FIELD IS BLANK","OK") -> FIELD IS BLANK | L3: =IF(ISBLANK('Outsourcing Register'!L3),"FIELD IS BLANK",IF('Outsourcing Register'!L3="Yes","OK",IF('Outsourcing Register'!L3="No","OK","ERROR, PLEASE CHECK FIELD"))) -> FIELD IS BLANK | M3: =IF(ISBLANK('Outsourcing Register'!M3),"FIELD IS BLANK",IF('Outsourcing Register'!M3="Yes","OK",IF('Outsourcing Register'!M3="No","OK","ERROR, PLEASE CHECK FIELD"))) -> FIELD IS BLANK | N3: =IF(ISBLANK('Outsourcing Register'!N3),"OK","ERROR, PLEASE CHECK FIELD") -> OK | O3: =IF(ISBLANK('Outsourcing Register'!O3),"OK","ERROR, PLEASE CHECK FIELD") -> OK | P3: =IF(ISBLANK('Outsourcing Register'!P3),"OK","ERROR, PLEASE CHECK FIELD") -> OK | Q3: =IF(ISBLANK('Outsourcing Register'!Q3),"FIELD IS BLANK",IF(ISNA(VLOOKUP('Outsourcing Register'!Q3,'Drop-down Data'!$D$2:$D$5,1,0)),"ERROR, PLEASE CHECK FIELD","OK")) -> FIELD IS BLANK | R3: =IF(ISBLANK('Outsourcing Register'!R3),"FIELD IS BLANK",IF(ISNA(VLOOKUP('Outsourcing Register'!R3,'Drop-down Data'!$E$2:$E$3,1,0)),"ERROR, PLEASE CHECK FIELD","OK")) -> FIELD IS BLANK | S3: =IF(ISBLANK('Outsourcing Register'!S3),"FIELD IS BLANK","OK") -> FIELD IS BLANK | T3: =IF(ISBLANK('Outsourcing Register'!T3),"FIELD IS BLANK","OK") -> FIELD IS BLANK | U3: =IF(ISBLANK('Outsourcing Register'!U3),"FIELD IS BLANK","OK") -> FIELD IS BLANK | V3: =IF(ISBLANK('Outsourcing Register'!V3),"FIELD IS BLANK","OK") -> FIELD IS BLANK | W3: =IF(ISBLANK('Outsourcing Register'!W3),"FIELD IS BLANK",IF(ISNA(VLOOKUP('Outsourcing Register'!W3,'Drop-down Data'!$F$2:$F$3,1,0)),"ERROR, PLEASE CHECK FIELD","OK")) -> FIELD IS BLANK | X3: =IF(ISBLANK('Outsourcing Register'!X3),"FIELD IS BLANK",IF('Outsourcing Register'!X3<0,"ERROR","OK")) -> FIELD IS BLANK | Y3: =IF(ISBLANK('Outsourcing Register'!Y3),"FIELD IS BLANK","OK") -> FIELD IS BLANK | Z3: =IF(ISBLANK('Outsourcing Register'!Z3),"FIELD IS BLANK",IF(ISNA(VLOOKUP('Outsourcing Register'!Z3,'Drop-down Data'!$G$2:$G$6,1,0)),"ERROR, PLEASE CHECK FIELD","OK")) -> FIELD IS BLANK | AA3: =IF(ISBLANK('Outsourcing Register'!AA3),"FIELD IS BLANK","OK") -> FIELD IS BLANK | AB3: =IF(ISBLANK('Outsourcing Register'!AB3),"FIELD IS BLANK",IF('Outsourcing Register'!AB3="Yes","OK",IF('Outsourcing Register'!AB3="No (please elaborate in the Other Comments column)","OK","ERROR, PLEASE CHECK FIELD"))) -> FIELD IS BLANK | AC3: =IF(ISBLANK('Outsourcing Register'!AC3),"FIELD IS BLANK","OK") -> FIELD IS BLANK | AH3: =TRIM(MID(SUBSTITUTE('Outsourcing Register'!$N3,",",REPT(" ",99)),COLUMNS($A:F)*99-98,99))
A4: =IF(ISBLANK('Outsourcing Register'!A4),"FIELD IS BLANK","OK") -> FIELD IS BLANK | B4: =IF(ISBLANK('Outsourcing Register'!B4),"FIELD IS BLANK",IF(ISNA(VLOOKUP('Outsourcing Register'!B4,'Drop-down Data'!$A$2:$A$23,1,0)),"ERROR, PLEASE CHECK FIELD","OK")) -> FIELD IS BLANK | C4: =IF(ISBLANK('Outsourcing Register'!C4),"FIELD IS BLANK",IF('Outsourcing Register'!C4="Yes","OK",IF('Outsourcing Register'!C4="No","OK","ERROR, PLEASE CHECK FIELD"))) -> FIELD IS BLANK | D4: =IF(ISBLANK('Outsourcing Register'!D4),"FIELD IS BLANK","OK") -> FIELD IS BLANK | E4: =IF(ISBLANK('Outsourcing Register'!E4),"FIELD IS BLANK","OK") -> FIELD IS BLANK | F4: =IF(ISBLANK('Outsourcing Register'!F4),"FIELD IS BLANK","OK") -> FIELD IS BLANK | G4: =IF(ISBLANK('Outsourcing Register'!G4),"FIELD IS BLANK",IF(ISNA(VLOOKUP('Outsourcing Register'!G4,'Drop-down Data'!$B$2:$B$251,1,0)),"ERROR, PLEASE CHECK FIELD","OK")) -> FIELD IS BLANK | H4: =IF(ISBLANK('Outsourcing Register'!H4),"FIELD IS BLANK",IF('Outsourcing Register'!H4="Service provider","OK",IF('Outsourcing Register'!H4="Material sub-contractor","OK","ERROR, PLEASE CHECK FIELD"))) -> FIELD IS BLANK | I4: =IF(ISBLANK('Outsourcing Register'!I4),"FIELD IS BLANK",IF('Outsourcing Register'!I4="Intragroup","OK",IF('Outsourcing Register'!I4="Non-intragroup","OK","ERROR, PLEASE CHECK FIELD"))) -> FIELD IS BLANK | J4: =IF(ISBLANK('Outsourcing Register'!J4),"FIELD IS BLANK",IF('Outsourcing Register'!J4="Material","OK",IF('Outsourcing Register'!J4="Non-material","OK","ERROR, PLEASE CHECK FIELD"))) -> FIELD IS BLANK | K4: =IF(ISBLANK('Outsourcing Register'!K4),"FIELD IS BLANK","OK") -> FIELD IS BLANK | L4: =IF(ISBLANK('Outsourcing Register'!L4),"FIELD IS BLANK",IF('Outsourcing Register'!L4="Yes","OK",IF('Outsourcing Register'!L4="No","OK","ERROR, PLEASE CHECK FIELD"))) -> FIELD IS BLANK | M4: =IF(ISBLANK('Outsourcing Register'!M4),"FIELD IS BLANK",IF('Outsourcing Register'!M4="Yes","OK",IF('Outsourcing Register'!M4="No","OK","ERROR, PLEASE CHECK FIELD"))) -> FIELD IS BLANK | N4: =IF(ISBLANK('Outsourcing Register'!N4),"OK","ERROR, PLEASE CHECK FIELD") -> OK | O4: =IF(ISBLANK('Outsourcing Register'!O4),"OK","ERROR, PLEASE CHECK FIELD") -> OK | P4: =IF(ISBLANK('Outsourcing Register'!P4),"OK","ERROR, PLEASE CHECK FIELD") -> OK | Q4: =IF(ISBLANK('Outsourcing Register'!Q4),"FIELD IS BLANK",IF(ISNA(VLOOKUP('Outsourcing Register'!Q4,'Drop-down Data'!$D$2:$D$5,1,0)),"ERROR, PLEASE CHECK FIELD","OK")) -> FIELD IS BLANK | R4: =IF(ISBLANK('Outsourcing Register'!R4),"FIELD IS BLANK",IF(ISNA(VLOOKUP('Outsourcing Register'!R4,'Drop-down Data'!$E$2:$E$3,1,0)),"ERROR, PLEASE CHECK FIELD","OK")) -> FIELD IS BLANK | S4: =IF(ISBLANK('Outsourcing Register'!S4),"FIELD IS BLANK","OK") -> FIELD IS BLANK | T4: =IF(ISBLANK('Outsourcing Register'!T4),"FIELD IS BLANK","OK") -> FIELD IS BLANK | U4: =IF(ISBLANK('Outsourcing Register'!U4),"FIELD IS BLANK","OK") -> FIELD IS BLANK | V4: =IF(ISBLANK('Outsourcing Register'!V4),"FIELD IS BLANK","OK") -> FIELD IS BLANK | W4: =IF(ISBLANK('Outsourcing Register'!W4),"FIELD IS BLANK",IF(ISNA(VLOOKUP('Outsourcing Register'!W4,'Drop-down Data'!$F$2:$F$3,1,0)),"ERROR, PLEASE CHECK FIELD","OK")) -> FIELD IS BLANK | X4: =IF(ISBLANK('Outsourcing Register'!X4),"FIELD IS BLANK",IF('Outsourcing Register'!X4<0,"ERROR","OK")) -> FIELD IS BLANK | Y4: =IF(ISBLANK('Outsourcing Register'!Y4),"FIELD IS BLANK","OK") -> FIELD IS BLANK | Z4: =IF(ISBLANK('Outsourcing Register'!Z4),"FIELD IS BLANK",IF(ISNA(VLOOKUP('Outsourcing Register'!Z4,'Drop-down Data'!$G$2:$G$6,1,0)),"ERROR, PLEASE CHECK FIELD","OK")) -> FIELD IS BLANK | AA4: =IF(ISBLANK('Outsourcing Register'!AA4),"FIELD IS BLANK","OK") -> FIELD IS BLANK | AB4: =IF(ISBLANK('Outsourcing Register'!AB4),"FIELD IS BLANK",IF('Outsourcing Register'!AB4="Yes","OK",IF('Outsourcing Register'!AB4="No (please elaborate in the Other Comments column)","OK","ERROR, PLEASE CHECK FIELD"))) -> FIELD IS BLANK | AC4: =IF(ISBLANK('Outsourcing Register'!AC4),"FIELD IS BLANK","OK") -> FIELD IS BLANK | AH4: =TRIM(MID(SUBSTITUTE('Outsourcing Register'!$N4,",",REPT(" ",99)),COLUMNS($A:F)*99-98,99))
A5: =IF(ISBLANK('Outsourcing Register'!A5),"FIELD IS BLANK","OK") -> FIELD IS BLANK | B5: =IF(ISBLANK('Outsourcing Register'!B5),"FIELD IS BLANK",IF(ISNA(VLOOKUP('Outsourcing Register'!B5,'Drop-down Data'!$A$2:$A$23,1,0)),"ERROR, PLEASE CHECK FIELD","OK")) -> FIELD IS BLANK | C5: =IF(ISBLANK('Outsourcing Register'!C5),"FIELD IS BLANK",IF('Outsourcing Register'!C5="Yes","OK",IF('Outsourcing Register'!C5="No","OK","ERROR, PLEASE CHECK FIELD"))) -> FIELD IS BLANK | D5: =IF(ISBLANK('Outsourcing Register'!D5),"FIELD IS BLANK","OK") -> FIELD IS BLANK | E5: =IF(ISBLANK('Outsourcing Register'!E5),"FIELD IS BLANK","OK") -> FIELD IS BLANK | F5: =IF(ISBLANK('Outsourcing Register'!F5),"FIELD IS BLANK","OK") -> FIELD IS BLANK | G5: =IF(ISBLANK('Outsourcing Register'!G5),"FIELD IS BLANK",IF(ISNA(VLOOKUP('Outsourcing Register'!G5,'Drop-down Data'!$B$2:$B$251,1,0)),"ERROR, PLEASE CHECK FIELD","OK")) -> FIELD IS BLANK | H5: =IF(ISBLANK('Outsourcing Register'!H5),"FIELD IS BLANK",IF('Outsourcing Register'!H5="Service provider","OK",IF('Outsourcing Register'!H5="Material sub-contractor","OK","ERROR, PLEASE CHECK FIELD"))) -> FIELD IS BLANK | I5: =IF(ISBLANK('Outsourcing Register'!I5),"FIELD IS BLANK",IF('Outsourcing Register'!I5="Intragroup","OK",IF('Outsourcing Register'!I5="Non-intragroup","OK","ERROR, PLEASE CHECK FIELD"))) -> FIELD IS BLANK | J5: =IF(ISBLANK('Outsourcing Register'!J5),"FIELD IS BLANK",IF('Outsourcing Register'!J5="Material","OK",IF('Outsourcing Register'!J5="Non-material","OK","ERROR, PLEASE CHECK FIELD"))) -> FIELD IS BLANK | K5: =IF(ISBLANK('Outsourcing Register'!K5),"FIELD IS BLANK","OK") -> FIELD IS BLANK | L5: =IF(ISBLANK('Outsourcing Register'!L5),"FIELD IS BLANK",IF('Outsourcing Register'!L5="Yes","OK",IF('Outsourcing Register'!L5="No","OK","ERROR, PLEASE CHECK FIELD"))) -> FIELD IS BLANK | M5: =IF(ISBLANK('Outsourcing Register'!M5),"FIELD IS BLANK",IF('Outsourcing Register'!M5="Yes","OK",IF('Outsourcing Register'!M5="No","OK","ERROR, PLEASE CHECK FIELD"))) -> FIELD IS BLANK | N5: =IF(ISBLANK('Outsourcing Register'!N5),"OK","ERROR, PLEASE CHECK FIELD") -> OK | O5: =IF(ISBLANK('Outsourcing Register'!O5),"OK","ERROR, PLEASE CHECK FIELD") -> OK | P5: =IF(ISBLANK('Outsourcing Register'!P5),"OK","ERROR, PLEASE CHECK FIELD") -> OK | Q5: =IF(ISBLANK('Outsourcing Register'!Q5),"FIELD IS BLANK",IF(ISNA(VLOOKUP('Outsourcing Register'!Q5,'Drop-down Data'!$D$2:$D$5,1,0)),"ERROR, PLEASE CHECK FIELD","OK")) -> FIELD IS BLANK | R5: =IF(ISBLANK('Outsourcing Register'!R5),"FIELD IS BLANK",IF(ISNA(VLOOKUP('Outsourcing Register'!R5,'Drop-down Data'!$E$2:$E$3,1,0)),"ERROR, PLEASE CHECK FIELD","OK")) -> FIELD IS BLANK | S5: =IF(ISBLANK('Outsourcing Register'!S5),"FIELD IS BLANK","OK") -> FIELD IS BLANK | T5: =IF(ISBLANK('Outsourcing Register'!T5),"FIELD IS BLANK","OK") -> FIELD IS BLANK | U5: =IF(ISBLANK('Outsourcing Register'!U5),"FIELD IS BLANK","OK") -> FIELD IS BLANK | V5: =IF(ISBLANK('Outsourcing Register'!V5),"FIELD IS BLANK","OK") -> FIELD IS BLANK | W5: =IF(ISBLANK('Outsourcing Register'!W5),"FIELD IS BLANK",IF(ISNA(VLOOKUP('Outsourcing Register'!W5,'Drop-down Data'!$F$2:$F$3,1,0)),"ERROR, PLEASE CHECK FIELD","OK")) -> FIELD IS BLANK | X5: =IF(ISBLANK('Outsourcing Register'!X5),"FIELD IS BLANK",IF('Outsourcing Register'!X5<0,"ERROR","OK")) -> FIELD IS BLANK | Y5: =IF(ISBLANK('Outsourcing Register'!Y5),"FIELD IS BLANK","OK") -> FIELD IS BLANK | Z5: =IF(ISBLANK('Outsourcing Register'!Z5),"FIELD IS BLANK",IF(ISNA(VLOOKUP('Outsourcing Register'!Z5,'Drop-down Data'!$G$2:$G$6,1,0)),"ERROR, PLEASE CHECK FIELD","OK")) -> FIELD IS BLANK | AA5: =IF(ISBLANK('Outsourcing Register'!AA5),"FIELD IS BLANK","OK") -> FIELD IS BLANK | AB5: =IF(ISBLANK('Outsourcing Register'!AB5),"FIELD IS BLANK",IF('Outsourcing Register'!AB5="Yes","OK",IF('Outsourcing Register'!AB5="No (please elaborate in the Other Comments column)","OK","ERROR, PLEASE CHECK FIELD"))) -> FIELD IS BLANK | AC5: =IF(ISBLANK('Outsourcing Register'!AC5),"FIELD IS BLANK","OK") -> FIELD IS BLANK | AH5: =TRIM(MID(SUBSTITUTE('Outsourcing Register'!$N5,",",REPT(" ",99)),COLUMNS($A:F)*99-98,99))
A6: =IF(ISBLANK('Outsourcing Register'!A6),"FIELD IS BLANK","OK") -> FIELD IS BLANK | B6: =IF(ISBLANK('Outsourcing Register'!B6),"FIELD IS BLANK",IF(ISNA(VLOOKUP('Outsourcing Register'!B6,'Drop-down Data'!$A$2:$A$23,1,0)),"ERROR, PLEASE CHECK FIELD","OK")) -> FIELD IS BLANK | C6: =IF(ISBLANK('Outsourcing Register'!C6),"FIELD IS BLANK",IF('Outsourcing Register'!C6="Yes","OK",IF('Outsourcing Register'!C6="No","OK","ERROR, PLEASE CHECK FIELD"))) -> FIELD IS BLANK | D6: =IF(ISBLANK('Outsourcing Register'!D6),"FIELD IS BLANK","OK") -> FIELD IS BLANK | E6: =IF(ISBLANK('Outsourcing Register'!E6),"FIELD IS BLANK","OK") -> FIELD IS BLANK | F6: =IF(ISBLANK('Outsourcing Register'!F6),"FIELD IS BLANK","OK") -> FIELD IS BLANK | G6: =IF(ISBLANK('Outsourcing Register'!G6),"FIELD IS BLANK",IF(ISNA(VLOOKUP('Outsourcing Register'!G6,'Drop-down Data'!$B$2:$B$251,1,0)),"ERROR, PLEASE CHECK FIELD","OK")) -> FIELD IS BLANK | H6: =IF(ISBLANK('Outsourcing Register'!H6),"FIELD IS BLANK",IF('Outsourcing Register'!H6="Service provider","OK",IF('Outsourcing Register'!H6="Material sub-contractor","OK","ERROR, PLEASE CHECK FIELD"))) -> FIELD IS BLANK | I6: =IF(ISBLANK('Outsourcing Register'!I6),"FIELD IS BLANK",IF('Outsourcing Register'!I6="Intragroup","OK",IF('Outsourcing Register'!I6="Non-intragroup","OK","ERROR, PLEASE CHECK FIELD"))) -> FIELD IS BLANK | J6: =IF(ISBLANK('Outsourcing Register'!J6),"FIELD IS BLANK",IF('Outsourcing Register'!J6="Material","OK",IF('Outsourcing Register'!J6="Non-material","OK","ERROR, PLEASE CHECK FIELD"))) -> FIELD IS BLANK | K6: =IF(ISBLANK('Outsourcing Register'!K6),"FIELD IS BLANK","OK") -> FIELD IS BLANK | L6: =IF(ISBLANK('Outsourcing Register'!L6),"FIELD IS BLANK",IF('Outsourcing Register'!L6="Yes","OK",IF('Outsourcing Register'!L6="No","OK","ERROR, PLEASE CHECK FIELD"))) -> FIELD IS BLANK | M6: =IF(ISBLANK('Outsourcing Register'!M6),"FIELD IS BLANK",IF('Outsourcing Register'!M6="Yes","OK",IF('Outsourcing Register'!M6="No","OK","ERROR, PLEASE CHECK FIELD"))) -> FIELD IS BLANK | N6: =IF(ISBLANK('Outsourcing Register'!N6),"OK","ERROR, PLEASE CHECK FIELD") -> OK | O6: =IF(ISBLANK('Outsourcing Register'!O6),"OK","ERROR, PLEASE CHECK FIELD") -> OK | P6: =IF(ISBLANK('Outsourcing Register'!P6),"OK","ERROR, PLEASE CHECK FIELD") -> OK | Q6: =IF(ISBLANK('Outsourcing Register'!Q6),"FIELD IS BLANK",IF(ISNA(VLOOKUP('Outsourcing Register'!Q6,'Drop-down Data'!$D$2:$D$5,1,0)),"ERROR, PLEASE CHECK FIELD","OK")) -> FIELD IS BLANK | R6: =IF(ISBLANK('Outsourcing Register'!R6),"FIELD IS BLANK",IF(ISNA(VLOOKUP('Outsourcing Register'!R6,'Drop-down Data'!$E$2:$E$3,1,0)),"ERROR, PLEASE CHECK FIELD","OK")) -> FIELD IS BLANK | S6: =IF(ISBLANK('Outsourcing Register'!S6),"FIELD IS BLANK","OK") -> FIELD IS BLANK | T6: =IF(ISBLANK('Outsourcing Register'!T6),"FIELD IS BLANK","OK") -> FIELD IS BLANK | U6: =IF(ISBLANK('Outsourcing Register'!U6),"FIELD IS BLANK","OK") -> FIELD IS BLANK | V6: =IF(ISBLANK('Outsourcing Register'!V6),"FIELD IS BLANK","OK") -> FIELD IS BLANK | W6: =IF(ISBLANK('Outsourcing Register'!W6),"FIELD IS BLANK",IF(ISNA(VLOOKUP('Outsourcing Register'!W6,'Drop-down Data'!$F$2:$F$3,1,0)),"ERROR, PLEASE CHECK FIELD","OK")) -> FIELD IS BLANK | X6: =IF(ISBLANK('Outsourcing Register'!X6),"FIELD IS BLANK",IF('Outsourcing Register'!X6<0,"ERROR","OK")) -> FIELD IS BLANK | Y6: =IF(ISBLANK('Outsourcing Register'!Y6),"FIELD IS BLANK","OK") -> FIELD IS BLANK | Z6: =IF(ISBLANK('Outsourcing Register'!Z6),"FIELD IS BLANK",IF(ISNA(VLOOKUP('Outsourcing Register'!Z6,'Drop-down Data'!$G$2:$G$6,1,0)),"ERROR, PLEASE CHECK FIELD","OK")) -> FIELD IS BLANK | AA6: =IF(ISBLANK('Outsourcing Register'!AA6),"FIELD IS BLANK","OK") -> FIELD IS BLANK | AB6: =IF(ISBLANK('Outsourcing Register'!AB6),"FIELD IS BLANK",IF('Outsourcing Register'!AB6="Yes","OK",IF('Outsourcing Register'!AB6="No (please elaborate in the Other Comments column)","OK","ERROR, PLEASE CHECK FIELD"))) -> FIELD IS BLANK | AC6: =IF(ISBLANK('Outsourcing Register'!AC6),"FIELD IS BLANK","OK") -> FIELD IS BLANK | AH6: =TRIM(MID(SUBSTITUTE('Outsourcing Register'!$N6,",",REPT(" ",99)),COLUMNS($A:F)*99-98,99))
A7: =IF(ISBLANK('Outsourcing Register'!A7),"FIELD IS BLANK","OK") -> FIELD IS BLANK | B7: =IF(ISBLANK('Outsourcing Register'!B7),"FIELD IS BLANK",IF(ISNA(VLOOKUP('Outsourcing Register'!B7,'Drop-down Data'!$A$2:$A$23,1,0)),"ERROR, PLEASE CHECK FIELD","OK")) -> FIELD IS BLANK | C7: =IF(ISBLANK('Outsourcing Register'!C7),"FIELD IS BLANK",IF('Outsourcing Register'!C7="Yes","OK",IF('Outsourcing Register'!C7="No","OK","ERROR, PLEASE CHECK FIELD"))) -> FIELD IS BLANK | D7: =IF(ISBLANK('Outsourcing Register'!D7),"FIELD IS BLANK","OK") -> FIELD IS BLANK | E7: =IF(ISBLANK('Outsourcing Register'!E7),"FIELD IS BLANK","OK") -> FIELD IS BLANK | F7: =IF(ISBLANK('Outsourcing Register'!F7),"FIELD IS BLANK","OK") -> FIELD IS BLANK | G7: =IF(ISBLANK('Outsourcing Register'!G7),"FIELD IS BLANK",IF(ISNA(VLOOKUP('Outsourcing Register'!G7,'Drop-down Data'!$B$2:$B$251,1,0)),"ERROR, PLEASE CHECK FIELD","OK")) -> FIELD IS BLANK | H7: =IF(ISBLANK('Outsourcing Register'!H7),"FIELD IS BLANK",IF('Outsourcing Register'!H7="Service provider","OK",IF('Outsourcing Register'!H7="Material sub-contractor","OK","ERROR, PLEASE CHECK FIELD"))) -> FIELD IS BLANK | I7: =IF(ISBLANK('Outsourcing Register'!I7),"FIELD IS BLANK",IF('Outsourcing Register'!I7="Intragroup","OK",IF('Outsourcing Register'!I7="Non-intragroup","OK","ERROR, PLEASE CHECK FIELD"))) -> FIELD IS BLANK | J7: =IF(ISBLANK('Outsourcing Register'!J7),"FIELD IS BLANK",IF('Outsourcing Register'!J7="Material","OK",IF('Outsourcing Register'!J7="Non-material","OK","ERROR, PLEASE CHECK FIELD"))) -> FIELD IS BLANK | K7: =IF(ISBLANK('Outsourcing Register'!K7),"FIELD IS BLANK","OK") -> FIELD IS BLANK | L7: =IF(ISBLANK('Outsourcing Register'!L7),"FIELD IS BLANK",IF('Outsourcing Register'!L7="Yes","OK",IF('Outsourcing Register'!L7="No","OK","ERROR, PLEASE CHECK FIELD"))) -> FIELD IS BLANK | M7: =IF(ISBLANK('Outsourcing Register'!M7),"FIELD IS BLANK",IF('Outsourcing Register'!M7="Yes","OK",IF('Outsourcing Register'!M7="No","OK","ERROR, PLEASE CHECK FIELD"))) -> FIELD IS BLANK | N7: =IF(ISBLANK('Outsourcing Register'!N7),"OK","ERROR, PLEASE CHECK FIELD") -> OK | O7: =IF(ISBLANK('Outsourcing Register'!O7),"OK","ERROR, PLEASE CHECK FIELD") -> OK | P7: =IF(ISBLANK('Outsourcing Register'!P7),"OK","ERROR, PLEASE CHECK FIELD") -> OK | Q7: =IF(ISBLANK('Outsourcing Register'!Q7),"FIELD IS BLANK",IF(ISNA(VLOOKUP('Outsourcing Register'!Q7,'Drop-down Data'!$D$2:$D$5,1,0)),"ERROR, PLEASE CHECK FIELD","OK")) -> FIELD IS BLANK | R7: =IF(ISBLANK('Outsourcing Register'!R7),"FIELD IS BLANK",IF(ISNA(VLOOKUP('Outsourcing Register'!R7,'Drop-down Data'!$E$2:$E$3,1,0)),"ERROR, PLEASE CHECK FIELD","OK")) -> FIELD IS BLANK | S7: =IF(ISBLANK('Outsourcing Register'!S7),"FIELD IS BLANK","OK") -> FIELD IS BLANK | T7: =IF(ISBLANK('Outsourcing Register'!T7),"FIELD IS BLANK","OK") -> FIELD IS BLANK | U7: =IF(ISBLANK('Outsourcing Register'!U7),"FIELD IS BLANK","OK") -> FIELD IS BLANK | V7: =IF(ISBLANK('Outsourcing Register'!V7),"FIELD IS BLANK","OK") -> FIELD IS BLANK | W7: =IF(ISBLANK('Outsourcing Register'!W7),"FIELD IS BLANK",IF(ISNA(VLOOKUP('Outsourcing Register'!W7,'Drop-down Data'!$F$2:$F$3,1,0)),"ERROR, PLEASE CHECK FIELD","OK")) -> FIELD IS BLANK | X7: =IF(ISBLANK('Outsourcing Register'!X7),"FIELD IS BLANK",IF('Outsourcing Register'!X7<0,"ERROR","OK")) -> FIELD IS BLANK | Y7: =IF(ISBLANK('Outsourcing Register'!Y7),"FIELD IS BLANK","OK") -> FIELD IS BLANK | Z7: =IF(ISBLANK('Outsourcing Register'!Z7),"FIELD IS BLANK",IF(ISNA(VLOOKUP('Outsourcing Register'!Z7,'Drop-down Data'!$G$2:$G$6,1,0)),"ERROR, PLEASE CHECK FIELD","OK")) -> FIELD IS BLANK | AA7: =IF(ISBLANK('Outsourcing Register'!AA7),"FIELD IS BLANK","OK") -> FIELD IS BLANK | AB7: =IF(ISBLANK('Outsourcing Register'!AB7),"FIELD IS BLANK",IF('Outsourcing Register'!AB7="Yes","OK",IF('Outsourcing Register'!AB7="No (please elaborate in the Other Comments column)","OK","ERROR, PLEASE CHECK FIELD"))) -> FIELD IS BLANK | AC7: =IF(ISBLANK('Outsourcing Register'!AC7),"FIELD IS BLANK","OK") -> FIELD IS BLANK
A8: =IF(ISBLANK('Outsourcing Register'!A8),"FIELD IS BLANK","OK") -> FIELD IS BLANK | B8: =IF(ISBLANK('Outsourcing Register'!B8),"FIELD IS BLANK",IF(ISNA(VLOOKUP('Outsourcing Register'!B8,'Drop-down Data'!$A$2:$A$23,1,0)),"ERROR, PLEASE CHECK FIELD","OK")) -> FIELD IS BLANK | C8: =IF(ISBLANK('Outsourcing Register'!C8),"FIELD IS BLANK",IF('Outsourcing Register'!C8="Yes","OK",IF('Outsourcing Register'!C8="No","OK","ERROR, PLEASE CHECK FIELD"))) -> FIELD IS BLANK | D8: =IF(ISBLANK('Outsourcing Register'!D8),"FIELD IS BLANK","OK") -> FIELD IS BLANK | E8: =IF(ISBLANK('Outsourcing Register'!E8),"FIELD IS BLANK","OK") -> FIELD IS BLANK | F8: =IF(ISBLANK('Outsourcing Register'!F8),"FIELD IS BLANK","OK") -> FIELD IS BLANK | G8: =IF(ISBLANK('Outsourcing Register'!G8),"FIELD IS BLANK",IF(ISNA(VLOOKUP('Outsourcing Register'!G8,'Drop-down Data'!$B$2:$B$251,1,0)),"ERROR, PLEASE CHECK FIELD","OK")) -> FIELD IS BLANK | H8: =IF(ISBLANK('Outsourcing Register'!H8),"FIELD IS BLANK",IF('Outsourcing Register'!H8="Service provider","OK",IF('Outsourcing Register'!H8="Material sub-contractor","OK","ERROR, PLEASE CHECK FIELD"))) -> FIELD IS BLANK | I8: =IF(ISBLANK('Outsourcing Register'!I8),"FIELD IS BLANK",IF('Outsourcing Register'!I8="Intragroup","OK",IF('Outsourcing Register'!I8="Non-intragroup","OK","ERROR, PLEASE CHECK FIELD"))) -> FIELD IS BLANK | J8: =IF(ISBLANK('Outsourcing Register'!J8),"FIELD IS BLANK",IF('Outsourcing Register'!J8="Material","OK",IF('Outsourcing Register'!J8="Non-material","OK","ERROR, PLEASE CHECK FIELD"))) -> FIELD IS BLANK | K8: =IF(ISBLANK('Outsourcing Register'!K8),"FIELD IS BLANK","OK") -> FIELD IS BLANK | L8: =IF(ISBLANK('Outsourcing Register'!L8),"FIELD IS BLANK",IF('Outsourcing Register'!L8="Yes","OK",IF('Outsourcing Register'!L8="No","OK","ERROR, PLEASE CHECK FIELD"))) -> FIELD IS BLANK | M8: =IF(ISBLANK('Outsourcing Register'!M8),"FIELD IS BLANK",IF('Outsourcing Register'!M8="Yes","OK",IF('Outsourcing Register'!M8="No","OK","ERROR, PLEASE CHECK FIELD"))) -> FIELD IS BLANK | N8: =IF(ISBLANK('Outsourcing Register'!N8),"OK","ERROR, PLEASE CHECK FIELD") -> OK | O8: =IF(ISBLANK('Outsourcing Register'!O8),"OK","ERROR, PLEASE CHECK FIELD") -> OK | P8: =IF(ISBLANK('Outsourcing Register'!P8),"OK","ERROR, PLEASE CHECK FIELD") -> OK | Q8: =IF(ISBLANK('Outsourcing Register'!Q8),"FIELD IS BLANK",IF(ISNA(VLOOKUP('Outsourcing Register'!Q8,'Drop-down Data'!$D$2:$D$5,1,0)),"ERROR, PLEASE CHECK FIELD","OK")) -> FIELD IS BLANK | R8: =IF(ISBLANK('Outsourcing Register'!R8),"FIELD IS BLANK",IF(ISNA(VLOOKUP('Outsourcing Register'!R8,'Drop-down Data'!$E$2:$E$3,1,0)),"ERROR, PLEASE CHECK FIELD","OK")) -> FIELD IS BLANK | S8: =IF(ISBLANK('Outsourcing Register'!S8),"FIELD IS BLANK","OK") -> FIELD IS BLANK | T8: =IF(ISBLANK('Outsourcing Register'!T8),"FIELD IS BLANK","OK") -> FIELD IS BLANK | U8: =IF(ISBLANK('Outsourcing Register'!U8),"FIELD IS BLANK","OK") -> FIELD IS BLANK | V8: =IF(ISBLANK('Outsourcing Register'!V8),"FIELD IS BLANK","OK") -> FIELD IS BLANK | W8: =IF(ISBLANK('Outsourcing Register'!W8),"FIELD IS BLANK",IF(ISNA(VLOOKUP('Outsourcing Register'!W8,'Drop-down Data'!$F$2:$F$3,1,0)),"ERROR, PLEASE CHECK FIELD","OK")) -> FIELD IS BLANK | X8: =IF(ISBLANK('Outsourcing Register'!X8),"FIELD IS BLANK",IF('Outsourcing Register'!X8<0,"ERROR","OK")) -> FIELD IS BLANK | Y8: =IF(ISBLANK('Outsourcing Register'!Y8),"FIELD IS BLANK","OK") -> FIELD IS BLANK | Z8: =IF(ISBLANK('Outsourcing Register'!Z8),"FIELD IS BLANK",IF(ISNA(VLOOKUP('Outsourcing Register'!Z8,'Drop-down Data'!$G$2:$G$6,1,0)),"ERROR, PLEASE CHECK FIELD","OK")) -> FIELD IS BLANK | AA8: =IF(ISBLANK('Outsourcing Register'!AA8),"FIELD IS BLANK","OK") -> FIELD IS BLANK | AB8: =IF(ISBLANK('Outsourcing Register'!AB8),"FIELD IS BLANK",IF('Outsourcing Register'!AB8="Yes","OK",IF('Outsourcing Register'!AB8="No (please elaborate in the Other Comments column)","OK","ERROR, PLEASE CHECK FIELD"))) -> FIELD IS BLANK | AC8: =IF(ISBLANK('Outsourcing Register'!AC8),"FIELD IS BLANK","OK") -> FIELD IS BLANK | AH8: =TRIM(MID(SUBSTITUTE('Outsourcing Register'!$N8,",",REPT(" ",99)),COLUMNS($A:F)*99-98,99))
A9: =IF(ISBLANK('Outsourcing Register'!A9),"FIELD IS BLANK","OK") -> FIELD IS BLANK | B9: =IF(ISBLANK('Outsourcing Register'!B9),"FIELD IS BLANK",IF(ISNA(VLOOKUP('Outsourcing Register'!B9,'Drop-down Data'!$A$2:$A$23,1,0)),"ERROR, PLEASE CHECK FIELD","OK")) -> FIELD IS BLANK | C9: =IF(ISBLANK('Outsourcing Register'!C9),"FIELD IS BLANK",IF('Outsourcing Register'!C9="Yes","OK",IF('Outsourcing Register'!C9="No","OK","ERROR, PLEASE CHECK FIELD"))) -> FIELD IS BLANK | D9: =IF(ISBLANK('Outsourcing Register'!D9),"FIELD IS BLANK","OK") -> FIELD IS BLANK | E9: =IF(ISBLANK('Outsourcing Register'!E9),"FIELD IS BLANK","OK") -> FIELD IS BLANK | F9: =IF(ISBLANK('Outsourcing Register'!F9),"FIELD IS BLANK","OK") -> FIELD IS BLANK | G9: =IF(ISBLANK('Outsourcing Register'!G9),"FIELD IS BLANK",IF(ISNA(VLOOKUP('Outsourcing Register'!G9,'Drop-down Data'!$B$2:$B$251,1,0)),"ERROR, PLEASE CHECK FIELD","OK")) -> FIELD IS BLANK | H9: =IF(ISBLANK('Outsourcing Register'!H9),"FIELD IS BLANK",IF('Outsourcing Register'!H9="Service provider","OK",IF('Outsourcing Register'!H9="Material sub-contractor","OK","ERROR, PLEASE CHECK FIELD"))) -> FIELD IS BLANK | I9: =IF(ISBLANK('Outsourcing Register'!I9),"FIELD IS BLANK",IF('Outsourcing Register'!I9="Intragroup","OK",IF('Outsourcing Register'!I9="Non-intragroup","OK","ERROR, PLEASE CHECK FIELD"))) -> FIELD IS BLANK | J9: =IF(ISBLANK('Outsourcing Register'!J9),"FIELD IS BLANK",IF('Outsourcing Register'!J9="Material","OK",IF('Outsourcing Register'!J9="Non-material","OK","ERROR, PLEASE CHECK FIELD"))) -> FIELD IS BLANK | K9: =IF(ISBLANK('Outsourcing Register'!K9),"FIELD IS BLANK","OK") -> FIELD IS BLANK | L9: =IF(ISBLANK('Outsourcing Register'!L9),"FIELD IS BLANK",IF('Outsourcing Register'!L9="Yes","OK",IF('Outsourcing Register'!L9="No","OK","ERROR, PLEASE CHECK FIELD"))) -> FIELD IS BLANK | M9: =IF(ISBLANK('Outsourcing Register'!M9),"FIELD IS BLANK",IF('Outsourcing Register'!M9="Yes","OK",IF('Outsourcing Register'!M9="No","OK","ERROR, PLEASE CHECK FIELD"))) -> FIELD IS BLANK | N9: =IF(ISBLANK('Outsourcing Register'!N9),"OK","ERROR, PLEASE CHECK FIELD") -> OK | O9: =IF(ISBLANK('Outsourcing Register'!O9),"OK","ERROR, PLEASE CHECK FIELD") -> OK | P9: =IF(ISBLANK('Outsourcing Register'!P9),"OK","ERROR, PLEASE CHECK FIELD") -> OK | Q9: =IF(ISBLANK('Outsourcing Register'!Q9),"FIELD IS BLANK",IF(ISNA(VLOOKUP('Outsourcing Register'!Q9,'Drop-down Data'!$D$2:$D$5,1,0)),"ERROR, PLEASE CHECK FIELD","OK")) -> FIELD IS BLANK | R9: =IF(ISBLANK('Outsourcing Register'!R9),"FIELD IS BLANK",IF(ISNA(VLOOKUP('Outsourcing Register'!R9,'Drop-down Data'!$E$2:$E$3,1,0)),"ERROR, PLEASE CHECK FIELD","OK")) -> FIELD IS BLANK | S9: =IF(ISBLANK('Outsourcing Register'!S9),"FIELD IS BLANK","OK") -> FIELD IS BLANK | T9: =IF(ISBLANK('Outsourcing Register'!T9),"FIELD IS BLANK","OK") -> FIELD IS BLANK | U9: =IF(ISBLANK('Outsourcing Register'!U9),"FIELD IS BLANK","OK") -> FIELD IS BLANK | V9: =IF(ISBLANK('Outsourcing Register'!V9),"FIELD IS BLANK","OK") -> FIELD IS BLANK | W9: =IF(ISBLANK('Outsourcing Register'!W9),"FIELD IS BLANK",IF(ISNA(VLOOKUP('Outsourcing Register'!W9,'Drop-down Data'!$F$2:$F$3,1,0)),"ERROR, PLEASE CHECK FIELD","OK")) -> FIELD IS BLANK | X9: =IF(ISBLANK('Outsourcing Register'!X9),"FIELD IS BLANK",IF('Outsourcing Register'!X9<0,"ERROR","OK")) -> FIELD IS BLANK | Y9: =IF(ISBLANK('Outsourcing Register'!Y9),"FIELD IS BLANK","OK") -> FIELD IS BLANK | Z9: =IF(ISBLANK('Outsourcing Register'!Z9),"FIELD IS BLANK",IF(ISNA(VLOOKUP('Outsourcing Register'!Z9,'Drop-down Data'!$G$2:$G$6,1,0)),"ERROR, PLEASE CHECK FIELD","OK")) -> FIELD IS BLANK | AA9: =IF(ISBLANK('Outsourcing Register'!AA9),"FIELD IS BLANK","OK") -> FIELD IS BLANK | AB9: =IF(ISBLANK('Outsourcing Register'!AB9),"FIELD IS BLANK",IF('Outsourcing Register'!AB9="Yes","OK",IF('Outsourcing Register'!AB9="No (please elaborate in the Other Comments column)","OK","ERROR, PLEASE CHECK FIELD"))) -> FIELD IS BLANK | AC9: =IF(ISBLANK('Outsourcing Register'!AC9),"FIELD IS BLANK","OK") -> FIELD IS BLANK | AH9: =TRIM(MID(SUBSTITUTE('Outsourcing Register'!$N9,",",REPT(" ",99)),COLUMNS($A:F)*99-98,99))
A10: =IF(ISBLANK('Outsourcing Register'!A10),"FIELD IS BLANK","OK") -> FIELD IS BLANK | B10: =IF(ISBLANK('Outsourcing Register'!B10),"FIELD IS BLANK",IF(ISNA(VLOOKUP('Outsourcing Register'!B10,'Drop-down Data'!$A$2:$A$23,1,0)),"ERROR, PLEASE CHECK FIELD","OK")) -> FIELD IS BLANK | C10: =IF(ISBLANK('Outsourcing Register'!C10),"FIELD IS BLANK",IF('Outsourcing Register'!C10="Yes","OK",IF('Outsourcing Register'!C10="No","OK","ERROR, PLEASE CHECK FIELD"))) -> FIELD IS BLANK | D10: =IF(ISBLANK('Outsourcing Register'!D10),"FIELD IS BLANK","OK") -> FIELD IS BLANK | E10: =IF(ISBLANK('Outsourcing Register'!E10),"FIELD IS BLANK","OK") -> FIELD IS BLANK | F10: =IF(ISBLANK('Outsourcing Register'!F10),"FIELD IS BLANK","OK") -> FIELD IS BLANK | G10: =IF(ISBLANK('Outsourcing Register'!G10),"FIELD IS BLANK",IF(ISNA(VLOOKUP('Outsourcing Register'!G10,'Drop-down Data'!$B$2:$B$251,1,0)),"ERROR, PLEASE CHECK FIELD","OK")) -> FIELD IS BLANK | H10: =IF(ISBLANK('Outsourcing Register'!H10),"FIELD IS BLANK",IF('Outsourcing Register'!H10="Service provider","OK",IF('Outsourcing Register'!H10="Material sub-contractor","OK","ERROR, PLEASE CHECK FIELD"))) -> FIELD IS BLANK | I10: =IF(ISBLANK('Outsourcing Register'!I10),"FIELD IS BLANK",IF('Outsourcing Register'!I10="Intragroup","OK",IF('Outsourcing Register'!I10="Non-intragroup","OK","ERROR, PLEASE CHECK FIELD"))) -> FIELD IS BLANK | J10: =IF(ISBLANK('Outsourcing Register'!J10),"FIELD IS BLANK",IF('Outsourcing Register'!J10="Material","OK",IF('Outsourcing Register'!J10="Non-material","OK","ERROR, PLEASE CHECK FIELD"))) -> FIELD IS BLANK | K10: =IF(ISBLANK('Outsourcing Register'!K10),"FIELD IS BLANK","OK") -> FIELD IS BLANK | L10: =IF(ISBLANK('Outsourcing Register'!L10),"FIELD IS BLANK",IF('Outsourcing Register'!L10="Yes","OK",IF('Outsourcing Register'!L10="No","OK","ERROR, PLEASE CHECK FIELD"))) -> FIELD IS BLANK | M10: =IF(ISBLANK('Outsourcing Register'!M10),"FIELD IS BLANK",IF('Outsourcing Register'!M10="Yes","OK",IF('Outsourcing Register'!M10="No","OK","ERROR, PLEASE CHECK FIELD"))) -> FIELD IS BLANK | N10: =IF(ISBLANK('Outsourcing Register'!N10),"OK","ERROR, PLEASE CHECK FIELD") -> OK | O10: =IF(ISBLANK('Outsourcing Register'!O10),"OK","ERROR, PLEASE CHECK FIELD") -> OK | P10: =IF(ISBLANK('Outsourcing Register'!P10),"OK","ERROR, PLEASE CHECK FIELD") -> OK | Q10: =IF(ISBLANK('Outsourcing Register'!Q10),"FIELD IS BLANK",IF(ISNA(VLOOKUP('Outsourcing Register'!Q10,'Drop-down Data'!$D$2:$D$5,1,0)),"ERROR, PLEASE CHECK FIELD","OK")) -> FIELD IS BLANK | R10: =IF(ISBLANK('Outsourcing Register'!R10),"FIELD IS BLANK",IF(ISNA(VLOOKUP('Outsourcing Register'!R10,'Drop-down Data'!$E$2:$E$3,1,0)),"ERROR, PLEASE CHECK FIELD","OK")) -> FIELD IS BLANK | S10: =IF(ISBLANK('Outsourcing Register'!S10),"FIELD IS BLANK","OK") -> FIELD IS BLANK | T10: =IF(ISBLANK('Outsourcing Register'!T10),"FIELD IS BLANK","OK") -> FIELD IS BLANK | U10: =IF(ISBLANK('Outsourcing Register'!U10),"FIELD IS BLANK","OK") -> FIELD IS BLANK | V10: =IF(ISBLANK('Outsourcing Register'!V10),"FIELD IS BLANK","OK") -> FIELD IS BLANK | W10: =IF(ISBLANK('Outsourcing Register'!W10),"FIELD IS BLANK",IF(ISNA(VLOOKUP('Outsourcing Register'!W10,'Drop-down Data'!$F$2:$F$3,1,0)),"ERROR, PLEASE CHECK FIELD","OK")) -> FIELD IS BLANK | X10: =IF(ISBLANK('Outsourcing Register'!X10),"FIELD IS BLANK",IF('Outsourcing Register'!X10<0,"ERROR","OK")) -> FIELD IS BLANK | Y10: =IF(ISBLANK('Outsourcing Register'!Y10),"FIELD IS BLANK","OK") -> FIELD IS BLANK | Z10: =IF(ISBLANK('Outsourcing Register'!Z10),"FIELD IS BLANK",IF(ISNA(VLOOKUP('Outsourcing Register'!Z10,'Drop-down Data'!$G$2:$G$6,1,0)),"ERROR, PLEASE CHECK FIELD","OK")) -> FIELD IS BLANK | AA10: =IF(ISBLANK('Outsourcing Register'!AA10),"FIELD IS BLANK","OK") -> FIELD IS BLANK | AB10: =IF(ISBLANK('Outsourcing Register'!AB10),"FIELD IS BLANK",IF('Outsourcing Register'!AB10="Yes","OK",IF('Outsourcing Register'!AB10="No (please elaborate in the Other Comments column)","OK","ERROR, PLEASE CHECK FIELD"))) -> FIELD IS BLANK | AC10: =IF(ISBLANK('Outsourcing Register'!AC10),"FIELD IS BLANK","OK") -> FIELD IS BLANK | AH10: =TRIM(MID(SUBSTITUTE('Outsourcing Register'!$N10,",",REPT(" ",99)),COLUMNS($A:F)*99-98,99))
A11: =IF(ISBLANK('Outsourcing Register'!A11),"FIELD IS BLANK","OK") -> FIELD IS BLANK | B11: =IF(ISBLANK('Outsourcing Register'!B11),"FIELD IS BLANK",IF(ISNA(VLOOKUP('Outsourcing Register'!B11,'Drop-down Data'!$A$2:$A$23,1,0)),"ERROR, PLEASE CHECK FIELD","OK")) -> FIELD IS BLANK | C11: =IF(ISBLANK('Outsourcing Register'!C11),"FIELD IS BLANK",IF('Outsourcing Register'!C11="Yes","OK",IF('Outsourcing Register'!C11="No","OK","ERROR, PLEASE CHECK FIELD"))) -> FIELD IS BLANK | D11: =IF(ISBLANK('Outsourcing Register'!D11),"FIELD IS BLANK","OK") -> FIELD IS BLANK | E11: =IF(ISBLANK('Outsourcing Register'!E11),"FIELD IS BLANK","OK") -> FIELD IS BLANK | F11: =IF(ISBLANK('Outsourcing Register'!F11),"FIELD IS BLANK","OK") -> FIELD IS BLANK | G11: =IF(ISBLANK('Outsourcing Register'!G11),"FIELD IS BLANK",IF(ISNA(VLOOKUP('Outsourcing Register'!G11,'Drop-down Data'!$B$2:$B$251,1,0)),"ERROR, PLEASE CHECK FIELD","OK")) -> FIELD IS BLANK | H11: =IF(ISBLANK('Outsourcing Register'!H11),"FIELD IS BLANK",IF('Outsourcing Register'!H11="Service provider","OK",IF('Outsourcing Register'!H11="Material sub-contractor","OK","ERROR, PLEASE CHECK FIELD"))) -> FIELD IS BLANK | I11: =IF(ISBLANK('Outsourcing Register'!I11),"FIELD IS BLANK",IF('Outsourcing Register'!I11="Intragroup","OK",IF('Outsourcing Register'!I11="Non-intragroup","OK","ERROR, PLEASE CHECK FIELD"))) -> FIELD IS BLANK | J11: =IF(ISBLANK('Outsourcing Register'!J11),"FIELD IS BLANK",IF('Outsourcing Register'!J11="Material","OK",IF('Outsourcing Register'!J11="Non-material","OK","ERROR, PLEASE CHECK FIELD"))) -> FIELD IS BLANK | K11: =IF(ISBLANK('Outsourcing Register'!K11),"FIELD IS BLANK","OK") -> FIELD IS BLANK | L11: =IF(ISBLANK('Outsourcing Register'!L11),"FIELD IS BLANK",IF('Outsourcing Register'!L11="Yes","OK",IF('Outsourcing Register'!L11="No","OK","ERROR, PLEASE CHECK FIELD"))) -> FIELD IS BLANK | M11: =IF(ISBLANK('Outsourcing Register'!M11),"FIELD IS BLANK",IF('Outsourcing Register'!M11="Yes","OK",IF('Outsourcing Register'!M11="No","OK","ERROR, PLEASE CHECK FIELD"))) -> FIELD IS BLANK | N11: =IF(ISBLANK('Outsourcing Register'!N11),"OK","ERROR, PLEASE CHECK FIELD") -> OK | O11: =IF(ISBLANK('Outsourcing Register'!O11),"OK","ERROR, PLEASE CHECK FIELD") -> OK | P11: =IF(ISBLANK('Outsourcing Register'!P11),"OK","ERROR, PLEASE CHECK FIELD") -> OK | Q11: =IF(ISBLANK('Outsourcing Register'!Q11),"FIELD IS BLANK",IF(ISNA(VLOOKUP('Outsourcing Register'!Q11,'Drop-down Data'!$D$2:$D$5,1,0)),"ERROR, PLEASE CHECK FIELD","OK")) -> FIELD IS BLANK | R11: =IF(ISBLANK('Outsourcing Register'!R11),"FIELD IS BLANK",IF(ISNA(VLOOKUP('Outsourcing Register'!R11,'Drop-down Data'!$E$2:$E$3,1,0)),"ERROR, PLEASE CHECK FIELD","OK")) -> FIELD IS BLANK | S11: =IF(ISBLANK('Outsourcing Register'!S11),"FIELD IS BLANK","OK") -> FIELD IS BLANK | T11: =IF(ISBLANK('Outsourcing Register'!T11),"FIELD IS BLANK","OK") -> FIELD IS BLANK | U11: =IF(ISBLANK('Outsourcing Register'!U11),"FIELD IS BLANK","OK") -> FIELD IS BLANK | V11: =IF(ISBLANK('Outsourcing Register'!V11),"FIELD IS BLANK","OK") -> FIELD IS BLANK | W11: =IF(ISBLANK('Outsourcing Register'!W11),"FIELD IS BLANK",IF(ISNA(VLOOKUP('Outsourcing Register'!W11,'Drop-down Data'!$F$2:$F$3,1,0)),"ERROR, PLEASE CHECK FIELD","OK")) -> FIELD IS BLANK | X11: =IF(ISBLANK('Outsourcing Register'!X11),"FIELD IS BLANK",IF('Outsourcing Register'!X11<0,"ERROR","OK")) -> FIELD IS BLANK | Y11: =IF(ISBLANK('Outsourcing Register'!Y11),"FIELD IS BLANK","OK") -> FIELD IS BLANK | Z11: =IF(ISBLANK('Outsourcing Register'!Z11),"FIELD IS BLANK",IF(ISNA(VLOOKUP('Outsourcing Register'!Z11,'Drop-down Data'!$G$2:$G$6,1,0)),"ERROR, PLEASE CHECK FIELD","OK")) -> FIELD IS BLANK | AA11: =IF(ISBLANK('Outsourcing Register'!AA11),"FIELD IS BLANK","OK") -> FIELD IS BLANK | AB11: =IF(ISBLANK('Outsourcing Register'!AB11),"FIELD IS BLANK",IF('Outsourcing Register'!AB11="Yes","OK",IF('Outsourcing Register'!AB11="No (please elaborate in the Other Comments column)","OK","ERROR, PLEASE CHECK FIELD"))) -> FIELD IS BLANK | AC11: =IF(ISBLANK('Outsourcing Register'!AC11),"FIELD IS BLANK","OK") -> FIELD IS BLANK | AH11: =TRIM(MID(SUBSTITUTE('Outsourcing Register'!$N11,",",REPT(" ",99)),COLUMNS($A:F)*99-98,99))
A12: =IF(ISBLANK('Outsourcing Register'!A12),"FIELD IS BLANK","OK") -> FIELD IS BLANK | B12: =IF(ISBLANK('Outsourcing Register'!B12),"FIELD IS BLANK",IF(ISNA(VLOOKUP('Outsourcing Register'!B12,'Drop-down Data'!$A$2:$A$23,1,0)),"ERROR, PLEASE CHECK FIELD","OK")) -> FIELD IS BLANK | C12: =IF(ISBLANK('Outsourcing Register'!C12),"FIELD IS BLANK",IF('Outsourcing Register'!C12="Yes","OK",IF('Outsourcing Register'!C12="No","OK","ERROR, PLEASE CHECK FIELD"))) -> FIELD IS BLANK | D12: =IF(ISBLANK('Outsourcing Register'!D12),"FIELD IS BLANK","OK") -> FIELD IS BLANK | E12: =IF(ISBLANK('Outsourcing Register'!E12),"FIELD IS BLANK","OK") -> FIELD IS BLANK | F12: =IF(ISBLANK('Outsourcing Register'!F12),"FIELD IS BLANK","OK") -> FIELD IS BLANK | G12: =IF(ISBLANK('Outsourcing Register'!G12),"FIELD IS BLANK",IF(ISNA(VLOOKUP('Outsourcing Register'!G12,'Drop-down Data'!$B$2:$B$251,1,0)),"ERROR, PLEASE CHECK FIELD","OK")) -> FIELD IS BLANK | H12: =IF(ISBLANK('Outsourcing Register'!H12),"FIELD IS BLANK",IF('Outsourcing Register'!H12="Service provider","OK",IF('Outsourcing Register'!H12="Material sub-contractor","OK","ERROR, PLEASE CHECK FIELD"))) -> FIELD IS BLANK | I12: =IF(ISBLANK('Outsourcing Register'!I12),"FIELD IS BLANK",IF('Outsourcing Register'!I12="Intragroup","OK",IF('Outsourcing Register'!I12="Non-intragroup","OK","ERROR, PLEASE CHECK FIELD"))) -> FIELD IS BLANK | J12: =IF(ISBLANK('Outsourcing Register'!J12),"FIELD IS BLANK",IF('Outsourcing Register'!J12="Material","OK",IF('Outsourcing Register'!J12="Non-material","OK","ERROR, PLEASE CHECK FIELD"))) -> FIELD IS BLANK | K12: =IF(ISBLANK('Outsourcing Register'!K12),"FIELD IS BLANK","OK") -> FIELD IS BLANK | L12: =IF(ISBLANK('Outsourcing Register'!L12),"FIELD IS BLANK",IF('Outsourcing Register'!L12="Yes","OK",IF('Outsourcing Register'!L12="No","OK","ERROR, PLEASE CHECK FIELD"))) -> FIELD IS BLANK | M12: =IF(ISBLANK('Outsourcing Register'!M12),"FIELD IS BLANK",IF('Outsourcing Register'!M12="Yes","OK",IF('Outsourcing Register'!M12="No","OK","ERROR, PLEASE CHECK FIELD"))) -> FIELD IS BLANK | N12: =IF(ISBLANK('Outsourcing Register'!N12),"OK","ERROR, PLEASE CHECK FIELD") -> OK | O12: =IF(ISBLANK('Outsourcing Register'!O12),"OK","ERROR, PLEASE CHECK FIELD") -> OK | P12: =IF(ISBLANK('Outsourcing Register'!P12),"OK","ERROR, PLEASE CHECK FIELD") -> OK | Q12: =IF(ISBLANK('Outsourcing Register'!Q12),"FIELD IS BLANK",IF(ISNA(VLOOKUP('Outsourcing Register'!Q12,'Drop-down Data'!$D$2:$D$5,1,0)),"ERROR, PLEASE CHECK FIELD","OK")) -> FIELD IS BLANK | R12: =IF(ISBLANK('Outsourcing Register'!R12),"FIELD IS BLANK",IF(ISNA(VLOOKUP('Outsourcing Register'!R12,'Drop-down Data'!$E$2:$E$3,1,0)),"ERROR, PLEASE CHECK FIELD","OK")) -> FIELD IS BLANK | S12: =IF(ISBLANK('Outsourcing Register'!S12),"FIELD IS BLANK","OK") -> FIELD IS BLANK | T12: =IF(ISBLANK('Outsourcing Register'!T12),"FIELD IS BLANK","OK") -> FIELD IS BLANK | U12: =IF(ISBLANK('Outsourcing Register'!U12),"FIELD IS BLANK","OK") -> FIELD IS BLANK | V12: =IF(ISBLANK('Outsourcing Register'!V12),"FIELD IS BLANK","OK") -> FIELD IS BLANK | W12: =IF(ISBLANK('Outsourcing Register'!W12),"FIELD IS BLANK",IF(ISNA(VLOOKUP('Outsourcing Register'!W12,'Drop-down Data'!$F$2:$F$3,1,0)),"ERROR, PLEASE CHECK FIELD","OK")) -> FIELD IS BLANK | X12: =IF(ISBLANK('Outsourcing Register'!X12),"FIELD IS BLANK",IF('Outsourcing Register'!X12<0,"ERROR","OK")) -> FIELD IS BLANK | Y12: =IF(ISBLANK('Outsourcing Register'!Y12),"FIELD IS BLANK","OK") -> FIELD IS BLANK | Z12: =IF(ISBLANK('Outsourcing Register'!Z12),"FIELD IS BLANK",IF(ISNA(VLOOKUP('Outsourcing Register'!Z12,'Drop-down Data'!$G$2:$G$6,1,0)),"ERROR, PLEASE CHECK FIELD","OK")) -> FIELD IS BLANK | AA12: =IF(ISBLANK('Outsourcing Register'!AA12),"FIELD IS BLANK","OK") -> FIELD IS BLANK | AB12: =IF(ISBLANK('Outsourcing Register'!AB12),"FIELD IS BLANK",IF('Outsourcing Register'!AB12="Yes","OK",IF('Outsourcing Register'!AB12="No (please elaborate in the Other Comments column)","OK","ERROR, PLEASE CHECK FIELD"))) -> FIELD IS BLANK | AC12: =IF(ISBLANK('Outsourcing Register'!AC12),"FIELD IS BLANK","OK") -> FIELD IS BLANK | AH12: =TRIM(MID(SUBSTITUTE('Outsourcing Register'!$N12,",",REPT(" ",99)),COLUMNS($A:F)*99-98,99))
A13: =IF(ISBLANK('Outsourcing Register'!A13),"FIELD IS BLANK","OK") -> FIELD IS BLANK | B13: =IF(ISBLANK('Outsourcing Register'!B13),"FIELD IS BLANK",IF(ISNA(VLOOKUP('Outsourcing Register'!B13,'Drop-down Data'!$A$2:$A$23,1,0)),"ERROR, PLEASE CHECK FIELD","OK")) -> FIELD IS BLANK | C13: =IF(ISBLANK('Outsourcing Register'!C13),"FIELD IS BLANK",IF('Outsourcing Register'!C13="Yes","OK",IF('Outsourcing Register'!C13="No","OK","ERROR, PLEASE CHECK FIELD"))) -> FIELD IS BLANK | D13: =IF(ISBLANK('Outsourcing Register'!D13),"FIELD IS BLANK","OK") -> FIELD IS BLANK | E13: =IF(ISBLANK('Outsourcing Register'!E13),"FIELD IS BLANK","OK") -> FIELD IS BLANK | F13: =IF(ISBLANK('Outsourcing Register'!F13),"FIELD IS BLANK","OK") -> FIELD IS BLANK | G13: =IF(ISBLANK('Outsourcing Register'!G13),"FIELD IS BLANK",IF(ISNA(VLOOKUP('Outsourcing Register'!G13,'Drop-down Data'!$B$2:$B$251,1,0)),"ERROR, PLEASE CHECK FIELD","OK")) -> FIELD IS BLANK | H13: =IF(ISBLANK('Outsourcing Register'!H13),"FIELD IS BLANK",IF('Outsourcing Register'!H13="Service provider","OK",IF('Outsourcing Register'!H13="Material sub-contractor","OK","ERROR, PLEASE CHECK FIELD"))) -> FIELD IS BLANK | I13: =IF(ISBLANK('Outsourcing Register'!I13),"FIELD IS BLANK",IF('Outsourcing Register'!I13="Intragroup","OK",IF('Outsourcing Register'!I13="Non-intragroup","OK","ERROR, PLEASE CHECK FIELD"))) -> FIELD IS BLANK | J13: =IF(ISBLANK('Outsourcing Register'!J13),"FIELD IS BLANK",IF('Outsourcing Register'!J13="Material","OK",IF('Outsourcing Register'!J13="Non-material","OK","ERROR, PLEASE CHECK FIELD"))) -> FIELD IS BLANK | K13: =IF(ISBLANK('Outsourcing Register'!K13),"FIELD IS BLANK","OK") -> FIELD IS BLANK | L13: =IF(ISBLANK('Outsourcing Register'!L13),"FIELD IS BLANK",IF('Outsourcing Register'!L13="Yes","OK",IF('Outsourcing Register'!L13="No","OK","ERROR, PLEASE CHECK FIELD"))) -> FIELD IS BLANK | M13: =IF(ISBLANK('Outsourcing Register'!M13),"FIELD IS BLANK",IF('Outsourcing Register'!M13="Yes","OK",IF('Outsourcing Register'!M13="No","OK","ERROR, PLEASE CHECK FIELD"))) -> FIELD IS BLANK | N13: =IF(ISBLANK('Outsourcing Register'!N13),"OK","ERROR, PLEASE CHECK FIELD") -> OK | O13: =IF(ISBLANK('Outsourcing Register'!O13),"OK","ERROR, PLEASE CHECK FIELD") -> OK | P13: =IF(ISBLANK('Outsourcing Register'!P13),"OK","ERROR, PLEASE CHECK FIELD") -> OK | Q13: =IF(ISBLANK('Outsourcing Register'!Q13),"FIELD IS BLANK",IF(ISNA(VLOOKUP('Outsourcing Register'!Q13,'Drop-down Data'!$D$2:$D$5,1,0)),"ERROR, PLEASE CHECK FIELD","OK")) -> FIELD IS BLANK | R13: =IF(ISBLANK('Outsourcing Register'!R13),"FIELD IS BLANK",IF(ISNA(VLOOKUP('Outsourcing Register'!R13,'Drop-down Data'!$E$2:$E$3,1,0)),"ERROR, PLEASE CHECK FIELD","OK")) -> FIELD IS BLANK | S13: =IF(ISBLANK('Outsourcing Register'!S13),"FIELD IS BLANK","OK") -> FIELD IS BLANK | T13: =IF(ISBLANK('Outsourcing Register'!T13),"FIELD IS BLANK","OK") -> FIELD IS BLANK | U13: =IF(ISBLANK('Outsourcing Register'!U13),"FIELD IS BLANK","OK") -> FIELD IS BLANK | V13: =IF(ISBLANK('Outsourcing Register'!V13),"FIELD IS BLANK","OK") -> FIELD IS BLANK | W13: =IF(ISBLANK('Outsourcing Register'!W13),"FIELD IS BLANK",IF(ISNA(VLOOKUP('Outsourcing Register'!W13,'Drop-down Data'!$F$2:$F$3,1,0)),"ERROR, PLEASE CHECK FIELD","OK")) -> FIELD IS BLANK | X13: =IF(ISBLANK('Outsourcing Register'!X13),"FIELD IS BLANK",IF('Outsourcing Register'!X13<0,"ERROR","OK")) -> FIELD IS BLANK | Y13: =IF(ISBLANK('Outsourcing Register'!Y13),"FIELD IS BLANK","OK") -> FIELD IS BLANK | Z13: =IF(ISBLANK('Outsourcing Register'!Z13),"FIELD IS BLANK",IF(ISNA(VLOOKUP('Outsourcing Register'!Z13,'Drop-down Data'!$G$2:$G$6,1,0)),"ERROR, PLEASE CHECK FIELD","OK")) -> FIELD IS BLANK | AA13: =IF(ISBLANK('Outsourcing Register'!AA13),"FIELD IS BLANK","OK") -> FIELD IS BLANK | AB13: =IF(ISBLANK('Outsourcing Register'!AB13),"FIELD IS BLANK",IF('Outsourcing Register'!AB13="Yes","OK",IF('Outsourcing Register'!AB13="No (please elaborate in the Other Comments column)","OK","ERROR, PLEASE CHECK FIELD"))) -> FIELD IS BLANK | AC13: =IF(ISBLANK('Outsourcing Register'!AC13),"FIELD IS BLANK","OK") -> FIELD IS BLANK | AH13: =TRIM(MID(SUBSTITUTE('Outsourcing Register'!$N13,",",REPT(" ",99)),COLUMNS($A:F)*99-98,99))
A14: =IF(ISBLANK('Outsourcing Register'!A14),"FIELD IS BLANK","OK") -> FIELD IS BLANK | B14: =IF(ISBLANK('Outsourcing Register'!B14),"FIELD IS BLANK",IF(ISNA(VLOOKUP('Outsourcing Register'!B14,'Drop-down Data'!$A$2:$A$23,1,0)),"ERROR, PLEASE CHECK FIELD","OK")) -> FIELD IS BLANK | C14: =IF(ISBLANK('Outsourcing Register'!C14),"FIELD IS BLANK",IF('Outsourcing Register'!C14="Yes","OK",IF('Outsourcing Register'!C14="No","OK","ERROR, PLEASE CHECK FIELD"))) -> FIELD IS BLANK | D14: =IF(ISBLANK('Outsourcing Register'!D14),"FIELD IS BLANK","OK") -> FIELD IS BLANK | E14: =IF(ISBLANK('Outsourcing Register'!E14),"FIELD IS BLANK","OK") -> FIELD IS BLANK | F14: =IF(ISBLANK('Outsourcing Register'!F14),"FIELD IS BLANK","OK") -> FIELD IS BLANK | G14: =IF(ISBLANK('Outsourcing Register'!G14),"FIELD IS BLANK",IF(ISNA(VLOOKUP('Outsourcing Register'!G14,'Drop-down Data'!$B$2:$B$251,1,0)),"ERROR, PLEASE CHECK FIELD","OK")) -> FIELD IS BLANK | H14: =IF(ISBLANK('Outsourcing Register'!H14),"FIELD IS BLANK",IF('Outsourcing Register'!H14="Service provider","OK",IF('Outsourcing Register'!H14="Material sub-contractor","OK","ERROR, PLEASE CHECK FIELD"))) -> FIELD IS BLANK | I14: =IF(ISBLANK('Outsourcing Register'!I14),"FIELD IS BLANK",IF('Outsourcing Register'!I14="Intragroup","OK",IF('Outsourcing Register'!I14="Non-intragroup","OK","ERROR, PLEASE CHECK FIELD"))) -> FIELD IS BLANK | J14: =IF(ISBLANK('Outsourcing Register'!J14),"FIELD IS BLANK",IF('Outsourcing Register'!J14="Material","OK",IF('Outsourcing Register'!J14="Non-material","OK","ERROR, PLEASE CHECK FIELD"))) -> FIELD IS BLANK | K14: =IF(ISBLANK('Outsourcing Register'!K14),"FIELD IS BLANK","OK") -> FIELD IS BLANK | L14: =IF(ISBLANK('Outsourcing Register'!L14),"FIELD IS BLANK",IF('Outsourcing Register'!L14="Yes","OK",IF('Outsourcing Register'!L14="No","OK","ERROR, PLEASE CHECK FIELD"))) -> FIELD IS BLANK | M14: =IF(ISBLANK('Outsourcing Register'!M14),"FIELD IS BLANK",IF('Outsourcing Register'!M14="Yes","OK",IF('Outsourcing Register'!M14="No","OK","ERROR, PLEASE CHECK FIELD"))) -> FIELD IS BLANK | N14: =IF(ISBLANK('Outsourcing Register'!N14),"OK","ERROR, PLEASE CHECK FIELD") -> OK | O14: =IF(ISBLANK('Outsourcing Register'!O14),"OK","ERROR, PLEASE CHECK FIELD") -> OK | P14: =IF(ISBLANK('Outsourcing Register'!P14),"OK","ERROR, PLEASE CHECK FIELD") -> OK | Q14: =IF(ISBLANK('Outsourcing Register'!Q14),"FIELD IS BLANK",IF(ISNA(VLOOKUP('Outsourcing Register'!Q14,'Drop-down Data'!$D$2:$D$5,1,0)),"ERROR, PLEASE CHECK FIELD","OK")) -> FIELD IS BLANK | R14: =IF(ISBLANK('Outsourcing Register'!R14),"FIELD IS BLANK",IF(ISNA(VLOOKUP('Outsourcing Register'!R14,'Drop-down Data'!$E$2:$E$3,1,0)),"ERROR, PLEASE CHECK FIELD","OK")) -> FIELD IS BLANK | S14: =IF(ISBLANK('Outsourcing Register'!S14),"FIELD IS BLANK","OK") -> FIELD IS BLANK | T14: =IF(ISBLANK('Outsourcing Register'!T14),"FIELD IS BLANK","OK") -> FIELD IS BLANK | U14: =IF(ISBLANK('Outsourcing Register'!U14),"FIELD IS BLANK","OK") -> FIELD IS BLANK | V14: =IF(ISBLANK('Outsourcing Register'!V14),"FIELD IS BLANK","OK") -> FIELD IS BLANK | W14: =IF(ISBLANK('Outsourcing Register'!W14),"FIELD IS BLANK",IF(ISNA(VLOOKUP('Outsourcing Register'!W14,'Drop-down Data'!$F$2:$F$3,1,0)),"ERROR, PLEASE CHECK FIELD","OK")) -> FIELD IS BLANK | X14: =IF(ISBLANK('Outsourcing Register'!X14),"FIELD IS BLANK",IF('Outsourcing Register'!X14<0,"ERROR","OK")) -> FIELD IS BLANK | Y14: =IF(ISBLANK('Outsourcing Register'!Y14),"FIELD IS BLANK","OK") -> FIELD IS BLANK | Z14: =IF(ISBLANK('Outsourcing Register'!Z14),"FIELD IS BLANK",IF(ISNA(VLOOKUP('Outsourcing Register'!Z14,'Drop-down Data'!$G$2:$G$6,1,0)),"ERROR, PLEASE CHECK FIELD","OK")) -> FIELD IS BLANK | AA14: =IF(ISBLANK('Outsourcing Register'!AA14),"FIELD IS BLANK","OK") -> FIELD IS BLANK | AB14: =IF(ISBLANK('Outsourcing Register'!AB14),"FIELD IS BLANK",IF('Outsourcing Register'!AB14="Yes","OK",IF('Outsourcing Register'!AB14="No (please elaborate in the Other Comments column)","OK","ERROR, PLEASE CHECK FIELD"))) -> FIELD IS BLANK | AC14: =IF(ISBLANK('Outsourcing Register'!AC14),"FIELD IS BLANK","OK") -> FIELD IS BLANK | AH14: =TRIM(MID(SUBSTITUTE('Outsourcing Register'!$N14,",",REPT(" ",99)),COLUMNS($A:F)*99-98,99))
A15: =IF(ISBLANK('Outsourcing Register'!A15),"FIELD IS BLANK","OK") -> FIELD IS BLANK | B15: =IF(ISBLANK('Outsourcing Register'!B15),"FIELD IS BLANK",IF(ISNA(VLOOKUP('Outsourcing Register'!B15,'Drop-down Data'!$A$2:$A$23,1,0)),"ERROR, PLEASE CHECK FIELD","OK")) -> FIELD IS BLANK | C15: =IF(ISBLANK('Outsourcing Register'!C15),"FIELD IS BLANK",IF('Outsourcing Register'!C15="Yes","OK",IF('Outsourcing Register'!C15="No","OK","ERROR, PLEASE CHECK FIELD"))) -> FIELD IS BLANK | D15: =IF(ISBLANK('Outsourcing Register'!D15),"FIELD IS BLANK","OK") -> FIELD IS BLANK | E15: =IF(ISBLANK('Outsourcing Register'!E15),"FIELD IS BLANK","OK") -> FIELD IS BLANK | F15: =IF(ISBLANK('Outsourcing Register'!F15),"FIELD IS BLANK","OK") -> FIELD IS BLANK | G15: =IF(ISBLANK('Outsourcing Register'!G15),"FIELD IS BLANK",IF(ISNA(VLOOKUP('Outsourcing Register'!G15,'Drop-down Data'!$B$2:$B$251,1,0)),"ERROR, PLEASE CHECK FIELD","OK")) -> FIELD IS BLANK | H15: =IF(ISBLANK('Outsourcing Register'!H15),"FIELD IS BLANK",IF('Outsourcing Register'!H15="Service provider","OK",IF('Outsourcing Register'!H15="Material sub-contractor","OK","ERROR, PLEASE CHECK FIELD"))) -> FIELD IS BLANK | I15: =IF(ISBLANK('Outsourcing Register'!I15),"FIELD IS BLANK",IF('Outsourcing Register'!I15="Intragroup","OK",IF('Outsourcing Register'!I15="Non-intragroup","OK","ERROR, PLEASE CHECK FIELD"))) -> FIELD IS BLANK | J15: =IF(ISBLANK('Outsourcing Register'!J15),"FIELD IS BLANK",IF('Outsourcing Register'!J15="Material","OK",IF('Outsourcing Register'!J15="Non-material","OK","ERROR, PLEASE CHECK FIELD"))) -> FIELD IS BLANK | K15: =IF(ISBLANK('Outsourcing Register'!K15),"FIELD IS BLANK","OK") -> FIELD IS BLANK | L15: =IF(ISBLANK('Outsourcing Register'!L15),"FIELD IS BLANK",IF('Outsourcing Register'!L15="Yes","OK",IF('Outsourcing Register'!L15="No","OK","ERROR, PLEASE CHECK FIELD"))) -> FIELD IS BLANK | M15: =IF(ISBLANK('Outsourcing Register'!M15),"FIELD IS BLANK",IF('Outsourcing Register'!M15="Yes","OK",IF('Outsourcing Register'!M15="No","OK","ERROR, PLEASE CHECK FIELD"))) -> FIELD IS BLANK | N15: =IF(ISBLANK('Outsourcing Register'!N15),"OK","ERROR, PLEASE CHECK FIELD") -> OK | O15: =IF(ISBLANK('Outsourcing Register'!O15),"OK","ERROR, PLEASE CHECK FIELD") -> OK | P15: =IF(ISBLANK('Outsourcing Register'!P15),"OK","ERROR, PLEASE CHECK FIELD") -> OK | Q15: =IF(ISBLANK('Outsourcing Register'!Q15),"FIELD IS BLANK",IF(ISNA(VLOOKUP('Outsourcing Register'!Q15,'Drop-down Data'!$D$2:$D$5,1,0)),"ERROR, PLEASE CHECK FIELD","OK")) -> FIELD IS BLANK | R15: =IF(ISBLANK('Outsourcing Register'!R15),"FIELD IS BLANK",IF(ISNA(VLOOKUP('Outsourcing Register'!R15,'Drop-down Data'!$E$2:$E$3,1,0)),"ERROR, PLEASE CHECK FIELD","OK")) -> FIELD IS BLANK | S15: =IF(ISBLANK('Outsourcing Register'!S15),"FIELD IS BLANK","OK") -> FIELD IS BLANK | T15: =IF(ISBLANK('Outsourcing Register'!T15),"FIELD IS BLANK","OK") -> FIELD IS BLANK | U15: =IF(ISBLANK('Outsourcing Register'!U15),"FIELD IS BLANK","OK") -> FIELD IS BLANK | V15: =IF(ISBLANK('Outsourcing Register'!V15),"FIELD IS BLANK","OK") -> FIELD IS BLANK | W15: =IF(ISBLANK('Outsourcing Register'!W15),"FIELD IS BLANK",IF(ISNA(VLOOKUP('Outsourcing Register'!W15,'Drop-down Data'!$F$2:$F$3,1,0)),"ERROR, PLEASE CHECK FIELD","OK")) -> FIELD IS BLANK | X15: =IF(ISBLANK('Outsourcing Register'!X15),"FIELD IS BLANK",IF('Outsourcing Register'!X15<0,"ERROR","OK")) -> FIELD IS BLANK | Y15: =IF(ISBLANK('Outsourcing Register'!Y15),"FIELD IS BLANK","OK") -> FIELD IS BLANK | Z15: =IF(ISBLANK('Outsourcing Register'!Z15),"FIELD IS BLANK",IF(ISNA(VLOOKUP('Outsourcing Register'!Z15,'Drop-down Data'!$G$2:$G$6,1,0)),"ERROR, PLEASE CHECK FIELD","OK")) -> FIELD IS BLANK | AA15: =IF(ISBLANK('Outsourcing Register'!AA15),"FIELD IS BLANK","OK") -> FIELD IS BLANK | AB15: =IF(ISBLANK('Outsourcing Register'!AB15),"FIELD IS BLANK",IF('Outsourcing Register'!AB15="Yes","OK",IF('Outsourcing Register'!AB15="No (please elaborate in the Other Comments column)","OK","ERROR, PLEASE CHECK FIELD"))) -> FIELD IS BLANK | AC15: =IF(ISBLANK('Outsourcing Register'!AC15),"FIELD IS BLANK","OK") -> FIELD IS BLANK | AH15: =TRIM(MID(SUBSTITUTE('Outsourcing Register'!$N15,",",REPT(" ",99)),COLUMNS($A:F)*99-98,99))
A16: =IF(ISBLANK('Outsourcing Register'!A16),"FIELD IS BLANK","OK") -> FIELD IS BLANK | B16: =IF(ISBLANK('Outsourcing Register'!B16),"FIELD IS BLANK",IF(ISNA(VLOOKUP('Outsourcing Register'!B16,'Drop-down Data'!$A$2:$A$23,1,0)),"ERROR, PLEASE CHECK FIELD","OK")) -> FIELD IS BLANK | C16: =IF(ISBLANK('Outsourcing Register'!C16),"FIELD IS BLANK",IF('Outsourcing Register'!C16="Yes","OK",IF('Outsourcing Register'!C16="No","OK","ERROR, PLEASE CHECK FIELD"))) -> FIELD IS BLANK | D16: =IF(ISBLANK('Outsourcing Register'!D16),"FIELD IS BLANK","OK") -> FIELD IS BLANK | E16: =IF(ISBLANK('Outsourcing Register'!E16),"FIELD IS BLANK","OK") -> FIELD IS BLANK | F16: =IF(ISBLANK('Outsourcing Register'!F16),"FIELD IS BLANK","OK") -> FIELD IS BLANK | G16: =IF(ISBLANK('Outsourcing Register'!G16),"FIELD IS BLANK",IF(ISNA(VLOOKUP('Outsourcing Register'!G16,'Drop-down Data'!$B$2:$B$251,1,0)),"ERROR, PLEASE CHECK FIELD","OK")) -> FIELD IS BLANK | H16: =IF(ISBLANK('Outsourcing Register'!H16),"FIELD IS BLANK",IF('Outsourcing Register'!H16="Service provider","OK",IF('Outsourcing Register'!H16="Material sub-contractor","OK","ERROR, PLEASE CHECK FIELD"))) -> FIELD IS BLANK | I16: =IF(ISBLANK('Outsourcing Register'!I16),"FIELD IS BLANK",IF('Outsourcing Register'!I16="Intragroup","OK",IF('Outsourcing Register'!I16="Non-intragroup","OK","ERROR, PLEASE CHECK FIELD"))) -> FIELD IS BLANK | J16: =IF(ISBLANK('Outsourcing Register'!J16),"FIELD IS BLANK",IF('Outsourcing Register'!J16="Material","OK",IF('Outsourcing Register'!J16="Non-material","OK","ERROR, PLEASE CHECK FIELD"))) -> FIELD IS BLANK | K16: =IF(ISBLANK('Outsourcing Register'!K16),"FIELD IS BLANK","OK") -> FIELD IS BLANK | L16: =IF(ISBLANK('Outsourcing Register'!L16),"FIELD IS BLANK",IF('Outsourcing Register'!L16="Yes","OK",IF('Outsourcing Register'!L16="No","OK","ERROR, PLEASE CHECK FIELD"))) -> FIELD IS BLANK | M16: =IF(ISBLANK('Outsourcing Register'!M16),"FIELD IS BLANK",IF('Outsourcing Register'!M16="Yes","OK",IF('Outsourcing Register'!M16="No","OK","ERROR, PLEASE CHECK FIELD"))) -> FIELD IS BLANK | N16: =IF(ISBLANK('Outsourcing Register'!N16),"OK","ERROR, PLEASE CHECK FIELD") -> OK | O16: =IF(ISBLANK('Outsourcing Register'!O16),"OK","ERROR, PLEASE CHECK FIELD") -> OK | P16: =IF(ISBLANK('Outsourcing Register'!P16),"OK","ERROR, PLEASE CHECK FIELD") -> OK | Q16: =IF(ISBLANK('Outsourcing Register'!Q16),"FIELD IS BLANK",IF(ISNA(VLOOKUP('Outsourcing Register'!Q16,'Drop-down Data'!$D$2:$D$5,1,0)),"ERROR, PLEASE CHECK FIELD","OK")) -> FIELD IS BLANK | R16: =IF(ISBLANK('Outsourcing Register'!R16),"FIELD IS BLANK",IF(ISNA(VLOOKUP('Outsourcing Register'!R16,'Drop-down Data'!$E$2:$E$3,1,0)),"ERROR, PLEASE CHECK FIELD","OK")) -> FIELD IS BLANK | S16: =IF(ISBLANK('Outsourcing Register'!S16),"FIELD IS BLANK","OK") -> FIELD IS BLANK | T16: =IF(ISBLANK('Outsourcing Register'!T16),"FIELD IS BLANK","OK") -> FIELD IS BLANK | U16: =IF(ISBLANK('Outsourcing Register'!U16),"FIELD IS BLANK","OK") -> FIELD IS BLANK | V16: =IF(ISBLANK('Outsourcing Register'!V16),"FIELD IS BLANK","OK") -> FIELD IS BLANK | W16: =IF(ISBLANK('Outsourcing Register'!W16),"FIELD IS BLANK",IF(ISNA(VLOOKUP('Outsourcing Register'!W16,'Drop-down Data'!$F$2:$F$3,1,0)),"ERROR, PLEASE CHECK FIELD","OK")) -> FIELD IS BLANK | X16: =IF(ISBLANK('Outsourcing Register'!X16),"FIELD IS BLANK",IF('Outsourcing Register'!X16<0,"ERROR","OK")) -> FIELD IS BLANK | Y16: =IF(ISBLANK('Outsourcing Register'!Y16),"FIELD IS BLANK","OK") -> FIELD IS BLANK | Z16: =IF(ISBLANK('Outsourcing Register'!Z16),"FIELD IS BLANK",IF(ISNA(VLOOKUP('Outsourcing Register'!Z16,'Drop-down Data'!$G$2:$G$6,1,0)),"ERROR, PLEASE CHECK FIELD","OK")) -> FIELD IS BLANK | AA16: =IF(ISBLANK('Outsourcing Register'!AA16),"FIELD IS BLANK","OK") -> FIELD IS BLANK | AB16: =IF(ISBLANK('Outsourcing Register'!AB16),"FIELD IS BLANK",IF('Outsourcing Register'!AB16="Yes","OK",IF('Outsourcing Register'!AB16="No (please elaborate in the Other Comments column)","OK","ERROR, PLEASE CHECK FIELD"))) -> FIELD IS BLANK | AC16: =IF(ISBLANK('Outsourcing Register'!AC16),"FIELD IS BLANK","OK") -> FIELD IS BLANK | AH16: =TRIM(MID(SUBSTITUTE('Outsourcing Register'!$N16,",",REPT(" ",99)),COLUMNS($A:F)*99-98,99))
A17: =IF(ISBLANK('Outsourcing Register'!A17),"FIELD IS BLANK","OK") -> FIELD IS BLANK | B17: =IF(ISBLANK('Outsourcing Register'!B17),"FIELD IS BLANK",IF(ISNA(VLOOKUP('Outsourcing Register'!B17,'Drop-down Data'!$A$2:$A$23,1,0)),"ERROR, PLEASE CHECK FIELD","OK")) -> FIELD IS BLANK | C17: =IF(ISBLANK('Outsourcing Register'!C17),"FIELD IS BLANK",IF('Outsourcing Register'!C17="Yes","OK",IF('Outsourcing Register'!C17="No","OK","ERROR, PLEASE CHECK FIELD"))) -> FIELD IS BLANK | D17: =IF(ISBLANK('Outsourcing Register'!D17),"FIELD IS BLANK","OK") -> FIELD IS BLANK | E17: =IF(ISBLANK('Outsourcing Register'!E17),"FIELD IS BLANK","OK") -> FIELD IS BLANK | F17: =IF(ISBLANK('Outsourcing Register'!F17),"FIELD IS BLANK","OK") -> FIELD IS BLANK | G17: =IF(ISBLANK('Outsourcing Register'!G17),"FIELD IS BLANK",IF(ISNA(VLOOKUP('Outsourcing Register'!G17,'Drop-down Data'!$B$2:$B$251,1,0)),"ERROR, PLEASE CHECK FIELD","OK")) -> FIELD IS BLANK | H17: =IF(ISBLANK('Outsourcing Register'!H17),"FIELD IS BLANK",IF('Outsourcing Register'!H17="Service provider","OK",IF('Outsourcing Register'!H17="Material sub-contractor","OK","ERROR, PLEASE CHECK FIELD"))) -> FIELD IS BLANK | I17: =IF(ISBLANK('Outsourcing Register'!I17),"FIELD IS BLANK",IF('Outsourcing Register'!I17="Intragroup","OK",IF('Outsourcing Register'!I17="Non-intragroup","OK","ERROR, PLEASE CHECK FIELD"))) -> FIELD IS BLANK | J17: =IF(ISBLANK('Outsourcing Register'!J17),"FIELD IS BLANK",IF('Outsourcing Register'!J17="Material","OK",IF('Outsourcing Register'!J17="Non-material","OK","ERROR, PLEASE CHECK FIELD"))) -> FIELD IS BLANK | K17: =IF(ISBLANK('Outsourcing Register'!K17),"FIELD IS BLANK","OK") -> FIELD IS BLANK | L17: =IF(ISBLANK('Outsourcing Register'!L17),"FIELD IS BLANK",IF('Outsourcing Register'!L17="Yes","OK",IF('Outsourcing Register'!L17="No","OK","ERROR, PLEASE CHECK FIELD"))) -> FIELD IS BLANK | M17: =IF(ISBLANK('Outsourcing Register'!M17),"FIELD IS BLANK",IF('Outsourcing Register'!M17="Yes","OK",IF('Outsourcing Register'!M17="No","OK","ERROR, PLEASE CHECK FIELD"))) -> FIELD IS BLANK | N17: =IF(ISBLANK('Outsourcing Register'!N17),"OK","ERROR, PLEASE CHECK FIELD") -> OK | O17: =IF(ISBLANK('Outsourcing Register'!O17),"OK","ERROR, PLEASE CHECK FIELD") -> OK | P17: =IF(ISBLANK('Outsourcing Register'!P17),"OK","ERROR, PLEASE CHECK FIELD") -> OK | Q17: =IF(ISBLANK('Outsourcing Register'!Q17),"FIELD IS BLANK",IF(ISNA(VLOOKUP('Outsourcing Register'!Q17,'Drop-down Data'!$D$2:$D$5,1,0)),"ERROR, PLEASE CHECK FIELD","OK")) -> FIELD IS BLANK | R17: =IF(ISBLANK('Outsourcing Register'!R17),"FIELD IS BLANK",IF(ISNA(VLOOKUP('Outsourcing Register'!R17,'Drop-down Data'!$E$2:$E$3,1,0)),"ERROR, PLEASE CHECK FIELD","OK")) -> FIELD IS BLANK | S17: =IF(ISBLANK('Outsourcing Register'!S17),"FIELD IS BLANK","OK") -> FIELD IS BLANK | T17: =IF(ISBLANK('Outsourcing Register'!T17),"FIELD IS BLANK","OK") -> FIELD IS BLANK | U17: =IF(ISBLANK('Outsourcing Register'!U17),"FIELD IS BLANK","OK") -> FIELD IS BLANK | V17: =IF(ISBLANK('Outsourcing Register'!V17),"FIELD IS BLANK","OK") -> FIELD IS BLANK | W17: =IF(ISBLANK('Outsourcing Register'!W17),"FIELD IS BLANK",IF(ISNA(VLOOKUP('Outsourcing Register'!W17,'Drop-down Data'!$F$2:$F$3,1,0)),"ERROR, PLEASE CHECK FIELD","OK")) -> FIELD IS BLANK | X17: =IF(ISBLANK('Outsourcing Register'!X17),"FIELD IS BLANK",IF('Outsourcing Register'!X17<0,"ERROR","OK")) -> FIELD IS BLANK | Y17: =IF(ISBLANK('Outsourcing Register'!Y17),"FIELD IS BLANK","OK") -> FIELD IS BLANK | Z17: =IF(ISBLANK('Outsourcing Register'!Z17),"FIELD IS BLANK",IF(ISNA(VLOOKUP('Outsourcing Register'!Z17,'Drop-down Data'!$G$2:$G$6,1,0)),"ERROR, PLEASE CHECK FIELD","OK")) -> FIELD IS BLANK | AA17: =IF(ISBLANK('Outsourcing Register'!AA17),"FIELD IS BLANK","OK") -> FIELD IS BLANK | AB17: =IF(ISBLANK('Outsourcing Register'!AB17),"FIELD IS BLANK",IF('Outsourcing Register'!AB17="Yes","OK",IF('Outsourcing Register'!AB17="No (please elaborate in the Other Comments column)","OK","ERROR, PLEASE CHECK FIELD"))) -> FIELD IS BLANK | AC17: =IF(ISBLANK('Outsourcing Register'!AC17),"FIELD IS BLANK","OK") -> FIELD IS BLANK | AH17: =TRIM(MID(SUBSTITUTE('Outsourcing Register'!$N17,",",REPT(" ",99)),COLUMNS($A:F)*99-98,99))
A18: =IF(ISBLANK('Outsourcing Register'!A18),"FIELD IS BLANK","OK") -> FIELD IS BLANK | B18: =IF(ISBLANK('Outsourcing Register'!B18),"FIELD IS BLANK",IF(ISNA(VLOOKUP('Outsourcing Register'!B18,'Drop-down Data'!$A$2:$A$23,1,0)),"ERROR, PLEASE CHECK FIELD","OK")) -> FIELD IS BLANK | C18: =IF(ISBLANK('Outsourcing Register'!C18),"FIELD IS BLANK",IF('Outsourcing Register'!C18="Yes","OK",IF('Outsourcing Register'!C18="No","OK","ERROR, PLEASE CHECK FIELD"))) -> FIELD IS BLANK | D18: =IF(ISBLANK('Outsourcing Register'!D18),"FIELD IS BLANK","OK") -> FIELD IS BLANK | E18: =IF(ISBLANK('Outsourcing Register'!E18),"FIELD IS BLANK","OK") -> FIELD IS BLANK | F18: =IF(ISBLANK('Outsourcing Register'!F18),"FIELD IS BLANK","OK") -> FIELD IS BLANK | G18: =IF(ISBLANK('Outsourcing Register'!G18),"FIELD IS BLANK",IF(ISNA(VLOOKUP('Outsourcing Register'!G18,'Drop-down Data'!$B$2:$B$251,1,0)),"ERROR, PLEASE CHECK FIELD","OK")) -> FIELD IS BLANK | H18: =IF(ISBLANK('Outsourcing Register'!H18),"FIELD IS BLANK",IF('Outsourcing Register'!H18="Service provider","OK",IF('Outsourcing Register'!H18="Material sub-contractor","OK","ERROR, PLEASE CHECK FIELD"))) -> FIELD IS BLANK | I18: =IF(ISBLANK('Outsourcing Register'!I18),"FIELD IS BLANK",IF('Outsourcing Register'!I18="Intragroup","OK",IF('Outsourcing Register'!I18="Non-intragroup","OK","ERROR, PLEASE CHECK FIELD"))) -> FIELD IS BLANK | J18: =IF(ISBLANK('Outsourcing Register'!J18),"FIELD IS BLANK",IF('Outsourcing Register'!J18="Material","OK",IF('Outsourcing Register'!J18="Non-material","OK","ERROR, PLEASE CHECK FIELD"))) -> FIELD IS BLANK | K18: =IF(ISBLANK('Outsourcing Register'!K18),"FIELD IS BLANK","OK") -> FIELD IS BLANK | L18: =IF(ISBLANK('Outsourcing Register'!L18),"FIELD IS BLANK",IF('Outsourcing Register'!L18="Yes","OK",IF('Outsourcing Register'!L18="No","OK","ERROR, PLEASE CHECK FIELD"))) -> FIELD IS BLANK | M18: =IF(ISBLANK('Outsourcing Register'!M18),"FIELD IS BLANK",IF('Outsourcing Register'!M18="Yes","OK",IF('Outsourcing Register'!M18="No","OK","ERROR, PLEASE CHECK FIELD"))) -> FIELD IS BLANK | N18: =IF(ISBLANK('Outsourcing Register'!N18),"OK","ERROR, PLEASE CHECK FIELD") -> OK | O18: =IF(ISBLANK('Outsourcing Register'!O18),"OK","ERROR, PLEASE CHECK FIELD") -> OK | P18: =IF(ISBLANK('Outsourcing Register'!P18),"OK","ERROR, PLEASE CHECK FIELD") -> OK | Q18: =IF(ISBLANK('Outsourcing Register'!Q18),"FIELD IS BLANK",IF(ISNA(VLOOKUP('Outsourcing Register'!Q18,'Drop-down Data'!$D$2:$D$5,1,0)),"ERROR, PLEASE CHECK FIELD","OK")) -> FIELD IS BLANK | R18: =IF(ISBLANK('Outsourcing Register'!R18),"FIELD IS BLANK",IF(ISNA(VLOOKUP('Outsourcing Register'!R18,'Drop-down Data'!$E$2:$E$3,1,0)),"ERROR, PLEASE CHECK FIELD","OK")) -> FIELD IS BLANK | S18: =IF(ISBLANK('Outsourcing Register'!S18),"FIELD IS BLANK","OK") -> FIELD IS BLANK | T18: =IF(ISBLANK('Outsourcing Register'!T18),"FIELD IS BLANK","OK") -> FIELD IS BLANK | U18: =IF(ISBLANK('Outsourcing Register'!U18),"FIELD IS BLANK","OK") -> FIELD IS BLANK | V18: =IF(ISBLANK('Outsourcing Register'!V18),"FIELD IS BLANK","OK") -> FIELD IS BLANK | W18: =IF(ISBLANK('Outsourcing Register'!W18),"FIELD IS BLANK",IF(ISNA(VLOOKUP('Outsourcing Register'!W18,'Drop-down Data'!$F$2:$F$3,1,0)),"ERROR, PLEASE CHECK FIELD","OK")) -> FIELD IS BLANK | X18: =IF(ISBLANK('Outsourcing Register'!X18),"FIELD IS BLANK",IF('Outsourcing Register'!X18<0,"ERROR","OK")) -> FIELD IS BLANK | Y18: =IF(ISBLANK('Outsourcing Register'!Y18),"FIELD IS BLANK","OK") -> FIELD IS BLANK | Z18: =IF(ISBLANK('Outsourcing Register'!Z18),"FIELD IS BLANK",IF(ISNA(VLOOKUP('Outsourcing Register'!Z18,'Drop-down Data'!$G$2:$G$6,1,0)),"ERROR, PLEASE CHECK FIELD","OK")) -> FIELD IS BLANK | AA18: =IF(ISBLANK('Outsourcing Register'!AA18),"FIELD IS BLANK","OK") -> FIELD IS BLANK | AB18: =IF(ISBLANK('Outsourcing Register'!AB18),"FIELD IS BLANK",IF('Outsourcing Register'!AB18="Yes","OK",IF('Outsourcing Register'!AB18="No (please elaborate in the Other Comments column)","OK","ERROR, PLEASE CHECK FIELD"))) -> FIELD IS BLANK | AC18: =IF(ISBLANK('Outsourcing Register'!AC18),"FIELD IS BLANK","OK") -> FIELD IS BLANK | AH18: =TRIM(MID(SUBSTITUTE('Outsourcing Register'!$N18,",",REPT(" ",99)),COLUMNS($A:F)*99-98,99))
A19: =IF(ISBLANK('Outsourcing Register'!A19),"FIELD IS BLANK","OK") -> FIELD IS BLANK | B19: =IF(ISBLANK('Outsourcing Register'!B19),"FIELD IS BLANK",IF(ISNA(VLOOKUP('Outsourcing Register'!B19,'Drop-down Data'!$A$2:$A$23,1,0)),"ERROR, PLEASE CHECK FIELD","OK")) -> FIELD IS BLANK | C19: =IF(ISBLANK('Outsourcing Register'!C19),"FIELD IS BLANK",IF('Outsourcing Register'!C19="Yes","OK",IF('Outsourcing Register'!C19="No","OK","ERROR, PLEASE CHECK FIELD"))) -> FIELD IS BLANK | D19: =IF(ISBLANK('Outsourcing Register'!D19),"FIELD IS BLANK","OK") -> FIELD IS BLANK | E19: =IF(ISBLANK('Outsourcing Register'!E19),"FIELD IS BLANK","OK") -> FIELD IS BLANK | F19: =IF(ISBLANK('Outsourcing Register'!F19),"FIELD IS BLANK","OK") -> FIELD IS BLANK | G19: =IF(ISBLANK('Outsourcing Register'!G19),"FIELD IS BLANK",IF(ISNA(VLOOKUP('Outsourcing Register'!G19,'Drop-down Data'!$B$2:$B$251,1,0)),"ERROR, PLEASE CHECK FIELD","OK")) -> FIELD IS BLANK | H19: =IF(ISBLANK('Outsourcing Register'!H19),"FIELD IS BLANK",IF('Outsourcing Register'!H19="Service provider","OK",IF('Outsourcing Register'!H19="Material sub-contractor","OK","ERROR, PLEASE CHECK FIELD"))) -> FIELD IS BLANK | I19: =IF(ISBLANK('Outsourcing Register'!I19),"FIELD IS BLANK",IF('Outsourcing Register'!I19="Intragroup","OK",IF('Outsourcing Register'!I19="Non-intragroup","OK","ERROR, PLEASE CHECK FIELD"))) -> FIELD IS BLANK | J19: =IF(ISBLANK('Outsourcing Register'!J19),"FIELD IS BLANK",IF('Outsourcing Register'!J19="Material","OK",IF('Outsourcing Register'!J19="Non-material","OK","ERROR, PLEASE CHECK FIELD"))) -> FIELD IS BLANK | K19: =IF(ISBLANK('Outsourcing Register'!K19),"FIELD IS BLANK","OK") -> FIELD IS BLANK | L19: =IF(ISBLANK('Outsourcing Register'!L19),"FIELD IS BLANK",IF('Outsourcing Register'!L19="Yes","OK",IF('Outsourcing Register'!L19="No","OK","ERROR, PLEASE CHECK FIELD"))) -> FIELD IS BLANK | M19: =IF(ISBLANK('Outsourcing Register'!M19),"FIELD IS BLANK",IF('Outsourcing Register'!M19="Yes","OK",IF('Outsourcing Register'!M19="No","OK","ERROR, PLEASE CHECK FIELD"))) -> FIELD IS BLANK | N19: =IF(ISBLANK('Outsourcing Register'!N19),"OK","ERROR, PLEASE CHECK FIELD") -> OK | O19: =IF(ISBLANK('Outsourcing Register'!O19),"OK","ERROR, PLEASE CHECK FIELD") -> OK | P19: =IF(ISBLANK('Outsourcing Register'!P19),"OK","ERROR, PLEASE CHECK FIELD") -> OK | Q19: =IF(ISBLANK('Outsourcing Register'!Q19),"FIELD IS BLANK",IF(ISNA(VLOOKUP('Outsourcing Register'!Q19,'Drop-down Data'!$D$2:$D$5,1,0)),"ERROR, PLEASE CHECK FIELD","OK")) -> FIELD IS BLANK | R19: =IF(ISBLANK('Outsourcing Register'!R19),"FIELD IS BLANK",IF(ISNA(VLOOKUP('Outsourcing Register'!R19,'Drop-down Data'!$E$2:$E$3,1,0)),"ERROR, PLEASE CHECK FIELD","OK")) -> FIELD IS BLANK | S19: =IF(ISBLANK('Outsourcing Register'!S19),"FIELD IS BLANK","OK") -> FIELD IS BLANK | T19: =IF(ISBLANK('Outsourcing Register'!T19),"FIELD IS BLANK","OK") -> FIELD IS BLANK | U19: =IF(ISBLANK('Outsourcing Register'!U19),"FIELD IS BLANK","OK") -> FIELD IS BLANK | V19: =IF(ISBLANK('Outsourcing Register'!V19),"FIELD IS BLANK","OK") -> FIELD IS BLANK | W19: =IF(ISBLANK('Outsourcing Register'!W19),"FIELD IS BLANK",IF(ISNA(VLOOKUP('Outsourcing Register'!W19,'Drop-down Data'!$F$2:$F$3,1,0)),"ERROR, PLEASE CHECK FIELD","OK")) -> FIELD IS BLANK | X19: =IF(ISBLANK('Outsourcing Register'!X19),"FIELD IS BLANK",IF('Outsourcing Register'!X19<0,"ERROR","OK")) -> FIELD IS BLANK | Y19: =IF(ISBLANK('Outsourcing Register'!Y19),"FIELD IS BLANK","OK") -> FIELD IS BLANK | Z19: =IF(ISBLANK('Outsourcing Register'!Z19),"FIELD IS BLANK",IF(ISNA(VLOOKUP('Outsourcing Register'!Z19,'Drop-down Data'!$G$2:$G$6,1,0)),"ERROR, PLEASE CHECK FIELD","OK")) -> FIELD IS BLANK | AA19: =IF(ISBLANK('Outsourcing Register'!AA19),"FIELD IS BLANK","OK") -> FIELD IS BLANK | AB19: =IF(ISBLANK('Outsourcing Register'!AB19),"FIELD IS BLANK",IF('Outsourcing Register'!AB19="Yes","OK",IF('Outsourcing Register'!AB19="No (please elaborate in the Other Comments column)","OK","ERROR, PLEASE CHECK FIELD"))) -> FIELD IS BLANK | AC19: =IF(ISBLANK('Outsourcing Register'!AC19),"FIELD IS BLANK","OK") -> FIELD IS BLANK | AH19: =TRIM(MID(SUBSTITUTE('Outsourcing Register'!$N19,",",REPT(" ",99)),COLUMNS($A:F)*99-98,99))
... A1202: =IF(ISBLANK('Outsourcing Register'!A1202),"FIELD IS BLANK","OK") -> FIELD IS BLANK | B1202: =IF(ISBLANK('Outsourcing Register'!B1202),"FIELD IS BLANK",IF(ISNA(VLOOKUP('Outsourcing Register'!B1202,'Drop-down Data'!$A$2:$A$23,1,0)),"ERROR, PLEASE CHECK FIELD","OK")) -> FIELD IS BLANK | C1202: =IF(ISBLANK('Outsourcing Register'!C1202),"FIELD IS BLANK",IF('Outsourcing Register'!C1202="Yes","OK",IF('Outsourcing Register'!C1202="No","OK","ERROR, PLEASE CHECK FIELD"))) -> FIELD IS BLANK | D1202: =IF(ISBLANK('Outsourcing Register'!D1202),"FIELD IS BLANK","OK") -> FIELD IS BLANK | E1202: =IF(ISBLANK('Outsourcing Register'!E1202),"FIELD IS BLANK","OK") -> FIELD IS BLANK | F1202: =IF(ISBLANK('Outsourcing Register'!F1202),"FIELD IS BLANK","OK") -> FIELD IS BLANK | G1202: =IF(ISBLANK('Outsourcing Register'!G1202),"FIELD IS BLANK",IF(ISNA(VLOOKUP('Outsourcing Register'!G1202,'Drop-down Data'!$B$2:$B$251,1,0)),"ERROR, PLEASE CHECK FIELD","OK")) -> FIELD IS BLANK | H1202: =IF(ISBLANK('Outsourcing Register'!H1202),"FIELD IS BLANK",IF('Outsourcing Register'!H1202="Service provider","OK",IF('Outsourcing Register'!H1202="Material sub-contractor","OK","ERROR, PLEASE CHECK FIELD"))) -> FIELD IS BLANK | I1202: =IF(ISBLANK('Outsourcing Register'!I1202),"FIELD IS BLANK",IF('Outsourcing Register'!I1202="Intragroup","OK",IF('Outsourcing Register'!I1202="Non-intragroup","OK","ERROR, PLEASE CHECK FIELD"))) -> FIELD IS BLANK | J1202: =IF(ISBLANK('Outsourcing Register'!J1202),"FIELD IS BLANK",IF('Outsourcing Register'!J1202="Material","OK",IF('Outsourcing Register'!J1202="Non-material","OK","ERROR, PLEASE CHECK FIELD"))) -> FIELD IS BLANK | K1202: =IF(ISBLANK('Outsourcing Register'!K1202),"FIELD IS BLANK","OK") -> FIELD IS BLANK | L1202: =IF(ISBLANK('Outsourcing Register'!L1202),"FIELD IS BLANK",IF('Outsourcing Register'!L1202="Yes","OK",IF('Outsourcing Register'!L1202="No","OK","ERROR, PLEASE CHECK FIELD"))) -> FIELD IS BLANK | M1202: =IF(ISBLANK('Outsourcing Register'!M1202),"FIELD IS BLANK",IF('Outsourcing Register'!M1202="Yes","OK",IF('Outsourcing Register'!M1202="No","OK","ERROR, PLEASE CHECK FIELD"))) -> FIELD IS BLANK | N1202: =IF(ISBLANK('Outsourcing Register'!N1202),"OK","ERROR, PLEASE CHECK FIELD") -> OK | O1202: =IF(ISBLANK('Outsourcing Register'!O1202),"OK","ERROR, PLEASE CHECK FIELD") -> OK | P1202: =IF(ISBLANK('Outsourcing Register'!P1202),"OK","ERROR, PLEASE CHECK FIELD") -> OK | Q1202: =IF(ISBLANK('Outsourcing Register'!Q1202),"FIELD IS BLANK",IF(ISNA(VLOOKUP('Outsourcing Register'!Q1202,'Drop-down Data'!$D$2:$D$5,1,0)),"ERROR, PLEASE CHECK FIELD","OK")) -> FIELD IS BLANK | R1202: =IF(ISBLANK('Outsourcing Register'!R1202),"FIELD IS BLANK",IF(ISNA(VLOOKUP('Outsourcing Register'!R1202,'Drop-down Data'!$E$2:$E$3,1,0)),"ERROR, PLEASE CHECK FIELD","OK")) -> FIELD IS BLANK | S1202: =IF(ISBLANK('Outsourcing Register'!S1202),"FIELD IS BLANK","OK") -> FIELD IS BLANK | T1202: =IF(ISBLANK('Outsourcing Register'!T1202),"FIELD IS BLANK","OK") -> FIELD IS BLANK | U1202: =IF(ISBLANK('Outsourcing Register'!U1202),"FIELD IS BLANK","OK") -> FIELD IS BLANK | V1202: =IF(ISBLANK('Outsourcing Register'!V1202),"FIELD IS BLANK","OK") -> FIELD IS BLANK | W1202: =IF(ISBLANK('Outsourcing Register'!W1202),"FIELD IS BLANK",IF(ISNA(VLOOKUP('Outsourcing Register'!W1202,'Drop-down Data'!$F$2:$F$3,1,0)),"ERROR, PLEASE CHECK FIELD","OK")) -> FIELD IS BLANK | X1202: =IF(ISBLANK('Outsourcing Register'!X1202),"FIELD IS BLANK",IF('Outsourcing Register'!X1202<0,"ERROR","OK")) -> FIELD IS BLANK | Y1202: =IF(ISBLANK('Outsourcing Register'!Y1202),"FIELD IS BLANK","OK") -> FIELD IS BLANK | Z1202: =IF(ISBLANK('Outsourcing Register'!Z1202),"FIELD IS BLANK",IF(ISNA(VLOOKUP('Outsourcing Register'!Z1202,'Drop-down Data'!$G$2:$G$6,1,0)),"ERROR, PLEASE CHECK FIELD","OK")) -> FIELD IS BLANK | AA1202: =IF(ISBLANK('Outsourcing Register'!AA1202),"FIELD IS BLANK","OK") -> FIELD IS BLANK | AB1202: =IF(ISBLANK('Outsourcing Register'!AB1202),"FIELD IS BLANK",IF('Outsourcing Register'!AB1202="Yes","OK",IF('Outsourcing Register'!AB1202="No (please elaborate in the Other Comments column)","OK","ERROR, PLEASE CHECK FIELD"))) -> FIELD IS BLANK | AC1202: =IF(ISBLANK('Outsourcing Register'!AC1202),"FIELD IS BLANK","OK") -> FIELD IS BLANK | AH1202: =TRIM(MID(SUBSTITUTE('Outsourcing Register'!$N1202,",",REPT(" ",99)),COLUMNS($A:F)*99-98,99))
A1203: =IF(ISBLANK('Outsourcing Register'!A1203),"FIELD IS BLANK","OK") -> FIELD IS BLANK | B1203: =IF(ISBLANK('Outsourcing Register'!B1203),"FIELD IS BLANK",IF(ISNA(VLOOKUP('Outsourcing Register'!B1203,'Drop-down Data'!$A$2:$A$23,1,0)),"ERROR, PLEASE CHECK FIELD","OK")) -> FIELD IS BLANK | C1203: =IF(ISBLANK('Outsourcing Register'!C1203),"FIELD IS BLANK",IF('Outsourcing Register'!C1203="Yes","OK",IF('Outsourcing Register'!C1203="No","OK","ERROR, PLEASE CHECK FIELD"))) -> FIELD IS BLANK | D1203: =IF(ISBLANK('Outsourcing Register'!D1203),"FIELD IS BLANK","OK") -> FIELD IS BLANK | E1203: =IF(ISBLANK('Outsourcing Register'!E1203),"FIELD IS BLANK","OK") -> FIELD IS BLANK | F1203: =IF(ISBLANK('Outsourcing Register'!F1203),"FIELD IS BLANK","OK") -> FIELD IS BLANK | G1203: =IF(ISBLANK('Outsourcing Register'!G1203),"FIELD IS BLANK",IF(ISNA(VLOOKUP('Outsourcing Register'!G1203,'Drop-down Data'!$B$2:$B$251,1,0)),"ERROR, PLEASE CHECK FIELD","OK")) -> FIELD IS BLANK | H1203: =IF(ISBLANK('Outsourcing Register'!H1203),"FIELD IS BLANK",IF('Outsourcing Register'!H1203="Service provider","OK",IF('Outsourcing Register'!H1203="Material sub-contractor","OK","ERROR, PLEASE CHECK FIELD"))) -> FIELD IS BLANK | I1203: =IF(ISBLANK('Outsourcing Register'!I1203),"FIELD IS BLANK",IF('Outsourcing Register'!I1203="Intragroup","OK",IF('Outsourcing Register'!I1203="Non-intragroup","OK","ERROR, PLEASE CHECK FIELD"))) -> FIELD IS BLANK | J1203: =IF(ISBLANK('Outsourcing Register'!J1203),"FIELD IS BLANK",IF('Outsourcing Register'!J1203="Material","OK",IF('Outsourcing Register'!J1203="Non-material","OK","ERROR, PLEASE CHECK FIELD"))) -> FIELD IS BLANK | K1203: =IF(ISBLANK('Outsourcing Register'!K1203),"FIELD IS BLANK","OK") -> FIELD IS BLANK | L1203: =IF(ISBLANK('Outsourcing Register'!L1203),"FIELD IS BLANK",IF('Outsourcing Register'!L1203="Yes","OK",IF('Outsourcing Register'!L1203="No","OK","ERROR, PLEASE CHECK FIELD"))) -> FIELD IS BLANK | M1203: =IF(ISBLANK('Outsourcing Register'!M1203),"FIELD IS BLANK",IF('Outsourcing Register'!M1203="Yes","OK",IF('Outsourcing Register'!M1203="No","OK","ERROR, PLEASE CHECK FIELD"))) -> FIELD IS BLANK | N1203: =IF(ISBLANK('Outsourcing Register'!N1203),"OK","ERROR, PLEASE CHECK FIELD") -> OK | O1203: =IF(ISBLANK('Outsourcing Register'!O1203),"OK","ERROR, PLEASE CHECK FIELD") -> OK | P1203: =IF(ISBLANK('Outsourcing Register'!P1203),"OK","ERROR, PLEASE CHECK FIELD") -> OK | Q1203: =IF(ISBLANK('Outsourcing Register'!Q1203),"FIELD IS BLANK",IF(ISNA(VLOOKUP('Outsourcing Register'!Q1203,'Drop-down Data'!$D$2:$D$5,1,0)),"ERROR, PLEASE CHECK FIELD","OK")) -> FIELD IS BLANK | R1203: =IF(ISBLANK('Outsourcing Register'!R1203),"FIELD IS BLANK",IF(ISNA(VLOOKUP('Outsourcing Register'!R1203,'Drop-down Data'!$E$2:$E$3,1,0)),"ERROR, PLEASE CHECK FIELD","OK")) -> FIELD IS BLANK | S1203: =IF(ISBLANK('Outsourcing Register'!S1203),"FIELD IS BLANK","OK") -> FIELD IS BLANK | T1203: =IF(ISBLANK('Outsourcing Register'!T1203),"FIELD IS BLANK","OK") -> FIELD IS BLANK | U1203: =IF(ISBLANK('Outsourcing Register'!U1203),"FIELD IS BLANK","OK") -> FIELD IS BLANK | V1203: =IF(ISBLANK('Outsourcing Register'!V1203),"FIELD IS BLANK","OK") -> FIELD IS BLANK | W1203: =IF(ISBLANK('Outsourcing Register'!W1203),"FIELD IS BLANK",IF(ISNA(VLOOKUP('Outsourcing Register'!W1203,'Drop-down Data'!$F$2:$F$3,1,0)),"ERROR, PLEASE CHECK FIELD","OK")) -> FIELD IS BLANK | X1203: =IF(ISBLANK('Outsourcing Register'!X1203),"FIELD IS BLANK",IF('Outsourcing Register'!X1203<0,"ERROR","OK")) -> FIELD IS BLANK | Y1203: =IF(ISBLANK('Outsourcing Register'!Y1203),"FIELD IS BLANK","OK") -> FIELD IS BLANK | Z1203: =IF(ISBLANK('Outsourcing Register'!Z1203),"FIELD IS BLANK",IF(ISNA(VLOOKUP('Outsourcing Register'!Z1203,'Drop-down Data'!$G$2:$G$6,1,0)),"ERROR, PLEASE CHECK FIELD","OK")) -> FIELD IS BLANK | AA1203: =IF(ISBLANK('Outsourcing Register'!AA1203),"FIELD IS BLANK","OK") -> FIELD IS BLANK | AB1203: =IF(ISBLANK('Outsourcing Register'!AB1203),"FIELD IS BLANK",IF('Outsourcing Register'!AB1203="Yes","OK",IF('Outsourcing Register'!AB1203="No (please elaborate in the Other Comments column)","OK","ERROR, PLEASE CHECK FIELD"))) -> FIELD IS BLANK | AC1203: =IF(ISBLANK('Outsourcing Register'!AC1203),"FIELD IS BLANK","OK") -> FIELD IS BLANK
A1204: =IF(ISBLANK('Outsourcing Register'!A1204),"FIELD IS BLANK","OK") -> FIELD IS BLANK | B1204: =IF(ISBLANK('Outsourcing Register'!B1204),"FIELD IS BLANK",IF(ISNA(VLOOKUP('Outsourcing Register'!B1204,'Drop-down Data'!$A$2:$A$23,1,0)),"ERROR, PLEASE CHECK FIELD","OK")) -> FIELD IS BLANK | C1204: =IF(ISBLANK('Outsourcing Register'!C1204),"FIELD IS BLANK",IF('Outsourcing Register'!C1204="Yes","OK",IF('Outsourcing Register'!C1204="No","OK","ERROR, PLEASE CHECK FIELD"))) -> FIELD IS BLANK | D1204: =IF(ISBLANK('Outsourcing Register'!D1204),"FIELD IS BLANK","OK") -> FIELD IS BLANK | E1204: =IF(ISBLANK('Outsourcing Register'!E1204),"FIELD IS BLANK","OK") -> FIELD IS BLANK | F1204: =IF(ISBLANK('Outsourcing Register'!F1204),"FIELD IS BLANK","OK") -> FIELD IS BLANK | G1204: =IF(ISBLANK('Outsourcing Register'!G1204),"FIELD IS BLANK",IF(ISNA(VLOOKUP('Outsourcing Register'!G1204,'Drop-down Data'!$B$2:$B$251,1,0)),"ERROR, PLEASE CHECK FIELD","OK")) -> FIELD IS BLANK | H1204: =IF(ISBLANK('Outsourcing Register'!H1204),"FIELD IS BLANK",IF('Outsourcing Register'!H1204="Service provider","OK",IF('Outsourcing Register'!H1204="Material sub-contractor","OK","ERROR, PLEASE CHECK FIELD"))) -> FIELD IS BLANK | I1204: =IF(ISBLANK('Outsourcing Register'!I1204),"FIELD IS BLANK",IF('Outsourcing Register'!I1204="Intragroup","OK",IF('Outsourcing Register'!I1204="Non-intragroup","OK","ERROR, PLEASE CHECK FIELD"))) -> FIELD IS BLANK | J1204: =IF(ISBLANK('Outsourcing Register'!J1204),"FIELD IS BLANK",IF('Outsourcing Register'!J1204="Material","OK",IF('Outsourcing Register'!J1204="Non-material","OK","ERROR, PLEASE CHECK FIELD"))) -> FIELD IS BLANK | K1204: =IF(ISBLANK('Outsourcing Register'!K1204),"FIELD IS BLANK","OK") -> FIELD IS BLANK | L1204: =IF(ISBLANK('Outsourcing Register'!L1204),"FIELD IS BLANK",IF('Outsourcing Register'!L1204="Yes","OK",IF('Outsourcing Register'!L1204="No","OK","ERROR, PLEASE CHECK FIELD"))) -> FIELD IS BLANK | M1204: =IF(ISBLANK('Outsourcing Register'!M1204),"FIELD IS BLANK",IF('Outsourcing Register'!M1204="Yes","OK",IF('Outsourcing Register'!M1204="No","OK","ERROR, PLEASE CHECK FIELD"))) -> FIELD IS BLANK | N1204: =IF(ISBLANK('Outsourcing Register'!N1204),"OK","ERROR, PLEASE CHECK FIELD") -> OK | O1204: =IF(ISBLANK('Outsourcing Register'!O1204),"OK","ERROR, PLEASE CHECK FIELD") -> OK | P1204: =IF(ISBLANK('Outsourcing Register'!P1204),"OK","ERROR, PLEASE CHECK FIELD") -> OK | Q1204: =IF(ISBLANK('Outsourcing Register'!Q1204),"FIELD IS BLANK",IF(ISNA(VLOOKUP('Outsourcing Register'!Q1204,'Drop-down Data'!$D$2:$D$5,1,0)),"ERROR, PLEASE CHECK FIELD","OK")) -> FIELD IS BLANK | R1204: =IF(ISBLANK('Outsourcing Register'!R1204),"FIELD IS BLANK",IF(ISNA(VLOOKUP('Outsourcing Register'!R1204,'Drop-down Data'!$E$2:$E$3,1,0)),"ERROR, PLEASE CHECK FIELD","OK")) -> FIELD IS BLANK | S1204: =IF(ISBLANK('Outsourcing Register'!S1204),"FIELD IS BLANK","OK") -> FIELD IS BLANK | T1204: =IF(ISBLANK('Outsourcing Register'!T1204),"FIELD IS BLANK","OK") -> FIELD IS BLANK | U1204: =IF(ISBLANK('Outsourcing Register'!U1204),"FIELD IS BLANK","OK") -> FIELD IS BLANK | V1204: =IF(ISBLANK('Outsourcing Register'!V1204),"FIELD IS BLANK","OK") -> FIELD IS BLANK | W1204: =IF(ISBLANK('Outsourcing Register'!W1204),"FIELD IS BLANK",IF(ISNA(VLOOKUP('Outsourcing Register'!W1204,'Drop-down Data'!$F$2:$F$3,1,0)),"ERROR, PLEASE CHECK FIELD","OK")) -> FIELD IS BLANK | X1204: =IF(ISBLANK('Outsourcing Register'!X1204),"FIELD IS BLANK",IF('Outsourcing Register'!X1204<0,"ERROR","OK")) -> FIELD IS BLANK | Y1204: =IF(ISBLANK('Outsourcing Register'!Y1204),"FIELD IS BLANK","OK") -> FIELD IS BLANK | Z1204: =IF(ISBLANK('Outsourcing Register'!Z1204),"FIELD IS BLANK",IF(ISNA(VLOOKUP('Outsourcing Register'!Z1204,'Drop-down Data'!$G$2:$G$6,1,0)),"ERROR, PLEASE CHECK FIELD","OK")) -> FIELD IS BLANK | AA1204: =IF(ISBLANK('Outsourcing Register'!AA1204),"FIELD IS BLANK","OK") -> FIELD IS BLANK | AB1204: =IF(ISBLANK('Outsourcing Register'!AB1204),"FIELD IS BLANK",IF('Outsourcing Register'!AB1204="Yes","OK",IF('Outsourcing Register'!AB1204="No (please elaborate in the Other Comments column)","OK","ERROR, PLEASE CHECK FIELD"))) -> FIELD IS BLANK | AC1204: =IF(ISBLANK('Outsourcing Register'!AC1204),"FIELD IS BLANK","OK") -> FIELD IS BLANK
A1205: =IF(ISBLANK('Outsourcing Register'!A1205),"FIELD IS BLANK","OK") -> FIELD IS BLANK | B1205: =IF(ISBLANK('Outsourcing Register'!B1205),"FIELD IS BLANK",IF(ISNA(VLOOKUP('Outsourcing Register'!B1205,'Drop-down Data'!$A$2:$A$23,1,0)),"ERROR, PLEASE CHECK FIELD","OK")) -> FIELD IS BLANK | C1205: =IF(ISBLANK('Outsourcing Register'!C1205),"FIELD IS BLANK",IF('Outsourcing Register'!C1205="Yes","OK",IF('Outsourcing Register'!C1205="No","OK","ERROR, PLEASE CHECK FIELD"))) -> FIELD IS BLANK | D1205: =IF(ISBLANK('Outsourcing Register'!D1205),"FIELD IS BLANK","OK") -> FIELD IS BLANK | E1205: =IF(ISBLANK('Outsourcing Register'!E1205),"FIELD IS BLANK","OK") -> FIELD IS BLANK | F1205: =IF(ISBLANK('Outsourcing Register'!F1205),"FIELD IS BLANK","OK") -> FIELD IS BLANK | G1205: =IF(ISBLANK('Outsourcing Register'!G1205),"FIELD IS BLANK",IF(ISNA(VLOOKUP('Outsourcing Register'!G1205,'Drop-down Data'!$B$2:$B$251,1,0)),"ERROR, PLEASE CHECK FIELD","OK")) -> FIELD IS BLANK | H1205: =IF(ISBLANK('Outsourcing Register'!H1205),"FIELD IS BLANK",IF('Outsourcing Register'!H1205="Service provider","OK",IF('Outsourcing Register'!H1205="Material sub-contractor","OK","ERROR, PLEASE CHECK FIELD"))) -> FIELD IS BLANK | I1205: =IF(ISBLANK('Outsourcing Register'!I1205),"FIELD IS BLANK",IF('Outsourcing Register'!I1205="Intragroup","OK",IF('Outsourcing Register'!I1205="Non-intragroup","OK","ERROR, PLEASE CHECK FIELD"))) -> FIELD IS BLANK | J1205: =IF(ISBLANK('Outsourcing Register'!J1205),"FIELD IS BLANK",IF('Outsourcing Register'!J1205="Material","OK",IF('Outsourcing Register'!J1205="Non-material","OK","ERROR, PLEASE CHECK FIELD"))) -> FIELD IS BLANK | K1205: =IF(ISBLANK('Outsourcing Register'!K1205),"FIELD IS BLANK","OK") -> FIELD IS BLANK | L1205: =IF(ISBLANK('Outsourcing Register'!L1205),"FIELD IS BLANK",IF('Outsourcing Register'!L1205="Yes","OK",IF('Outsourcing Register'!L1205="No","OK","ERROR, PLEASE CHECK FIELD"))) -> FIELD IS BLANK | M1205: =IF(ISBLANK('Outsourcing Register'!M1205),"FIELD IS BLANK",IF('Outsourcing Register'!M1205="Yes","OK",IF('Outsourcing Register'!M1205="No","OK","ERROR, PLEASE CHECK FIELD"))) -> FIELD IS BLANK | N1205: =IF(ISBLANK('Outsourcing Register'!N1205),"OK","ERROR, PLEASE CHECK FIELD") -> OK | O1205: =IF(ISBLANK('Outsourcing Register'!O1205),"OK","ERROR, PLEASE CHECK FIELD") -> OK | P1205: =IF(ISBLANK('Outsourcing Register'!P1205),"OK","ERROR, PLEASE CHECK FIELD") -> OK | Q1205: =IF(ISBLANK('Outsourcing Register'!Q1205),"FIELD IS BLANK",IF(ISNA(VLOOKUP('Outsourcing Register'!Q1205,'Drop-down Data'!$D$2:$D$5,1,0)),"ERROR, PLEASE CHECK FIELD","OK")) -> FIELD IS BLANK | R1205: =IF(ISBLANK('Outsourcing Register'!R1205),"FIELD IS BLANK",IF(ISNA(VLOOKUP('Outsourcing Register'!R1205,'Drop-down Data'!$E$2:$E$3,1,0)),"ERROR, PLEASE CHECK FIELD","OK")) -> FIELD IS BLANK | S1205: =IF(ISBLANK('Outsourcing Register'!S1205),"FIELD IS BLANK","OK") -> FIELD IS BLANK | T1205: =IF(ISBLANK('Outsourcing Register'!T1205),"FIELD IS BLANK","OK") -> FIELD IS BLANK | U1205: =IF(ISBLANK('Outsourcing Register'!U1205),"FIELD IS BLANK","OK") -> FIELD IS BLANK | V1205: =IF(ISBLANK('Outsourcing Register'!V1205),"FIELD IS BLANK","OK") -> FIELD IS BLANK | W1205: =IF(ISBLANK('Outsourcing Register'!W1205),"FIELD IS BLANK",IF(ISNA(VLOOKUP('Outsourcing Register'!W1205,'Drop-down Data'!$F$2:$F$3,1,0)),"ERROR, PLEASE CHECK FIELD","OK")) -> FIELD IS BLANK | X1205: =IF(ISBLANK('Outsourcing Register'!X1205),"FIELD IS BLANK",IF('Outsourcing Register'!X1205<0,"ERROR","OK")) -> FIELD IS BLANK | Y1205: =IF(ISBLANK('Outsourcing Register'!Y1205),"FIELD IS BLANK","OK") -> FIELD IS BLANK | Z1205: =IF(ISBLANK('Outsourcing Register'!Z1205),"FIELD IS BLANK",IF(ISNA(VLOOKUP('Outsourcing Register'!Z1205,'Drop-down Data'!$G$2:$G$6,1,0)),"ERROR, PLEASE CHECK FIELD","OK")) -> FIELD IS BLANK | AA1205: =IF(ISBLANK('Outsourcing Register'!AA1205),"FIELD IS BLANK","OK") -> FIELD IS BLANK | AB1205: =IF(ISBLANK('Outsourcing Register'!AB1205),"FIELD IS BLANK",IF('Outsourcing Register'!AB1205="Yes","OK",IF('Outsourcing Register'!AB1205="No (please elaborate in the Other Comments column)","OK","ERROR, PLEASE CHECK FIELD"))) -> FIELD IS BLANK | AC1205: =IF(ISBLANK('Outsourcing Register'!AC1205),"FIELD IS BLANK","OK") -> FIELD IS BLANK
A1206: =IF(ISBLANK('Outsourcing Register'!A1206),"FIELD IS BLANK","OK") -> FIELD IS BLANK | B1206: =IF(ISBLANK('Outsourcing Register'!B1206),"FIELD IS BLANK",IF(ISNA(VLOOKUP('Outsourcing Register'!B1206,'Drop-down Data'!$A$2:$A$23,1,0)),"ERROR, PLEASE CHECK FIELD","OK")) -> FIELD IS BLANK | C1206: =IF(ISBLANK('Outsourcing Register'!C1206),"FIELD IS BLANK",IF('Outsourcing Register'!C1206="Yes","OK",IF('Outsourcing Register'!C1206="No","OK","ERROR, PLEASE CHECK FIELD"))) -> FIELD IS BLANK | D1206: =IF(ISBLANK('Outsourcing Register'!D1206),"FIELD IS BLANK","OK") -> FIELD IS BLANK | E1206: =IF(ISBLANK('Outsourcing Register'!E1206),"FIELD IS BLANK","OK") -> FIELD IS BLANK | F1206: =IF(ISBLANK('Outsourcing Register'!F1206),"FIELD IS BLANK","OK") -> FIELD IS BLANK | G1206: =IF(ISBLANK('Outsourcing Register'!G1206),"FIELD IS BLANK",IF(ISNA(VLOOKUP('Outsourcing Register'!G1206,'Drop-down Data'!$B$2:$B$251,1,0)),"ERROR, PLEASE CHECK FIELD","OK")) -> FIELD IS BLANK | H1206: =IF(ISBLANK('Outsourcing Register'!H1206),"FIELD IS BLANK",IF('Outsourcing Register'!H1206="Service provider","OK",IF('Outsourcing Register'!H1206="Material sub-contractor","OK","ERROR, PLEASE CHECK FIELD"))) -> FIELD IS BLANK | I1206: =IF(ISBLANK('Outsourcing Register'!I1206),"FIELD IS BLANK",IF('Outsourcing Register'!I1206="Intragroup","OK",IF('Outsourcing Register'!I1206="Non-intragroup","OK","ERROR, PLEASE CHECK FIELD"))) -> FIELD IS BLANK | J1206: =IF(ISBLANK('Outsourcing Register'!J1206),"FIELD IS BLANK",IF('Outsourcing Register'!J1206="Material","OK",IF('Outsourcing Register'!J1206="Non-material","OK","ERROR, PLEASE CHECK FIELD"))) -> FIELD IS BLANK | K1206: =IF(ISBLANK('Outsourcing Register'!K1206),"FIELD IS BLANK","OK") -> FIELD IS BLANK | L1206: =IF(ISBLANK('Outsourcing Register'!L1206),"FIELD IS BLANK",IF('Outsourcing Register'!L1206="Yes","OK",IF('Outsourcing Register'!L1206="No","OK","ERROR, PLEASE CHECK FIELD"))) -> FIELD IS BLANK | M1206: =IF(ISBLANK('Outsourcing Register'!M1206),"FIELD IS BLANK",IF('Outsourcing Register'!M1206="Yes","OK",IF('Outsourcing Register'!M1206="No","OK","ERROR, PLEASE CHECK FIELD"))) -> FIELD IS BLANK | N1206: =IF(ISBLANK('Outsourcing Register'!N1206),"OK","ERROR, PLEASE CHECK FIELD") -> OK | O1206: =IF(ISBLANK('Outsourcing Register'!O1206),"OK","ERROR, PLEASE CHECK FIELD") -> OK | P1206: =IF(ISBLANK('Outsourcing Register'!P1206),"OK","ERROR, PLEASE CHECK FIELD") -> OK | Q1206: =IF(ISBLANK('Outsourcing Register'!Q1206),"FIELD IS BLANK",IF(ISNA(VLOOKUP('Outsourcing Register'!Q1206,'Drop-down Data'!$D$2:$D$5,1,0)),"ERROR, PLEASE CHECK FIELD","OK")) -> FIELD IS BLANK | R1206: =IF(ISBLANK('Outsourcing Register'!R1206),"FIELD IS BLANK",IF(ISNA(VLOOKUP('Outsourcing Register'!R1206,'Drop-down Data'!$E$2:$E$3,1,0)),"ERROR, PLEASE CHECK FIELD","OK")) -> FIELD IS BLANK | S1206: =IF(ISBLANK('Outsourcing Register'!S1206),"FIELD IS BLANK","OK") -> FIELD IS BLANK | T1206: =IF(ISBLANK('Outsourcing Register'!T1206),"FIELD IS BLANK","OK") -> FIELD IS BLANK | U1206: =IF(ISBLANK('Outsourcing Register'!U1206),"FIELD IS BLANK","OK") -> FIELD IS BLANK | V1206: =IF(ISBLANK('Outsourcing Register'!V1206),"FIELD IS BLANK","OK") -> FIELD IS BLANK | W1206: =IF(ISBLANK('Outsourcing Register'!W1206),"FIELD IS BLANK",IF(ISNA(VLOOKUP('Outsourcing Register'!W1206,'Drop-down Data'!$F$2:$F$3,1,0)),"ERROR, PLEASE CHECK FIELD","OK")) -> FIELD IS BLANK | X1206: =IF(ISBLANK('Outsourcing Register'!X1206),"FIELD IS BLANK",IF('Outsourcing Register'!X1206<0,"ERROR","OK")) -> FIELD IS BLANK | Y1206: =IF(ISBLANK('Outsourcing Register'!Y1206),"FIELD IS BLANK","OK") -> FIELD IS BLANK | Z1206: =IF(ISBLANK('Outsourcing Register'!Z1206),"FIELD IS BLANK",IF(ISNA(VLOOKUP('Outsourcing Register'!Z1206,'Drop-down Data'!$G$2:$G$6,1,0)),"ERROR, PLEASE CHECK FIELD","OK")) -> FIELD IS BLANK | AA1206: =IF(ISBLANK('Outsourcing Register'!AA1206),"FIELD IS BLANK","OK") -> FIELD IS BLANK | AB1206: =IF(ISBLANK('Outsourcing Register'!AB1206),"FIELD IS BLANK",IF('Outsourcing Register'!AB1206="Yes","OK",IF('Outsourcing Register'!AB1206="No (please elaborate in the Other Comments column)","OK","ERROR, PLEASE CHECK FIELD"))) -> FIELD IS BLANK | AC1206: =IF(ISBLANK('Outsourcing Register'!AC1206),"FIELD IS BLANK","OK") -> FIELD IS BLANK
A1207: =IF(ISBLANK('Outsourcing Register'!A1207),"FIELD IS BLANK","OK") -> FIELD IS BLANK | B1207: =IF(ISBLANK('Outsourcing Register'!B1207),"FIELD IS BLANK",IF(ISNA(VLOOKUP('Outsourcing Register'!B1207,'Drop-down Data'!$A$2:$A$23,1,0)),"ERROR, PLEASE CHECK FIELD","OK")) -> FIELD IS BLANK | C1207: =IF(ISBLANK('Outsourcing Register'!C1207),"FIELD IS BLANK",IF('Outsourcing Register'!C1207="Yes","OK",IF('Outsourcing Register'!C1207="No","OK","ERROR, PLEASE CHECK FIELD"))) -> FIELD IS BLANK | D1207: =IF(ISBLANK('Outsourcing Register'!D1207),"FIELD IS BLANK","OK") -> FIELD IS BLANK | E1207: =IF(ISBLANK('Outsourcing Register'!E1207),"FIELD IS BLANK","OK") -> FIELD IS BLANK | F1207: =IF(ISBLANK('Outsourcing Register'!F1207),"FIELD IS BLANK","OK") -> FIELD IS BLANK | G1207: =IF(ISBLANK('Outsourcing Register'!G1207),"FIELD IS BLANK",IF(ISNA(VLOOKUP('Outsourcing Register'!G1207,'Drop-down Data'!$B$2:$B$251,1,0)),"ERROR, PLEASE CHECK FIELD","OK")) -> FIELD IS BLANK | H1207: =IF(ISBLANK('Outsourcing Register'!H1207),"FIELD IS BLANK",IF('Outsourcing Register'!H1207="Service provider","OK",IF('Outsourcing Register'!H1207="Material sub-contractor","OK","ERROR, PLEASE CHECK FIELD"))) -> FIELD IS BLANK | I1207: =IF(ISBLANK('Outsourcing Register'!I1207),"FIELD IS BLANK",IF('Outsourcing Register'!I1207="Intragroup","OK",IF('Outsourcing Register'!I1207="Non-intragroup","OK","ERROR, PLEASE CHECK FIELD"))) -> FIELD IS BLANK | J1207: =IF(ISBLANK('Outsourcing Register'!J1207),"FIELD IS BLANK",IF('Outsourcing Register'!J1207="Material","OK",IF('Outsourcing Register'!J1207="Non-material","OK","ERROR, PLEASE CHECK FIELD"))) -> FIELD IS BLANK | K1207: =IF(ISBLANK('Outsourcing Register'!K1207),"FIELD IS BLANK","OK") -> FIELD IS BLANK | L1207: =IF(ISBLANK('Outsourcing Register'!L1207),"FIELD IS BLANK",IF('Outsourcing Register'!L1207="Yes","OK",IF('Outsourcing Register'!L1207="No","OK","ERROR, PLEASE CHECK FIELD"))) -> FIELD IS BLANK | M1207: =IF(ISBLANK('Outsourcing Register'!M1207),"FIELD IS BLANK",IF('Outsourcing Register'!M1207="Yes","OK",IF('Outsourcing Register'!M1207="No","OK","ERROR, PLEASE CHECK FIELD"))) -> FIELD IS BLANK | N1207: =IF(ISBLANK('Outsourcing Register'!N1207),"OK","ERROR, PLEASE CHECK FIELD") -> OK | O1207: =IF(ISBLANK('Outsourcing Register'!O1207),"OK","ERROR, PLEASE CHECK FIELD") -> OK | P1207: =IF(ISBLANK('Outsourcing Register'!P1207),"OK","ERROR, PLEASE CHECK FIELD") -> OK | Q1207: =IF(ISBLANK('Outsourcing Register'!Q1207),"FIELD IS BLANK",IF(ISNA(VLOOKUP('Outsourcing Register'!Q1207,'Drop-down Data'!$D$2:$D$5,1,0)),"ERROR, PLEASE CHECK FIELD","OK")) -> FIELD IS BLANK | R1207: =IF(ISBLANK('Outsourcing Register'!R1207),"FIELD IS BLANK",IF(ISNA(VLOOKUP('Outsourcing Register'!R1207,'Drop-down Data'!$E$2:$E$3,1,0)),"ERROR, PLEASE CHECK FIELD","OK")) -> FIELD IS BLANK | S1207: =IF(ISBLANK('Outsourcing Register'!S1207),"FIELD IS BLANK","OK") -> FIELD IS BLANK | T1207: =IF(ISBLANK('Outsourcing Register'!T1207),"FIELD IS BLANK","OK") -> FIELD IS BLANK | U1207: =IF(ISBLANK('Outsourcing Register'!U1207),"FIELD IS BLANK","OK") -> FIELD IS BLANK | V1207: =IF(ISBLANK('Outsourcing Register'!V1207),"FIELD IS BLANK","OK") -> FIELD IS BLANK | W1207: =IF(ISBLANK('Outsourcing Register'!W1207),"FIELD IS BLANK",IF(ISNA(VLOOKUP('Outsourcing Register'!W1207,'Drop-down Data'!$F$2:$F$3,1,0)),"ERROR, PLEASE CHECK FIELD","OK")) -> FIELD IS BLANK | X1207: =IF(ISBLANK('Outsourcing Register'!X1207),"FIELD IS BLANK",IF('Outsourcing Register'!X1207<0,"ERROR","OK")) -> FIELD IS BLANK | Y1207: =IF(ISBLANK('Outsourcing Register'!Y1207),"FIELD IS BLANK","OK") -> FIELD IS BLANK | Z1207: =IF(ISBLANK('Outsourcing Register'!Z1207),"FIELD IS BLANK",IF(ISNA(VLOOKUP('Outsourcing Register'!Z1207,'Drop-down Data'!$G$2:$G$6,1,0)),"ERROR, PLEASE CHECK FIELD","OK")) -> FIELD IS BLANK | AA1207: =IF(ISBLANK('Outsourcing Register'!AA1207),"FIELD IS BLANK","OK") -> FIELD IS BLANK | AB1207: =IF(ISBLANK('Outsourcing Register'!AB1207),"FIELD IS BLANK",IF('Outsourcing Register'!AB1207="Yes","OK",IF('Outsourcing Register'!AB1207="No (please elaborate in the Other Comments column)","OK","ERROR, PLEASE CHECK FIELD"))) -> FIELD IS BLANK | AC1207: =IF(ISBLANK('Outsourcing Register'!AC1207),"FIELD IS BLANK","OK") -> FIELD IS BLANK
A1208: =IF(ISBLANK('Outsourcing Register'!A1208),"FIELD IS BLANK","OK") -> FIELD IS BLANK | B1208: =IF(ISBLANK('Outsourcing Register'!B1208),"FIELD IS BLANK",IF(ISNA(VLOOKUP('Outsourcing Register'!B1208,'Drop-down Data'!$A$2:$A$23,1,0)),"ERROR, PLEASE CHECK FIELD","OK")) -> FIELD IS BLANK | C1208: =IF(ISBLANK('Outsourcing Register'!C1208),"FIELD IS BLANK",IF('Outsourcing Register'!C1208="Yes","OK",IF('Outsourcing Register'!C1208="No","OK","ERROR, PLEASE CHECK FIELD"))) -> FIELD IS BLANK | D1208: =IF(ISBLANK('Outsourcing Register'!D1208),"FIELD IS BLANK","OK") -> FIELD IS BLANK | E1208: =IF(ISBLANK('Outsourcing Register'!E1208),"FIELD IS BLANK","OK") -> FIELD IS BLANK | F1208: =IF(ISBLANK('Outsourcing Register'!F1208),"FIELD IS BLANK","OK") -> FIELD IS BLANK | G1208: =IF(ISBLANK('Outsourcing Register'!G1208),"FIELD IS BLANK",IF(ISNA(VLOOKUP('Outsourcing Register'!G1208,'Drop-down Data'!$B$2:$B$251,1,0)),"ERROR, PLEASE CHECK FIELD","OK")) -> FIELD IS BLANK | H1208: =IF(ISBLANK('Outsourcing Register'!H1208),"FIELD IS BLANK",IF('Outsourcing Register'!H1208="Service provider","OK",IF('Outsourcing Register'!H1208="Material sub-contractor","OK","ERROR, PLEASE CHECK FIELD"))) -> FIELD IS BLANK | I1208: =IF(ISBLANK('Outsourcing Register'!I1208),"FIELD IS BLANK",IF('Outsourcing Register'!I1208="Intragroup","OK",IF('Outsourcing Register'!I1208="Non-intragroup","OK","ERROR, PLEASE CHECK FIELD"))) -> FIELD IS BLANK | J1208: =IF(ISBLANK('Outsourcing Register'!J1208),"FIELD IS BLANK",IF('Outsourcing Register'!J1208="Material","OK",IF('Outsourcing Register'!J1208="Non-material","OK","ERROR, PLEASE CHECK FIELD"))) -> FIELD IS BLANK | K1208: =IF(ISBLANK('Outsourcing Register'!K1208),"FIELD IS BLANK","OK") -> FIELD IS BLANK | L1208: =IF(ISBLANK('Outsourcing Register'!L1208),"FIELD IS BLANK",IF('Outsourcing Register'!L1208="Yes","OK",IF('Outsourcing Register'!L1208="No","OK","ERROR, PLEASE CHECK FIELD"))) -> FIELD IS BLANK | M1208: =IF(ISBLANK('Outsourcing Register'!M1208),"FIELD IS BLANK",IF('Outsourcing Register'!M1208="Yes","OK",IF('Outsourcing Register'!M1208="No","OK","ERROR, PLEASE CHECK FIELD"))) -> FIELD IS BLANK | N1208: =IF(ISBLANK('Outsourcing Register'!N1208),"OK","ERROR, PLEASE CHECK FIELD") -> OK | O1208: =IF(ISBLANK('Outsourcing Register'!O1208),"OK","ERROR, PLEASE CHECK FIELD") -> OK | P1208: =IF(ISBLANK('Outsourcing Register'!P1208),"OK","ERROR, PLEASE CHECK FIELD") -> OK | Q1208: =IF(ISBLANK('Outsourcing Register'!Q1208),"FIELD IS BLANK",IF(ISNA(VLOOKUP('Outsourcing Register'!Q1208,'Drop-down Data'!$D$2:$D$5,1,0)),"ERROR, PLEASE CHECK FIELD","OK")) -> FIELD IS BLANK | R1208: =IF(ISBLANK('Outsourcing Register'!R1208),"FIELD IS BLANK",IF(ISNA(VLOOKUP('Outsourcing Register'!R1208,'Drop-down Data'!$E$2:$E$3,1,0)),"ERROR, PLEASE CHECK FIELD","OK")) -> FIELD IS BLANK | S1208: =IF(ISBLANK('Outsourcing Register'!S1208),"FIELD IS BLANK","OK") -> FIELD IS BLANK | T1208: =IF(ISBLANK('Outsourcing Register'!T1208),"FIELD IS BLANK","OK") -> FIELD IS BLANK | U1208: =IF(ISBLANK('Outsourcing Register'!U1208),"FIELD IS BLANK","OK") -> FIELD IS BLANK | V1208: =IF(ISBLANK('Outsourcing Register'!V1208),"FIELD IS BLANK","OK") -> FIELD IS BLANK | W1208: =IF(ISBLANK('Outsourcing Register'!W1208),"FIELD IS BLANK",IF(ISNA(VLOOKUP('Outsourcing Register'!W1208,'Drop-down Data'!$F$2:$F$3,1,0)),"ERROR, PLEASE CHECK FIELD","OK")) -> FIELD IS BLANK | X1208: =IF(ISBLANK('Outsourcing Register'!X1208),"FIELD IS BLANK",IF('Outsourcing Register'!X1208<0,"ERROR","OK")) -> FIELD IS BLANK | Y1208: =IF(ISBLANK('Outsourcing Register'!Y1208),"FIELD IS BLANK","OK") -> FIELD IS BLANK | Z1208: =IF(ISBLANK('Outsourcing Register'!Z1208),"FIELD IS BLANK",IF(ISNA(VLOOKUP('Outsourcing Register'!Z1208,'Drop-down Data'!$G$2:$G$6,1,0)),"ERROR, PLEASE CHECK FIELD","OK")) -> FIELD IS BLANK | AA1208: =IF(ISBLANK('Outsourcing Register'!AA1208),"FIELD IS BLANK","OK") -> FIELD IS BLANK | AB1208: =IF(ISBLANK('Outsourcing Register'!AB1208),"FIELD IS BLANK",IF('Outsourcing Register'!AB1208="Yes","OK",IF('Outsourcing Register'!AB1208="No (please elaborate in the Other Comments column)","OK","ERROR, PLEASE CHECK FIELD"))) -> FIELD IS BLANK | AC1208: =IF(ISBLANK('Outsourcing Register'!AC1208),"FIELD IS BLANK","OK") -> FIELD IS BLANK
A1209: =IF(ISBLANK('Outsourcing Register'!A1209),"FIELD IS BLANK","OK") -> FIELD IS BLANK | B1209: =IF(ISBLANK('Outsourcing Register'!B1209),"FIELD IS BLANK",IF(ISNA(VLOOKUP('Outsourcing Register'!B1209,'Drop-down Data'!$A$2:$A$23,1,0)),"ERROR, PLEASE CHECK FIELD","OK")) -> FIELD IS BLANK | C1209: =IF(ISBLANK('Outsourcing Register'!C1209),"FIELD IS BLANK",IF('Outsourcing Register'!C1209="Yes","OK",IF('Outsourcing Register'!C1209="No","OK","ERROR, PLEASE CHECK FIELD"))) -> FIELD IS BLANK | D1209: =IF(ISBLANK('Outsourcing Register'!D1209),"FIELD IS BLANK","OK") -> FIELD IS BLANK | E1209: =IF(ISBLANK('Outsourcing Register'!E1209),"FIELD IS BLANK","OK") -> FIELD IS BLANK | F1209: =IF(ISBLANK('Outsourcing Register'!F1209),"FIELD IS BLANK","OK") -> FIELD IS BLANK | G1209: =IF(ISBLANK('Outsourcing Register'!G1209),"FIELD IS BLANK",IF(ISNA(VLOOKUP('Outsourcing Register'!G1209,'Drop-down Data'!$B$2:$B$251,1,0)),"ERROR, PLEASE CHECK FIELD","OK")) -> FIELD IS BLANK | H1209: =IF(ISBLANK('Outsourcing Register'!H1209),"FIELD IS BLANK",IF('Outsourcing Register'!H1209="Service provider","OK",IF('Outsourcing Register'!H1209="Material sub-contractor","OK","ERROR, PLEASE CHECK FIELD"))) -> FIELD IS BLANK | I1209: =IF(ISBLANK('Outsourcing Register'!I1209),"FIELD IS BLANK",IF('Outsourcing Register'!I1209="Intragroup","OK",IF('Outsourcing Register'!I1209="Non-intragroup","OK","ERROR, PLEASE CHECK FIELD"))) -> FIELD IS BLANK | J1209: =IF(ISBLANK('Outsourcing Register'!J1209),"FIELD IS BLANK",IF('Outsourcing Register'!J1209="Material","OK",IF('Outsourcing Register'!J1209="Non-material","OK","ERROR, PLEASE CHECK FIELD"))) -> FIELD IS BLANK | K1209: =IF(ISBLANK('Outsourcing Register'!K1209),"FIELD IS BLANK","OK") -> FIELD IS BLANK | L1209: =IF(ISBLANK('Outsourcing Register'!L1209),"FIELD IS BLANK",IF('Outsourcing Register'!L1209="Yes","OK",IF('Outsourcing Register'!L1209="No","OK","ERROR, PLEASE CHECK FIELD"))) -> FIELD IS BLANK | M1209: =IF(ISBLANK('Outsourcing Register'!M1209),"FIELD IS BLANK",IF('Outsourcing Register'!M1209="Yes","OK",IF('Outsourcing Register'!M1209="No","OK","ERROR, PLEASE CHECK FIELD"))) -> FIELD IS BLANK | N1209: =IF(ISBLANK('Outsourcing Register'!N1209),"OK","ERROR, PLEASE CHECK FIELD") -> OK | O1209: =IF(ISBLANK('Outsourcing Register'!O1209),"OK","ERROR, PLEASE CHECK FIELD") -> OK | P1209: =IF(ISBLANK('Outsourcing Register'!P1209),"OK","ERROR, PLEASE CHECK FIELD") -> OK | Q1209: =IF(ISBLANK('Outsourcing Register'!Q1209),"FIELD IS BLANK",IF(ISNA(VLOOKUP('Outsourcing Register'!Q1209,'Drop-down Data'!$D$2:$D$5,1,0)),"ERROR, PLEASE CHECK FIELD","OK")) -> FIELD IS BLANK | R1209: =IF(ISBLANK('Outsourcing Register'!R1209),"FIELD IS BLANK",IF(ISNA(VLOOKUP('Outsourcing Register'!R1209,'Drop-down Data'!$E$2:$E$3,1,0)),"ERROR, PLEASE CHECK FIELD","OK")) -> FIELD IS BLANK | S1209: =IF(ISBLANK('Outsourcing Register'!S1209),"FIELD IS BLANK","OK") -> FIELD IS BLANK | T1209: =IF(ISBLANK('Outsourcing Register'!T1209),"FIELD IS BLANK","OK") -> FIELD IS BLANK | U1209: =IF(ISBLANK('Outsourcing Register'!U1209),"FIELD IS BLANK","OK") -> FIELD IS BLANK | V1209: =IF(ISBLANK('Outsourcing Register'!V1209),"FIELD IS BLANK","OK") -> FIELD IS BLANK | W1209: =IF(ISBLANK('Outsourcing Register'!W1209),"FIELD IS BLANK",IF(ISNA(VLOOKUP('Outsourcing Register'!W1209,'Drop-down Data'!$F$2:$F$3,1,0)),"ERROR, PLEASE CHECK FIELD","OK")) -> FIELD IS BLANK | X1209: =IF(ISBLANK('Outsourcing Register'!X1209),"FIELD IS BLANK",IF('Outsourcing Register'!X1209<0,"ERROR","OK")) -> FIELD IS BLANK | Y1209: =IF(ISBLANK('Outsourcing Register'!Y1209),"FIELD IS BLANK","OK") -> FIELD IS BLANK | Z1209: =IF(ISBLANK('Outsourcing Register'!Z1209),"FIELD IS BLANK",IF(ISNA(VLOOKUP('Outsourcing Register'!Z1209,'Drop-down Data'!$G$2:$G$6,1,0)),"ERROR, PLEASE CHECK FIELD","OK")) -> FIELD IS BLANK | AA1209: =IF(ISBLANK('Outsourcing Register'!AA1209),"FIELD IS BLANK","OK") -> FIELD IS BLANK | AB1209: =IF(ISBLANK('Outsourcing Register'!AB1209),"FIELD IS BLANK",IF('Outsourcing Register'!AB1209="Yes","OK",IF('Outsourcing Register'!AB1209="No (please elaborate in the Other Comments column)","OK","ERROR, PLEASE CHECK FIELD"))) -> FIELD IS BLANK | AC1209: =IF(ISBLANK('Outsourcing Register'!AC1209),"FIELD IS BLANK","OK") -> FIELD IS BLANK
A1210: =IF(ISBLANK('Outsourcing Register'!A1210),"FIELD IS BLANK","OK") -> FIELD IS BLANK | B1210: =IF(ISBLANK('Outsourcing Register'!B1210),"FIELD IS BLANK",IF(ISNA(VLOOKUP('Outsourcing Register'!B1210,'Drop-down Data'!$A$2:$A$23,1,0)),"ERROR, PLEASE CHECK FIELD","OK")) -> FIELD IS BLANK | C1210: =IF(ISBLANK('Outsourcing Register'!C1210),"FIELD IS BLANK",IF('Outsourcing Register'!C1210="Yes","OK",IF('Outsourcing Register'!C1210="No","OK","ERROR, PLEASE CHECK FIELD"))) -> FIELD IS BLANK | D1210: =IF(ISBLANK('Outsourcing Register'!D1210),"FIELD IS BLANK","OK") -> FIELD IS BLANK | E1210: =IF(ISBLANK('Outsourcing Register'!E1210),"FIELD IS BLANK","OK") -> FIELD IS BLANK | F1210: =IF(ISBLANK('Outsourcing Register'!F1210),"FIELD IS BLANK","OK") -> FIELD IS BLANK | G1210: =IF(ISBLANK('Outsourcing Register'!G1210),"FIELD IS BLANK",IF(ISNA(VLOOKUP('Outsourcing Register'!G1210,'Drop-down Data'!$B$2:$B$251,1,0)),"ERROR, PLEASE CHECK FIELD","OK")) -> FIELD IS BLANK | H1210: =IF(ISBLANK('Outsourcing Register'!H1210),"FIELD IS BLANK",IF('Outsourcing Register'!H1210="Service provider","OK",IF('Outsourcing Register'!H1210="Material sub-contractor","OK","ERROR, PLEASE CHECK FIELD"))) -> FIELD IS BLANK | I1210: =IF(ISBLANK('Outsourcing Register'!I1210),"FIELD IS BLANK",IF('Outsourcing Register'!I1210="Intragroup","OK",IF('Outsourcing Register'!I1210="Non-intragroup","OK","ERROR, PLEASE CHECK FIELD"))) -> FIELD IS BLANK | J1210: =IF(ISBLANK('Outsourcing Register'!J1210),"FIELD IS BLANK",IF('Outsourcing Register'!J1210="Material","OK",IF('Outsourcing Register'!J1210="Non-material","OK","ERROR, PLEASE CHECK FIELD"))) -> FIELD IS BLANK | K1210: =IF(ISBLANK('Outsourcing Register'!K1210),"FIELD IS BLANK","OK") -> FIELD IS BLANK | L1210: =IF(ISBLANK('Outsourcing Register'!L1210),"FIELD IS BLANK",IF('Outsourcing Register'!L1210="Yes","OK",IF('Outsourcing Register'!L1210="No","OK","ERROR, PLEASE CHECK FIELD"))) -> FIELD IS BLANK | M1210: =IF(ISBLANK('Outsourcing Register'!M1210),"FIELD IS BLANK",IF('Outsourcing Register'!M1210="Yes","OK",IF('Outsourcing Register'!M1210="No","OK","ERROR, PLEASE CHECK FIELD"))) -> FIELD IS BLANK | N1210: =IF(ISBLANK('Outsourcing Register'!N1210),"OK","ERROR, PLEASE CHECK FIELD") -> OK | O1210: =IF(ISBLANK('Outsourcing Register'!O1210),"OK","ERROR, PLEASE CHECK FIELD") -> OK | P1210: =IF(ISBLANK('Outsourcing Register'!P1210),"OK","ERROR, PLEASE CHECK FIELD") -> OK | Q1210: =IF(ISBLANK('Outsourcing Register'!Q1210),"FIELD IS BLANK",IF(ISNA(VLOOKUP('Outsourcing Register'!Q1210,'Drop-down Data'!$D$2:$D$5,1,0)),"ERROR, PLEASE CHECK FIELD","OK")) -> FIELD IS BLANK | R1210: =IF(ISBLANK('Outsourcing Register'!R1210),"FIELD IS BLANK",IF(ISNA(VLOOKUP('Outsourcing Register'!R1210,'Drop-down Data'!$E$2:$E$3,1,0)),"ERROR, PLEASE CHECK FIELD","OK")) -> FIELD IS BLANK | S1210: =IF(ISBLANK('Outsourcing Register'!S1210),"FIELD IS BLANK","OK") -> FIELD IS BLANK | T1210: =IF(ISBLANK('Outsourcing Register'!T1210),"FIELD IS BLANK","OK") -> FIELD IS BLANK | U1210: =IF(ISBLANK('Outsourcing Register'!U1210),"FIELD IS BLANK","OK") -> FIELD IS BLANK | V1210: =IF(ISBLANK('Outsourcing Register'!V1210),"FIELD IS BLANK","OK") -> FIELD IS BLANK | W1210: =IF(ISBLANK('Outsourcing Register'!W1210),"FIELD IS BLANK",IF(ISNA(VLOOKUP('Outsourcing Register'!W1210,'Drop-down Data'!$F$2:$F$3,1,0)),"ERROR, PLEASE CHECK FIELD","OK")) -> FIELD IS BLANK | X1210: =IF(ISBLANK('Outsourcing Register'!X1210),"FIELD IS BLANK",IF('Outsourcing Register'!X1210<0,"ERROR","OK")) -> FIELD IS BLANK | Y1210: =IF(ISBLANK('Outsourcing Register'!Y1210),"FIELD IS BLANK","OK") -> FIELD IS BLANK | Z1210: =IF(ISBLANK('Outsourcing Register'!Z1210),"FIELD IS BLANK",IF(ISNA(VLOOKUP('Outsourcing Register'!Z1210,'Drop-down Data'!$G$2:$G$6,1,0)),"ERROR, PLEASE CHECK FIELD","OK")) -> FIELD IS BLANK | AA1210: =IF(ISBLANK('Outsourcing Register'!AA1210),"FIELD IS BLANK","OK") -> FIELD IS BLANK | AB1210: =IF(ISBLANK('Outsourcing Register'!AB1210),"FIELD IS BLANK",IF('Outsourcing Register'!AB1210="Yes","OK",IF('Outsourcing Register'!AB1210="No (please elaborate in the Other Comments column)","OK","ERROR, PLEASE CHECK FIELD"))) -> FIELD IS BLANK | AC1210: =IF(ISBLANK('Outsourcing Register'!AC1210),"FIELD IS BLANK","OK") -> FIELD IS BLANK
A1211: =IF(ISBLANK('Outsourcing Register'!A1211),"FIELD IS BLANK","OK") -> FIELD IS BLANK | B1211: =IF(ISBLANK('Outsourcing Register'!B1211),"FIELD IS BLANK",IF(ISNA(VLOOKUP('Outsourcing Register'!B1211,'Drop-down Data'!$A$2:$A$23,1,0)),"ERROR, PLEASE CHECK FIELD","OK")) -> FIELD IS BLANK | C1211: =IF(ISBLANK('Outsourcing Register'!C1211),"FIELD IS BLANK",IF('Outsourcing Register'!C1211="Yes","OK",IF('Outsourcing Register'!C1211="No","OK","ERROR, PLEASE CHECK FIELD"))) -> FIELD IS BLANK | D1211: =IF(ISBLANK('Outsourcing Register'!D1211),"FIELD IS BLANK","OK") -> FIELD IS BLANK | E1211: =IF(ISBLANK('Outsourcing Register'!E1211),"FIELD IS BLANK","OK") -> FIELD IS BLANK | F1211: =IF(ISBLANK('Outsourcing Register'!F1211),"FIELD IS BLANK","OK") -> FIELD IS BLANK | G1211: =IF(ISBLANK('Outsourcing Register'!G1211),"FIELD IS BLANK",IF(ISNA(VLOOKUP('Outsourcing Register'!G1211,'Drop-down Data'!$B$2:$B$251,1,0)),"ERROR, PLEASE CHECK FIELD","OK")) -> FIELD IS BLANK | H1211: =IF(ISBLANK('Outsourcing Register'!H1211),"FIELD IS BLANK",IF('Outsourcing Register'!H1211="Service provider","OK",IF('Outsourcing Register'!H1211="Material sub-contractor","OK","ERROR, PLEASE CHECK FIELD"))) -> FIELD IS BLANK | I1211: =IF(ISBLANK('Outsourcing Register'!I1211),"FIELD IS BLANK",IF('Outsourcing Register'!I1211="Intragroup","OK",IF('Outsourcing Register'!I1211="Non-intragroup","OK","ERROR, PLEASE CHECK FIELD"))) -> FIELD IS BLANK | J1211: =IF(ISBLANK('Outsourcing Register'!J1211),"FIELD IS BLANK",IF('Outsourcing Register'!J1211="Material","OK",IF('Outsourcing Register'!J1211="Non-material","OK","ERROR, PLEASE CHECK FIELD"))) -> FIELD IS BLANK | K1211: =IF(ISBLANK('Outsourcing Register'!K1211),"FIELD IS BLANK","OK") -> FIELD IS BLANK | L1211: =IF(ISBLANK('Outsourcing Register'!L1211),"FIELD IS BLANK",IF('Outsourcing Register'!L1211="Yes","OK",IF('Outsourcing Register'!L1211="No","OK","ERROR, PLEASE CHECK FIELD"))) -> FIELD IS BLANK | M1211: =IF(ISBLANK('Outsourcing Register'!M1211),"FIELD IS BLANK",IF('Outsourcing Register'!M1211="Yes","OK",IF('Outsourcing Register'!M1211="No","OK","ERROR, PLEASE CHECK FIELD"))) -> FIELD IS BLANK | N1211: =IF(ISBLANK('Outsourcing Register'!N1211),"OK","ERROR, PLEASE CHECK FIELD") -> OK | O1211: =IF(ISBLANK('Outsourcing Register'!O1211),"OK","ERROR, PLEASE CHECK FIELD") -> OK | P1211: =IF(ISBLANK('Outsourcing Register'!P1211),"OK","ERROR, PLEASE CHECK FIELD") -> OK | Q1211: =IF(ISBLANK('Outsourcing Register'!Q1211),"FIELD IS BLANK",IF(ISNA(VLOOKUP('Outsourcing Register'!Q1211,'Drop-down Data'!$D$2:$D$5,1,0)),"ERROR, PLEASE CHECK FIELD","OK")) -> FIELD IS BLANK | R1211: =IF(ISBLANK('Outsourcing Register'!R1211),"FIELD IS BLANK",IF(ISNA(VLOOKUP('Outsourcing Register'!R1211,'Drop-down Data'!$E$2:$E$3,1,0)),"ERROR, PLEASE CHECK FIELD","OK")) -> FIELD IS BLANK | S1211: =IF(ISBLANK('Outsourcing Register'!S1211),"FIELD IS BLANK","OK") -> FIELD IS BLANK | T1211: =IF(ISBLANK('Outsourcing Register'!T1211),"FIELD IS BLANK","OK") -> FIELD IS BLANK | U1211: =IF(ISBLANK('Outsourcing Register'!U1211),"FIELD IS BLANK","OK") -> FIELD IS BLANK | V1211: =IF(ISBLANK('Outsourcing Register'!V1211),"FIELD IS BLANK","OK") -> FIELD IS BLANK | W1211: =IF(ISBLANK('Outsourcing Register'!W1211),"FIELD IS BLANK",IF(ISNA(VLOOKUP('Outsourcing Register'!W1211,'Drop-down Data'!$F$2:$F$3,1,0)),"ERROR, PLEASE CHECK FIELD","OK")) -> FIELD IS BLANK | X1211: =IF(ISBLANK('Outsourcing Register'!X1211),"FIELD IS BLANK",IF('Outsourcing Register'!X1211<0,"ERROR","OK")) -> FIELD IS BLANK | Y1211: =IF(ISBLANK('Outsourcing Register'!Y1211),"FIELD IS BLANK","OK") -> FIELD IS BLANK | Z1211: =IF(ISBLANK('Outsourcing Register'!Z1211),"FIELD IS BLANK",IF(ISNA(VLOOKUP('Outsourcing Register'!Z1211,'Drop-down Data'!$G$2:$G$6,1,0)),"ERROR, PLEASE CHECK FIELD","OK")) -> FIELD IS BLANK | AA1211: =IF(ISBLANK('Outsourcing Register'!AA1211),"FIELD IS BLANK","OK") -> FIELD IS BLANK | AB1211: =IF(ISBLANK('Outsourcing Register'!AB1211),"FIELD IS BLANK",IF('Outsourcing Register'!AB1211="Yes","OK",IF('Outsourcing Register'!AB1211="No (please elaborate in the Other Comments column)","OK","ERROR, PLEASE CHECK FIELD"))) -> FIELD IS BLANK | AC1211: =IF(ISBLANK('Outsourcing Register'!AC1211),"FIELD IS BLANK","OK") -> FIELD IS BLANK
A1212: =IF(ISBLANK('Outsourcing Register'!A1212),"FIELD IS BLANK","OK") -> FIELD IS BLANK | B1212: =IF(ISBLANK('Outsourcing Register'!B1212),"FIELD IS BLANK",IF(ISNA(VLOOKUP('Outsourcing Register'!B1212,'Drop-down Data'!$A$2:$A$23,1,0)),"ERROR, PLEASE CHECK FIELD","OK")) -> FIELD IS BLANK | C1212: =IF(ISBLANK('Outsourcing Register'!C1212),"FIELD IS BLANK",IF('Outsourcing Register'!C1212="Yes","OK",IF('Outsourcing Register'!C1212="No","OK","ERROR, PLEASE CHECK FIELD"))) -> FIELD IS BLANK | D1212: =IF(ISBLANK('Outsourcing Register'!D1212),"FIELD IS BLANK","OK") -> FIELD IS BLANK | E1212: =IF(ISBLANK('Outsourcing Register'!E1212),"FIELD IS BLANK","OK") -> FIELD IS BLANK | F1212: =IF(ISBLANK('Outsourcing Register'!F1212),"FIELD IS BLANK","OK") -> FIELD IS BLANK | G1212: =IF(ISBLANK('Outsourcing Register'!G1212),"FIELD IS BLANK",IF(ISNA(VLOOKUP('Outsourcing Register'!G1212,'Drop-down Data'!$B$2:$B$251,1,0)),"ERROR, PLEASE CHECK FIELD","OK")) -> FIELD IS BLANK | H1212: =IF(ISBLANK('Outsourcing Register'!H1212),"FIELD IS BLANK",IF('Outsourcing Register'!H1212="Service provider","OK",IF('Outsourcing Register'!H1212="Material sub-contractor","OK","ERROR, PLEASE CHECK FIELD"))) -> FIELD IS BLANK | I1212: =IF(ISBLANK('Outsourcing Register'!I1212),"FIELD IS BLANK",IF('Outsourcing Register'!I1212="Intragroup","OK",IF('Outsourcing Register'!I1212="Non-intragroup","OK","ERROR, PLEASE CHECK FIELD"))) -> FIELD IS BLANK | J1212: =IF(ISBLANK('Outsourcing Register'!J1212),"FIELD IS BLANK",IF('Outsourcing Register'!J1212="Material","OK",IF('Outsourcing Register'!J1212="Non-material","OK","ERROR, PLEASE CHECK FIELD"))) -> FIELD IS BLANK | K1212: =IF(ISBLANK('Outsourcing Register'!K1212),"FIELD IS BLANK","OK") -> FIELD IS BLANK | L1212: =IF(ISBLANK('Outsourcing Register'!L1212),"FIELD IS BLANK",IF('Outsourcing Register'!L1212="Yes","OK",IF('Outsourcing Register'!L1212="No","OK","ERROR, PLEASE CHECK FIELD"))) -> FIELD IS BLANK | M1212: =IF(ISBLANK('Outsourcing Register'!M1212),"FIELD IS BLANK",IF('Outsourcing Register'!M1212="Yes","OK",IF('Outsourcing Register'!M1212="No","OK","ERROR, PLEASE CHECK FIELD"))) -> FIELD IS BLANK | N1212: =IF(ISBLANK('Outsourcing Register'!N1212),"OK","ERROR, PLEASE CHECK FIELD") -> OK | O1212: =IF(ISBLANK('Outsourcing Register'!O1212),"OK","ERROR, PLEASE CHECK FIELD") -> OK | P1212: =IF(ISBLANK('Outsourcing Register'!P1212),"OK","ERROR, PLEASE CHECK FIELD") -> OK | Q1212: =IF(ISBLANK('Outsourcing Register'!Q1212),"FIELD IS BLANK",IF(ISNA(VLOOKUP('Outsourcing Register'!Q1212,'Drop-down Data'!$D$2:$D$5,1,0)),"ERROR, PLEASE CHECK FIELD","OK")) -> FIELD IS BLANK | R1212: =IF(ISBLANK('Outsourcing Register'!R1212),"FIELD IS BLANK",IF(ISNA(VLOOKUP('Outsourcing Register'!R1212,'Drop-down Data'!$E$2:$E$3,1,0)),"ERROR, PLEASE CHECK FIELD","OK")) -> FIELD IS BLANK | S1212: =IF(ISBLANK('Outsourcing Register'!S1212),"FIELD IS BLANK","OK") -> FIELD IS BLANK | T1212: =IF(ISBLANK('Outsourcing Register'!T1212),"FIELD IS BLANK","OK") -> FIELD IS BLANK | U1212: =IF(ISBLANK('Outsourcing Register'!U1212),"FIELD IS BLANK","OK") -> FIELD IS BLANK | V1212: =IF(ISBLANK('Outsourcing Register'!V1212),"FIELD IS BLANK","OK") -> FIELD IS BLANK | W1212: =IF(ISBLANK('Outsourcing Register'!W1212),"FIELD IS BLANK",IF(ISNA(VLOOKUP('Outsourcing Register'!W1212,'Drop-down Data'!$F$2:$F$3,1,0)),"ERROR, PLEASE CHECK FIELD","OK")) -> FIELD IS BLANK | X1212: =IF(ISBLANK('Outsourcing Register'!X1212),"FIELD IS BLANK",IF('Outsourcing Register'!X1212<0,"ERROR","OK")) -> FIELD IS BLANK | Y1212: =IF(ISBLANK('Outsourcing Register'!Y1212),"FIELD IS BLANK","OK") -> FIELD IS BLANK | Z1212: =IF(ISBLANK('Outsourcing Register'!Z1212),"FIELD IS BLANK",IF(ISNA(VLOOKUP('Outsourcing Register'!Z1212,'Drop-down Data'!$G$2:$G$6,1,0)),"ERROR, PLEASE CHECK FIELD","OK")) -> FIELD IS BLANK | AA1212: =IF(ISBLANK('Outsourcing Register'!AA1212),"FIELD IS BLANK","OK") -> FIELD IS BLANK | AB1212: =IF(ISBLANK('Outsourcing Register'!AB1212),"FIELD IS BLANK",IF('Outsourcing Register'!AB1212="Yes","OK",IF('Outsourcing Register'!AB1212="No (please elaborate in the Other Comments column)","OK","ERROR, PLEASE CHECK FIELD"))) -> FIELD IS BLANK | AC1212: =IF(ISBLANK('Outsourcing Register'!AC1212),"FIELD IS BLANK","OK") -> FIELD IS BLANK
A1213: =IF(ISBLANK('Outsourcing Register'!A1213),"FIELD IS BLANK","OK") -> FIELD IS BLANK | B1213: =IF(ISBLANK('Outsourcing Register'!B1213),"FIELD IS BLANK",IF(ISNA(VLOOKUP('Outsourcing Register'!B1213,'Drop-down Data'!$A$2:$A$23,1,0)),"ERROR, PLEASE CHECK FIELD","OK")) -> FIELD IS BLANK | C1213: =IF(ISBLANK('Outsourcing Register'!C1213),"FIELD IS BLANK",IF('Outsourcing Register'!C1213="Yes","OK",IF('Outsourcing Register'!C1213="No","OK","ERROR, PLEASE CHECK FIELD"))) -> FIELD IS BLANK | D1213: =IF(ISBLANK('Outsourcing Register'!D1213),"FIELD IS BLANK","OK") -> FIELD IS BLANK | E1213: =IF(ISBLANK('Outsourcing Register'!E1213),"FIELD IS BLANK","OK") -> FIELD IS BLANK | F1213: =IF(ISBLANK('Outsourcing Register'!F1213),"FIELD IS BLANK","OK") -> FIELD IS BLANK | G1213: =IF(ISBLANK('Outsourcing Register'!G1213),"FIELD IS BLANK",IF(ISNA(VLOOKUP('Outsourcing Register'!G1213,'Drop-down Data'!$B$2:$B$251,1,0)),"ERROR, PLEASE CHECK FIELD","OK")) -> FIELD IS BLANK | H1213: =IF(ISBLANK('Outsourcing Register'!H1213),"FIELD IS BLANK",IF('Outsourcing Register'!H1213="Service provider","OK",IF('Outsourcing Register'!H1213="Material sub-contractor","OK","ERROR, PLEASE CHECK FIELD"))) -> FIELD IS BLANK | I1213: =IF(ISBLANK('Outsourcing Register'!I1213),"FIELD IS BLANK",IF('Outsourcing Register'!I1213="Intragroup","OK",IF('Outsourcing Register'!I1213="Non-intragroup","OK","ERROR, PLEASE CHECK FIELD"))) -> FIELD IS BLANK | J1213: =IF(ISBLANK('Outsourcing Register'!J1213),"FIELD IS BLANK",IF('Outsourcing Register'!J1213="Material","OK",IF('Outsourcing Register'!J1213="Non-material","OK","ERROR, PLEASE CHECK FIELD"))) -> FIELD IS BLANK | K1213: =IF(ISBLANK('Outsourcing Register'!K1213),"FIELD IS BLANK","OK") -> FIELD IS BLANK | L1213: =IF(ISBLANK('Outsourcing Register'!L1213),"FIELD IS BLANK",IF('Outsourcing Register'!L1213="Yes","OK",IF('Outsourcing Register'!L1213="No","OK","ERROR, PLEASE CHECK FIELD"))) -> FIELD IS BLANK | M1213: =IF(ISBLANK('Outsourcing Register'!M1213),"FIELD IS BLANK",IF('Outsourcing Register'!M1213="Yes","OK",IF('Outsourcing Register'!M1213="No","OK","ERROR, PLEASE CHECK FIELD"))) -> FIELD IS BLANK | N1213: =IF(ISBLANK('Outsourcing Register'!N1213),"OK","ERROR, PLEASE CHECK FIELD") -> OK | O1213: =IF(ISBLANK('Outsourcing Register'!O1213),"OK","ERROR, PLEASE CHECK FIELD") -> OK | P1213: =IF(ISBLANK('Outsourcing Register'!P1213),"OK","ERROR, PLEASE CHECK FIELD") -> OK | Q1213: =IF(ISBLANK('Outsourcing Register'!Q1213),"FIELD IS BLANK",IF(ISNA(VLOOKUP('Outsourcing Register'!Q1213,'Drop-down Data'!$D$2:$D$5,1,0)),"ERROR, PLEASE CHECK FIELD","OK")) -> FIELD IS BLANK | R1213: =IF(ISBLANK('Outsourcing Register'!R1213),"FIELD IS BLANK",IF(ISNA(VLOOKUP('Outsourcing Register'!R1213,'Drop-down Data'!$E$2:$E$3,1,0)),"ERROR, PLEASE CHECK FIELD","OK")) -> FIELD IS BLANK | S1213: =IF(ISBLANK('Outsourcing Register'!S1213),"FIELD IS BLANK","OK") -> FIELD IS BLANK | T1213: =IF(ISBLANK('Outsourcing Register'!T1213),"FIELD IS BLANK","OK") -> FIELD IS BLANK | U1213: =IF(ISBLANK('Outsourcing Register'!U1213),"FIELD IS BLANK","OK") -> FIELD IS BLANK | V1213: =IF(ISBLANK('Outsourcing Register'!V1213),"FIELD IS BLANK","OK") -> FIELD IS BLANK | W1213: =IF(ISBLANK('Outsourcing Register'!W1213),"FIELD IS BLANK",IF(ISNA(VLOOKUP('Outsourcing Register'!W1213,'Drop-down Data'!$F$2:$F$3,1,0)),"ERROR, PLEASE CHECK FIELD","OK")) -> FIELD IS BLANK | X1213: =IF(ISBLANK('Outsourcing Register'!X1213),"FIELD IS BLANK",IF('Outsourcing Register'!X1213<0,"ERROR","OK")) -> FIELD IS BLANK | Y1213: =IF(ISBLANK('Outsourcing Register'!Y1213),"FIELD IS BLANK","OK") -> FIELD IS BLANK | Z1213: =IF(ISBLANK('Outsourcing Register'!Z1213),"FIELD IS BLANK",IF(ISNA(VLOOKUP('Outsourcing Register'!Z1213,'Drop-down Data'!$G$2:$G$6,1,0)),"ERROR, PLEASE CHECK FIELD","OK")) -> FIELD IS BLANK | AA1213: =IF(ISBLANK('Outsourcing Register'!AA1213),"FIELD IS BLANK","OK") -> FIELD IS BLANK | AB1213: =IF(ISBLANK('Outsourcing Register'!AB1213),"FIELD IS BLANK",IF('Outsourcing Register'!AB1213="Yes","OK",IF('Outsourcing Register'!AB1213="No (please elaborate in the Other Comments column)","OK","ERROR, PLEASE CHECK FIELD"))) -> FIELD IS BLANK | AC1213: =IF(ISBLANK('Outsourcing Register'!AC1213),"FIELD IS BLANK","OK") -> FIELD IS BLANK
A1214: =IF(ISBLANK('Outsourcing Register'!A1214),"FIELD IS BLANK","OK") -> FIELD IS BLANK | B1214: =IF(ISBLANK('Outsourcing Register'!B1214),"FIELD IS BLANK",IF(ISNA(VLOOKUP('Outsourcing Register'!B1214,'Drop-down Data'!$A$2:$A$23,1,0)),"ERROR, PLEASE CHECK FIELD","OK")) -> FIELD IS BLANK | C1214: =IF(ISBLANK('Outsourcing Register'!C1214),"FIELD IS BLANK",IF('Outsourcing Register'!C1214="Yes","OK",IF('Outsourcing Register'!C1214="No","OK","ERROR, PLEASE CHECK FIELD"))) -> FIELD IS BLANK | D1214: =IF(ISBLANK('Outsourcing Register'!D1214),"FIELD IS BLANK","OK") -> FIELD IS BLANK | E1214: =IF(ISBLANK('Outsourcing Register'!E1214),"FIELD IS BLANK","OK") -> FIELD IS BLANK | F1214: =IF(ISBLANK('Outsourcing Register'!F1214),"FIELD IS BLANK","OK") -> FIELD IS BLANK | G1214: =IF(ISBLANK('Outsourcing Register'!G1214),"FIELD IS BLANK",IF(ISNA(VLOOKUP('Outsourcing Register'!G1214,'Drop-down Data'!$B$2:$B$251,1,0)),"ERROR, PLEASE CHECK FIELD","OK")) -> FIELD IS BLANK | H1214: =IF(ISBLANK('Outsourcing Register'!H1214),"FIELD IS BLANK",IF('Outsourcing Register'!H1214="Service provider","OK",IF('Outsourcing Register'!H1214="Material sub-contractor","OK","ERROR, PLEASE CHECK FIELD"))) -> FIELD IS BLANK | I1214: =IF(ISBLANK('Outsourcing Register'!I1214),"FIELD IS BLANK",IF('Outsourcing Register'!I1214="Intragroup","OK",IF('Outsourcing Register'!I1214="Non-intragroup","OK","ERROR, PLEASE CHECK FIELD"))) -> FIELD IS BLANK | J1214: =IF(ISBLANK('Outsourcing Register'!J1214),"FIELD IS BLANK",IF('Outsourcing Register'!J1214="Material","OK",IF('Outsourcing Register'!J1214="Non-material","OK","ERROR, PLEASE CHECK FIELD"))) -> FIELD IS BLANK | K1214: =IF(ISBLANK('Outsourcing Register'!K1214),"FIELD IS BLANK","OK") -> FIELD IS BLANK | L1214: =IF(ISBLANK('Outsourcing Register'!L1214),"FIELD IS BLANK",IF('Outsourcing Register'!L1214="Yes","OK",IF('Outsourcing Register'!L1214="No","OK","ERROR, PLEASE CHECK FIELD"))) -> FIELD IS BLANK | M1214: =IF(ISBLANK('Outsourcing Register'!M1214),"FIELD IS BLANK",IF('Outsourcing Register'!M1214="Yes","OK",IF('Outsourcing Register'!M1214="No","OK","ERROR, PLEASE CHECK FIELD"))) -> FIELD IS BLANK | N1214: =IF(ISBLANK('Outsourcing Register'!N1214),"OK","ERROR, PLEASE CHECK FIELD") -> OK | O1214: =IF(ISBLANK('Outsourcing Register'!O1214),"OK","ERROR, PLEASE CHECK FIELD") -> OK | P1214: =IF(ISBLANK('Outsourcing Register'!P1214),"OK","ERROR, PLEASE CHECK FIELD") -> OK | Q1214: =IF(ISBLANK('Outsourcing Register'!Q1214),"FIELD IS BLANK",IF(ISNA(VLOOKUP('Outsourcing Register'!Q1214,'Drop-down Data'!$D$2:$D$5,1,0)),"ERROR, PLEASE CHECK FIELD","OK")) -> FIELD IS BLANK | R1214: =IF(ISBLANK('Outsourcing Register'!R1214),"FIELD IS BLANK",IF(ISNA(VLOOKUP('Outsourcing Register'!R1214,'Drop-down Data'!$E$2:$E$3,1,0)),"ERROR, PLEASE CHECK FIELD","OK")) -> FIELD IS BLANK | S1214: =IF(ISBLANK('Outsourcing Register'!S1214),"FIELD IS BLANK","OK") -> FIELD IS BLANK | T1214: =IF(ISBLANK('Outsourcing Register'!T1214),"FIELD IS BLANK","OK") -> FIELD IS BLANK | U1214: =IF(ISBLANK('Outsourcing Register'!U1214),"FIELD IS BLANK","OK") -> FIELD IS BLANK | V1214: =IF(ISBLANK('Outsourcing Register'!V1214),"FIELD IS BLANK","OK") -> FIELD IS BLANK | W1214: =IF(ISBLANK('Outsourcing Register'!W1214),"FIELD IS BLANK",IF(ISNA(VLOOKUP('Outsourcing Register'!W1214,'Drop-down Data'!$F$2:$F$3,1,0)),"ERROR, PLEASE CHECK FIELD","OK")) -> FIELD IS BLANK | X1214: =IF(ISBLANK('Outsourcing Register'!X1214),"FIELD IS BLANK",IF('Outsourcing Register'!X1214<0,"ERROR","OK")) -> FIELD IS BLANK | Y1214: =IF(ISBLANK('Outsourcing Register'!Y1214),"FIELD IS BLANK","OK") -> FIELD IS BLANK | Z1214: =IF(ISBLANK('Outsourcing Register'!Z1214),"FIELD IS BLANK",IF(ISNA(VLOOKUP('Outsourcing Register'!Z1214,'Drop-down Data'!$G$2:$G$6,1,0)),"ERROR, PLEASE CHECK FIELD","OK")) -> FIELD IS BLANK | AA1214: =IF(ISBLANK('Outsourcing Register'!AA1214),"FIELD IS BLANK","OK") -> FIELD IS BLANK | AB1214: =IF(ISBLANK('Outsourcing Register'!AB1214),"FIELD IS BLANK",IF('Outsourcing Register'!AB1214="Yes","OK",IF('Outsourcing Register'!AB1214="No (please elaborate in the Other Comments column)","OK","ERROR, PLEASE CHECK FIELD"))) -> FIELD IS BLANK | AC1214: =IF(ISBLANK('Outsourcing Register'!AC1214),"FIELD IS BLANK","OK") -> FIELD IS BLANK
... A2500: =IF(ISBLANK('Outsourcing Register'!A2500),"FIELD IS BLANK","OK") -> FIELD IS BLANK | B2500: =IF(ISBLANK('Outsourcing Register'!B2500),"FIELD IS BLANK",IF(ISNA(VLOOKUP('Outsourcing Register'!B2500,'Drop-down Data'!$A$2:$A$23,1,0)),"ERROR, PLEASE CHECK FIELD","OK")) -> FIELD IS BLANK | C2500: =IF(ISBLANK('Outsourcing Register'!C2500),"FIELD IS BLANK",IF('Outsourcing Register'!C2500="Yes","OK",IF('Outsourcing Register'!C2500="No","OK","ERROR, PLEASE CHECK FIELD"))) -> FIELD IS BLANK | D2500: =IF(ISBLANK('Outsourcing Register'!D2500),"FIELD IS BLANK","OK") -> FIELD IS BLANK | E2500: =IF(ISBLANK('Outsourcing Register'!E2500),"FIELD IS BLANK","OK") -> FIELD IS BLANK | F2500: =IF(ISBLANK('Outsourcing Register'!F2500),"FIELD IS BLANK","OK") -> FIELD IS BLANK | G2500: =IF(ISBLANK('Outsourcing Register'!G2500),"FIELD IS BLANK",IF(ISNA(VLOOKUP('Outsourcing Register'!G2500,'Drop-down Data'!$B$2:$B$251,1,0)),"ERROR, PLEASE CHECK FIELD","OK")) -> FIELD IS BLANK | H2500: =IF(ISBLANK('Outsourcing Register'!H2500),"FIELD IS BLANK",IF('Outsourcing Register'!H2500="Service provider","OK",IF('Outsourcing Register'!H2500="Material sub-contractor","OK","ERROR, PLEASE CHECK FIELD"))) -> FIELD IS BLANK | I2500: =IF(ISBLANK('Outsourcing Register'!I2500),"FIELD IS BLANK",IF('Outsourcing Register'!I2500="Intragroup","OK",IF('Outsourcing Register'!I2500="Non-intragroup","OK","ERROR, PLEASE CHECK FIELD"))) -> FIELD IS BLANK | J2500: =IF(ISBLANK('Outsourcing Register'!J2500),"FIELD IS BLANK",IF('Outsourcing Register'!J2500="Material","OK",IF('Outsourcing Register'!J2500="Non-material","OK","ERROR, PLEASE CHECK FIELD"))) -> FIELD IS BLANK | K2500: =IF(ISBLANK('Outsourcing Register'!K2500),"FIELD IS BLANK","OK") -> FIELD IS BLANK | L2500: =IF(ISBLANK('Outsourcing Register'!L2500),"FIELD IS BLANK",IF('Outsourcing Register'!L2500="Yes","OK",IF('Outsourcing Register'!L2500="No","OK","ERROR, PLEASE CHECK FIELD"))) -> FIELD IS BLANK | M2500: =IF(ISBLANK('Outsourcing Register'!M2500),"FIELD IS BLANK",IF('Outsourcing Register'!M2500="Yes","OK",IF('Outsourcing Register'!M2500="No","OK","ERROR, PLEASE CHECK FIELD"))) -> FIELD IS BLANK | N2500: =IF(ISBLANK('Outsourcing Register'!N2500),"OK","ERROR, PLEASE CHECK FIELD") -> OK | O2500: =IF(ISBLANK('Outsourcing Register'!O2500),"OK","ERROR, PLEASE CHECK FIELD") -> OK | P2500: =IF(ISBLANK('Outsourcing Register'!P2500),"OK","ERROR, PLEASE CHECK FIELD") -> OK | Q2500: =IF(ISBLANK('Outsourcing Register'!Q2500),"FIELD IS BLANK",IF(ISNA(VLOOKUP('Outsourcing Register'!Q2500,'Drop-down Data'!$D$2:$D$5,1,0)),"ERROR, PLEASE CHECK FIELD","OK")) -> FIELD IS BLANK | R2500: =IF(ISBLANK('Outsourcing Register'!R2500),"FIELD IS BLANK",IF(ISNA(VLOOKUP('Outsourcing Register'!R2500,'Drop-down Data'!$E$2:$E$3,1,0)),"ERROR, PLEASE CHECK FIELD","OK")) -> FIELD IS BLANK | S2500: =IF(ISBLANK('Outsourcing Register'!S2500),"FIELD IS BLANK","OK") -> FIELD IS BLANK | T2500: =IF(ISBLANK('Outsourcing Register'!T2500),"FIELD IS BLANK","OK") -> FIELD IS BLANK | U2500: =IF(ISBLANK('Outsourcing Register'!U2500),"FIELD IS BLANK","OK") -> FIELD IS BLANK | V2500: =IF(ISBLANK('Outsourcing Register'!V2500),"FIELD IS BLANK","OK") -> FIELD IS BLANK | W2500: =IF(ISBLANK('Outsourcing Register'!W2500),"FIELD IS BLANK",IF(ISNA(VLOOKUP('Outsourcing Register'!W2500,'Drop-down Data'!$F$2:$F$3,1,0)),"ERROR, PLEASE CHECK FIELD","OK")) -> FIELD IS BLANK | X2500: =IF(ISBLANK('Outsourcing Register'!X2500),"FIELD IS BLANK",IF('Outsourcing Register'!X2500<0,"ERROR","OK")) -> FIELD IS BLANK | Y2500: =IF(ISBLANK('Outsourcing Register'!Y2500),"FIELD IS BLANK","OK") -> FIELD IS BLANK | Z2500: =IF(ISBLANK('Outsourcing Register'!Z2500),"FIELD IS BLANK",IF(ISNA(VLOOKUP('Outsourcing Register'!Z2500,'Drop-down Data'!$G$2:$G$6,1,0)),"ERROR, PLEASE CHECK FIELD","OK")) -> FIELD IS BLANK | AA2500: =IF(ISBLANK('Outsourcing Register'!AA2500),"FIELD IS BLANK","OK") -> FIELD IS BLANK | AB2500: =IF(ISBLANK('Outsourcing Register'!AB2500),"FIELD IS BLANK",IF('Outsourcing Register'!AB2500="Yes","OK",IF('Outsourcing Register'!AB2500="No (please elaborate in the Other Comments column)","OK","ERROR, PLEASE CHECK FIELD"))) -> FIELD IS BLANK | AC2500: =IF(ISBLANK('Outsourcing Register'!AC2500),"FIELD IS BLANK","OK") -> FIELD IS BLANK
A2501: =IF(ISBLANK('Outsourcing Register'!A2501),"FIELD IS BLANK","OK") -> FIELD IS BLANK | B2501: =IF(ISBLANK('Outsourcing Register'!B2501),"FIELD IS BLANK",IF(ISNA(VLOOKUP('Outsourcing Register'!B2501,'Drop-down Data'!$A$2:$A$23,1,0)),"ERROR, PLEASE CHECK FIELD","OK")) -> FIELD IS BLANK | C2501: =IF(ISBLANK('Outsourcing Register'!C2501),"FIELD IS BLANK",IF('Outsourcing Register'!C2501="Yes","OK",IF('Outsourcing Register'!C2501="No","OK","ERROR, PLEASE CHECK FIELD"))) -> FIELD IS BLANK | D2501: =IF(ISBLANK('Outsourcing Register'!D2501),"FIELD IS BLANK","OK") -> FIELD IS BLANK | E2501: =IF(ISBLANK('Outsourcing Register'!E2501),"FIELD IS BLANK","OK") -> FIELD IS BLANK | F2501: =IF(ISBLANK('Outsourcing Register'!F2501),"FIELD IS BLANK","OK") -> FIELD IS BLANK | G2501: =IF(ISBLANK('Outsourcing Register'!G2501),"FIELD IS BLANK",IF(ISNA(VLOOKUP('Outsourcing Register'!G2501,'Drop-down Data'!$B$2:$B$251,1,0)),"ERROR, PLEASE CHECK FIELD","OK")) -> FIELD IS BLANK | H2501: =IF(ISBLANK('Outsourcing Register'!H2501),"FIELD IS BLANK",IF('Outsourcing Register'!H2501="Service provider","OK",IF('Outsourcing Register'!H2501="Material sub-contractor","OK","ERROR, PLEASE CHECK FIELD"))) -> FIELD IS BLANK | I2501: =IF(ISBLANK('Outsourcing Register'!I2501),"FIELD IS BLANK",IF('Outsourcing Register'!I2501="Intragroup","OK",IF('Outsourcing Register'!I2501="Non-intragroup","OK","ERROR, PLEASE CHECK FIELD"))) -> FIELD IS BLANK | J2501: =IF(ISBLANK('Outsourcing Register'!J2501),"FIELD IS BLANK",IF('Outsourcing Register'!J2501="Material","OK",IF('Outsourcing Register'!J2501="Non-material","OK","ERROR, PLEASE CHECK FIELD"))) -> FIELD IS BLANK | K2501: =IF(ISBLANK('Outsourcing Register'!K2501),"FIELD IS BLANK","OK") -> FIELD IS BLANK | L2501: =IF(ISBLANK('Outsourcing Register'!L2501),"FIELD IS BLANK",IF('Outsourcing Register'!L2501="Yes","OK",IF('Outsourcing Register'!L2501="No","OK","ERROR, PLEASE CHECK FIELD"))) -> FIELD IS BLANK | M2501: =IF(ISBLANK('Outsourcing Register'!M2501),"FIELD IS BLANK",IF('Outsourcing Register'!M2501="Yes","OK",IF('Outsourcing Register'!M2501="No","OK","ERROR, PLEASE CHECK FIELD"))) -> FIELD IS BLANK | N2501: =IF(ISBLANK('Outsourcing Register'!N2501),"OK","ERROR, PLEASE CHECK FIELD") -> OK | O2501: =IF(ISBLANK('Outsourcing Register'!O2501),"OK","ERROR, PLEASE CHECK FIELD") -> OK | P2501: =IF(ISBLANK('Outsourcing Register'!P2501),"OK","ERROR, PLEASE CHECK FIELD") -> OK | Q2501: =IF(ISBLANK('Outsourcing Register'!Q2501),"FIELD IS BLANK",IF(ISNA(VLOOKUP('Outsourcing Register'!Q2501,'Drop-down Data'!$D$2:$D$5,1,0)),"ERROR, PLEASE CHECK FIELD","OK")) -> FIELD IS BLANK | R2501: =IF(ISBLANK('Outsourcing Register'!R2501),"FIELD IS BLANK",IF(ISNA(VLOOKUP('Outsourcing Register'!R2501,'Drop-down Data'!$E$2:$E$3,1,0)),"ERROR, PLEASE CHECK FIELD","OK")) -> FIELD IS BLANK | S2501: =IF(ISBLANK('Outsourcing Register'!S2501),"FIELD IS BLANK","OK") -> FIELD IS BLANK | T2501: =IF(ISBLANK('Outsourcing Register'!T2501),"FIELD IS BLANK","OK") -> FIELD IS BLANK | U2501: =IF(ISBLANK('Outsourcing Register'!U2501),"FIELD IS BLANK","OK") -> FIELD IS BLANK | V2501: =IF(ISBLANK('Outsourcing Register'!V2501),"FIELD IS BLANK","OK") -> FIELD IS BLANK | W2501: =IF(ISBLANK('Outsourcing Register'!W2501),"FIELD IS BLANK",IF(ISNA(VLOOKUP('Outsourcing Register'!W2501,'Drop-down Data'!$F$2:$F$3,1,0)),"ERROR, PLEASE CHECK FIELD","OK")) -> FIELD IS BLANK | X2501: =IF(ISBLANK('Outsourcing Register'!X2501),"FIELD IS BLANK",IF('Outsourcing Register'!X2501<0,"ERROR","OK")) -> FIELD IS BLANK | Y2501: =IF(ISBLANK('Outsourcing Register'!Y2501),"FIELD IS BLANK","OK") -> FIELD IS BLANK | Z2501: =IF(ISBLANK('Outsourcing Register'!Z2501),"FIELD IS BLANK",IF(ISNA(VLOOKUP('Outsourcing Register'!Z2501,'Drop-down Data'!$G$2:$G$6,1,0)),"ERROR, PLEASE CHECK FIELD","OK")) -> FIELD IS BLANK | AA2501: =IF(ISBLANK('Outsourcing Register'!AA2501),"FIELD IS BLANK","OK") -> FIELD IS BLANK | AB2501: =IF(ISBLANK('Outsourcing Register'!AB2501),"FIELD IS BLANK",IF('Outsourcing Register'!AB2501="Yes","OK",IF('Outsourcing Register'!AB2501="No (please elaborate in the Other Comments column)","OK","ERROR, PLEASE CHECK FIELD"))) -> FIELD IS BLANK | AC2501: =IF(ISBLANK('Outsourcing Register'!AC2501),"FIELD IS BLANK","OK") -> FIELD IS BLANK | AH2501: =TRIM(MID(SUBSTITUTE('Outsourcing Register'!$N2501,",",REPT(" ",99)),COLUMNS($A:F)*99-98,99))

Sheet Drop-down Data
A1: List of Relevant Services | B1: Code | C1: Country | D1: Col Q | E1: Col R | F1: Col W | G1: Col Z
A2: Processing of applications | B2: AF | C2: Afghanistan | D2: Can be substituted with minimal impact to business operations | E2: Yes, identified | F2: Yes (please elaborate in the Other Comments column) | G2: External auditor of service provider
A3: Middle and back office operations | B3: AX | C3: Aland Islands | D3: Can be substituted with moderate impact to business operations | E3: No, not identified (please elaborate in the Other Comments column) | F3: No | G3: External auditor of material sub-contractor
A4: Administration of claims | B4: AL | C4: Albania | D4: Can be substituted with major impact to business operations | G4: Internal auditor of bank
A5: Processing of documents | B5: DZ | C5: Algeria | D5: No alternate service provider | G5: External auditor of bank
A6: Investment management | B6: AS | C6: American Samoa | G6: Others (please elaborate in the Other Comments column)
A7: Calculation of financial benchmarks | B7: AD | C7: Andorra
A8: White-labelling arrangements | B8: AO | C8: Angola
A9: Marketing or research | B9: AI | C9: Anguilla
A10: Professional services relating to the business activities of the bank | B10: AQ | C10: Antarctica
A11: Name screening services for AML/CFT or KYC purposes | B11: AG | C11: Antigua and Barbuda
A12: Due diligence performed on potential customers | B12: AR | C12: Argentina
A13: Card embossing services | B13: AM | C13: Armenia
A14: Public cloud services | B14: AW | C14: Aruba
A15: Information technology helpdesks services | B15: AU | C15: Australia
A16: Data centre operations or data centre facilities management services | B16: AT | C16: Austria
A17: Support services relating to archival, storage and destruction of data and records | B17: AZ | C17: Azerbaijan
A18: Services relating to manpower management | B18: BH | C18: Bahrain
... A23: Others | B23: BE | C23: Belgium
B24: BZ | C24: Belize
B25: BJ | C25: Benin
B26: BM | C26: Bermuda
B27: BT | C27: Bhutan
B28: BO | C28: Bolivia, Plurinational State of
B29: BQ | C29: Bonaire, Sint Eustatius and Saba
B30: BA | C30: Bosnia and Herzegovina
B31: BW | C31: Botswana
B32: BV | C32: Bouvet Island
B33: BR | C33: Brazil
B34: IO | C34: British Indian Ocean Territory
B35: BN | C35: Brunei Darussalam
... B251: ZW | C251: Zimbabwe
