Workbook
Name LBAB: _xlfn.LAMBDA(_xlpm.x, IF(_xlpm.x <> "", _xlpm.x, ""))

Sheet Cover Page
A1: MAS Notice 643A
A2: APPENDIX 1
A3: THE MONETARY AUTHORITY OF SINGAPORE
A4: THE BANKING ACT 1970
A5: Cover page
B7: Institution Code
B9: Institution Name
B11: Reporting Cycle | E11: (MM/YYYY)
B13: Name of Manager
B15: Designation of Manager
B17: Date of submission to Head Office/ reading at Board of Directors Meeting
B19: Date of preparation
B21: Date of submission to the Authority
G23: Ver1.1

Sheet Table 1 - Solo
A1: Table 1: Statement of exposures and credit facilities to be reported under section 27(1) of the Banking Act 1970
A2: Note: Leave the cells blank if nil or not applicable.
A3: Solo basis reporting | B3: Total Exposure Limits (S$) | C3: Total Gross Exposure Amounts (S$) | D3: Total Net Exposure Amounts (S$) | E3: Total Gross Exposure Amounts of which are Credit Facilities (S$) | F3: Total Credit Facilities which are Unsecured (S$) | G3: Remarks
A4: a) Persons in the director groups of the bank
A5: b) In the case of a bank incorporated in Singapore, persons in the substantial shareholder groups of the bank
A6: c) Entities in the major stake entity groups of the bank
A7: d) Branches, entities or head office in the related corporation groups of the bank1
A8: e) Persons in the senior management groups of the bank
A9: f) Persons in the key credit approver groups of the bank
A10: g) Persons in which, any of the directors of the bank has a direct or indirect interest, as declared under section 28 other than the credit facilities or exposures particulars of which have already been supplied under section 27
A11: h) Persons whose duties or interests are in conflict with the interests of the bank, as determined by the bank in accordance with a manner and process specified by the Authority by written notice to the bank under section 27(2)(h)
A13: Additional Information
A16: Note:
A17: 1 Without prejudice to paragraph 6 of MAS Notice 643A, for the purpose of paragraph 4 of the aforementioned Notice, a bank incorporated in Singapore must report exposures and credit facilities under item d at the bank standalone level, and report the aggregate of all credit facilities from and all exposures of the bank to related corporations only.

Sheet Table 1 - Consolidated
A1: Table 1: Statement of exposures and credit facilities to be reported under section 27(1) of the Banking Act 1970
A2: Note: Leave the cells blank if nil or not applicable.
A3: Consolidated basis reporting | B3: Total Exposure Limits (S$) | C3: Total Gross Exposure Amounts (S$) | D3: Total Net Exposure Amounts (S$) | E3: Total Gross Exposure Amounts of which are Credit Facilities (S$) | F3: Total Credit Facilities which are Unsecured (S$) | G3: Remarks
A4: a) Persons in the director groups of the bank
A5: b) In the case of a bank incorporated in Singapore, persons in the substantial shareholder groups of the bank
A6: c) Entities in the major stake entity groups of the bank
A7: d) Branches, entities or head office in the related corporation groups of the bank
A8: e) Persons in the senior management groups of the bank
A9: f) Persons in the key credit approver groups of the bank
A10: g) Persons in which, any of the directors of the bank has a direct or indirect interest, as declared under section 28 other than the credit facilities or exposures particulars of which have already been supplied under section 27
A11: h) Persons whose duties or interests are in conflict with the interests of the bank, as determined by the bank in accordance with a manner and process specified by the Authority by written notice to the bank under section 27(2)(h)
A13: Additional Information

Sheet Table 2
A1: Table 2: Related party transactions that depart from policies and procedures, exceed the materiality threshold (excluding related party transactions that fall within paragraph 29 or 30 of MAS Notice 643) or are write-offs
A2: Note: Leave the cells blank if nil or not applicable.
B3: Exposure | F3: Non-exposure
A4: Entity | B4: Total Gross Exposure Amounts (S$) | C4: Total Net Exposure Amounts (S$) | D4: Total Gross Exposure Amounts of which are Credit Facilities (S$) | E4: Total Credit Facilities which are Unsecured (S$) | F4: Value of Transaction (S$) | G4: Type of Transaction (e.g. write-offs) | H4: Materiality threshold (if applicable) | I4: Reason for departing from policies/ exceeding materiality threshold/ write-off | J4: Additional comments, if any

Sheet Table 3
A1: Table 3: Nominal thresholds for the year
A2: Note: Leave the cells blank if nil or not applicable.
A3: Type of related party transaction | B3: Nominal Thresholds

Sheet Compile_Sheet
A1: Template_Version | B1: ='Cover Page'!B7 -> Institution Code | C1: =_xlfn.CONCAT("Reporting"," ",'Cover Page'!B9) -> Reporting Institution Name | D1: ='Cover Page'!B11 -> Reporting Cycle | E1: ='Cover Page'!B13 -> Name of Manager | F1: ='Cover Page'!B15 -> Designation of Manager | G1: ='Cover Page'!B17 -> Date of submission to Head Office/ reading at Board of Directors Meeting | H1: ='Cover Page'!B19 -> Date of preparation | I1: ='Cover Page'!B21 -> Date of submission to the Authority | J1: =_xlfn.CONCAT("Solo"," - ",'Table 1 - Solo'!A4," - ",'Table 1 - Solo'!B3) -> Solo - a) Persons in the director groups of the bank - Total Exposure Limits (S$) | K1: =_xlfn.CONCAT("Solo"," - ",'Table 1 - Solo'!$A$4," - ",'Table 1 - Solo'!C3) -> Solo - a) Persons in the director groups of the bank - Total Gross Exposure Amounts (S$) | L1: =_xlfn.CONCAT("Solo"," - ",'Table 1 - Solo'!$A$4," - ",'Table 1 - Solo'!D3) -> Solo - a) Persons in the director groups of the bank - Total Net Exposure Amounts (S$) | M1: =_xlfn.CONCAT("Solo"," - ",'Table 1 - Solo'!$A$4," - ",'Table 1 - Solo'!E3) -> Solo - a) Persons in the director groups of the bank - Total Gross Exposure Amounts of which are Credit Facilities (S$) | N1: =_xlfn.CONCAT("Solo"," - ",'Table 1 - Solo'!$A$4," - ",'Table 1 - Solo'!F3) -> Solo - a) Persons in the director groups of the bank - Total Credit Facilities which are Unsecured (S$) | O1: =_xlfn.CONCAT("Solo"," - ",'Table 1 - Solo'!$A$4," - ",'Table 1 - Solo'!G3) -> Solo - a) Persons in the director groups of the bank - Remarks | P1: =_xlfn.CONCAT("Solo"," - ",'Table 1 - Solo'!$A$5," - ",'Table 1 - Solo'!B3) -> Solo - b) In the case of a bank incorporated in Singapore, persons in the substantial shareholder groups of the bank - Total Exposure Limits (S$) | Q1: =_xlfn.CONCAT("Solo"," - ",'Table 1 - Solo'!$A$5," - ",'Table 1 - Solo'!C3) -> Solo - b) In the case of a bank incorporated in Singapore, persons in the substantial shareholder groups of the bank - Total Gross Exposure Amounts (S$) | R1: =_xlfn.CONCAT("Solo"," - ",'Table 1 - Solo'!$A$5," - ",'Table 1 - Solo'!D3) -> Solo - b) In the case of a bank incorporated in Singapore, persons in the substantial shareholder groups of the bank - Total Net Exposure Amounts (S$) | S1: =_xlfn.CONCAT("Solo"," - ",'Table 1 - Solo'!$A$5," - ",'Table 1 - Solo'!E3) -> Solo - b) In the case of a bank incorporated in Singapore, persons in the substantial shareholder groups of the bank - Total Gross Exposure Amounts of which are Credit Facilities (S$) | T1: =_xlfn.CONCAT("Solo"," - ",'Table 1 - Solo'!$A$5," - ",'Table 1 - Solo'!F3) -> Solo - b) In the case of a bank incorporated in Singapore, persons in the substantial shareholder groups of the bank - Total Credit Facilities which are Unsecured (S$) | U1: =_xlfn.CONCAT("Solo"," - ",'Table 1 - Solo'!$A$5," - ",'Table 1 - Solo'!G3) -> Solo - b) In the case of a bank incorporated in Singapore, persons in the substantial shareholder groups of the bank - Remarks | V1: =_xlfn.CONCAT("Solo"," - ",'Table 1 - Solo'!$A$6," - ",'Table 1 - Solo'!B3) -> Solo - c) Entities in the major stake entity groups of the bank - Total Exposure Limits (S$) | W1: =_xlfn.CONCAT("Solo"," - ",'Table 1 - Solo'!$A$6," - ",'Table 1 - Solo'!C3) -> Solo - c) Entities in the major stake entity groups of the bank - Total Gross Exposure Amounts (S$) | X1: =_xlfn.CONCAT("Solo"," - ",'Table 1 - Solo'!$A$6," - ",'Table 1 - Solo'!D3) -> Solo - c) Entities in the major stake entity groups of the bank - Total Net Exposure Amounts (S$) | Y1: =_xlfn.CONCAT("Solo"," - ",'Table 1 - Solo'!$A$6," - ",'Table 1 - Solo'!E3) -> Solo - c) Entities in the major stake entity groups of the bank - Total Gross Exposure Amounts of which are Credit Facilities (S$) | Z1: =_xlfn.CONCAT("Solo"," - ",'Table 1 - Solo'!$A$6," - ",'Table 1 - Solo'!F3) -> Solo - c) Entities in the major stake entity groups of the bank - Total Credit Facilities which are Unsecured (S$) | AA1: =_xlfn.CONCAT("Solo"," - ",'Table 1 - Solo'!$A$6," - ",'Table 1 - Solo'!G3) -> Solo - c) Entities in the major stake entity groups of the bank - Remarks | AB1: =_xlfn.CONCAT("Solo"," - ",'Table 1 - Solo'!$A$7," - ",'Table 1 - Solo'!B3) -> Solo - d) Branches, entities or head office in the related corporation groups of the bank1 - Total Exposure Limits (S$) | AC1: =_xlfn.CONCAT("Solo"," - ",'Table 1 - Solo'!$A$7," - ",'Table 1 - Solo'!C3) -> Solo - d) Branches, entities or head office in the related corporation groups of the bank1 - Total Gross Exposure Amounts (S$) | AD1: =_xlfn.CONCAT("Solo"," - ",'Table 1 - Solo'!$A$7," - ",'Table 1 - Solo'!D3) -> Solo - d) Branches, entities or head office in the related corporation groups of the bank1 - Total Net Exposure Amounts (S$) | AE1: =_xlfn.CONCAT("Solo"," - ",'Table 1 - Solo'!$A$7," - ",'Table 1 - Solo'!E3) -> Solo - d) Branches, entities or head office in the related corporation groups of the bank1 - Total Gross Exposure Amounts of which are Credit Facilities (S$) | AF1: =_xlfn.CONCAT("Solo"," - ",'Table 1 - Solo'!$A$7," - ",'Table 1 - Solo'!F3) -> Solo - d) Branches, entities or head office in the related corporation groups of the bank1 - Total Credit Facilities which are Unsecured (S$) | AG1: =_xlfn.CONCAT("Solo"," - ",'Table 1 - Solo'!$A$7," - ",'Table 1 - Solo'!G3) -> Solo - d) Branches, entities or head office in the related corporation groups of the bank1 - Remarks | AH1: =_xlfn.CONCAT("Solo"," - ",'Table 1 - Solo'!$A$8," - ",'Table 1 - Solo'!B3) -> Solo - e) Persons in the senior management groups of the bank - Total Exposure Limits (S$) | AI1: =_xlfn.CONCAT("Solo"," - ",'Table 1 - Solo'!$A$8," - ",'Table 1 - Solo'!C3) -> Solo - e) Persons in the senior management groups of the bank - Total Gross Exposure Amounts (S$) | AJ1: =_xlfn.CONCAT("Solo"," - ",'Table 1 - Solo'!$A$8," - ",'Table 1 - Solo'!D3) -> Solo - e) Persons in the senior management groups of the bank - Total Net Exposure Amounts (S$) | AK1: =_xlfn.CONCAT("Solo"," - ",'Table 1 - Solo'!$A$8," - ",'Table 1 - Solo'!E3) -> Solo - e) Persons in the senior management groups of the bank - Total Gross Exposure Amounts of which are Credit Facilities (S$) | AL1: =_xlfn.CONCAT("Solo"," - ",'Table 1 - Solo'!$A$8," - ",'Table 1 - Solo'!F3) -> Solo - e) Persons in the senior management groups of the bank - Total Credit Facilities which are Unsecured (S$) | AM1: =_xlfn.CONCAT("Solo"," - ",'Table 1 - Solo'!$A$8," - ",'Table 1 - Solo'!G3) -> Solo - e) Persons in the senior management groups of the bank - Remarks | AN1: =_xlfn.CONCAT("Solo"," - ",'Table 1 - Solo'!$A$9," - ",'Table 1 - Solo'!B3) -> Solo - f) Persons in the key credit approver groups of the bank - Total Exposure Limits (S$) | AO1: =_xlfn.CONCAT("Solo"," - ",'Table 1 - Solo'!$A$9," - ",'Table 1 - Solo'!C3) -> Solo - f) Persons in the key credit approver groups of the bank - Total Gross Exposure Amounts (S$) | AP1: =_xlfn.CONCAT("Solo"," - ",'Table 1 - Solo'!$A$9," - ",'Table 1 - Solo'!D3) -> Solo - f) Persons in the key credit approver groups of the bank - Total Net Exposure Amounts (S$) | AQ1: =_xlfn.CONCAT("Solo"," - ",'Table 1 - Solo'!$A$9," - ",'Table 1 - Solo'!E3) -> Solo - f) Persons in the key credit approver groups of the bank - Total Gross Exposure Amounts of which are Credit Facilities (S$) | AR1: =_xlfn.CONCAT("Solo"," - ",'Table 1 - Solo'!$A$9," - ",'Table 1 - Solo'!F3) -> Solo - f) Persons in the key credit approver groups of the bank - Total Credit Facilities which are Unsecured (S$) | AS1: =_xlfn.CONCAT("Solo"," - ",'Table 1 - Solo'!$A$9," - ",'Table 1 - Solo'!G3) -> Solo - f) Persons in the key credit approver groups of the bank - Remarks | AT1: =_xlfn.CONCAT("Solo"," - ",'Table 1 - Solo'!$A$10," - ",'Table 1 - Solo'!B3) -> Solo - g) Persons in which, any of the directors of the bank has a direct or indirect interest, as declared under section 28 other than the credit facilities or exposures particulars of which have already been supplied under section 27 - Total Exposure Limits (S$) | AU1: =_xlfn.CONCAT("Solo"," - ",'Table 1 - Solo'!$A$10," - ",'Table 1 - Solo'!C3) -> Solo - g) Persons in which, any of the directors of the bank has a direct or indirect interest, as declared under section 28 other than the credit facilities or exposures particulars of which have already been supplied under section 27 - Total Gross Exposure Amounts (S$) | AV1: =_xlfn.CONCAT("Solo"," - ",'Table 1 - Solo'!$A$10," - ",'Table 1 - Solo'!D3) -> Solo - g) Persons in which, any of the directors of the bank has a direct or indirect interest, as declared under section 28 other than the credit facilities or exposures particulars of which have already been supplied under section 27 - Total Net Exposure Amounts (S$) | AW1: =_xlfn.CONCAT("Solo"," - ",'Table 1 - Solo'!$A$10," - ",'Table 1 - Solo'!E3) -> Solo - g) Persons in which, any of the directors of the bank has a direct or indirect interest, as declared under section 28 other than the credit facilities or exposures particulars of which have already been supplied under section 27 - Total Gross Exposure Amounts of which are Credit Facilities (S$) | AX1: =_xlfn.CONCAT("Solo"," - ",'Table 1 - Solo'!$A$10," - ",'Table 1 - Solo'!F3) -> Solo - g) Persons in which, any of the directors of the bank has a direct or indirect interest, as declared under section 28 other than the credit facilities or exposures particulars of which have already been supplied under section 27 - Total Credit Facilities which are Unsecured (S$) | AY1: =_xlfn.CONCAT("Solo"," - ",'Table 1 - Solo'!$A$10," - ",'Table 1 - Solo'!G3) -> Solo - g) Persons in which, any of the directors of the bank has a direct or indirect interest, as declared under section 28 other than the credit facilities or exposures particulars of which have already been supplied under section 27 - Remarks | AZ1: =_xlfn.CONCAT("Solo"," - ",'Table 1 - Solo'!$A$11," - ",'Table 1 - Solo'!B3) -> Solo - h) Persons whose duties or interests are in conflict with the interests of the bank, as determined by the bank in accordance with a manner and process specified by the Authority by written notice to the bank under section 27(2)(h) - Total Exposure Limits (S$) | BA1: =_xlfn.CONCAT("Solo"," - ",'Table 1 - Solo'!$A$11," - ",'Table 1 - Solo'!C3) -> Solo - h) Persons whose duties or interests are in conflict with the interests of the bank, as determined by the bank in accordance with a manner and process specified by the Authority by written notice to the bank under section 27(2)(h) - Total Gross Exposure Amounts (S$) | BB1: =_xlfn.CONCAT("Solo"," - ",'Table 1 - Solo'!$A$11," - ",'Table 1 - Solo'!D3) -> Solo - h) Persons whose duties or interests are in conflict with the interests of the bank, as determined by the bank in accordance with a manner and process specified by the Authority by written notice to the bank under section 27(2)(h) - Total Net Exposure Amounts (S$) | BC1: =_xlfn.CONCAT("Solo"," - ",'Table 1 - Solo'!$A$11," - ",'Table 1 - Solo'!E3) -> Solo - h) Persons whose duties or interests are in conflict with the interests of the bank, as determined by the bank in accordance with a manner and process specified by the Authority by written notice to the bank under section 27(2)(h) - Total Gross Exposure Amounts of which are Credit Facilities (S$) | BD1: =_xlfn.CONCAT("Solo"," - ",'Table 1 - Solo'!$A$11," - ",'Table 1 - Solo'!F3) -> Solo - h) Persons whose duties or interests are in conflict with the interests of the bank, as determined by the bank in accordance with a manner and process specified by the Authority by written notice to the bank under section 27(2)(h) - Total Credit Facilities which are Unsecured (S$) | BE1: =_xlfn.CONCAT("Solo"," - ",'Table 1 - Solo'!$A$11," - ",'Table 1 - Solo'!G3) -> Solo - h) Persons whose duties or interests are in conflict with the interests of the bank, as determined by the bank in accordance with a manner and process specified by the Authority by written notice to the bank under section 27(2)(h) - Remarks | BF1: =_xlfn.CONCAT("Solo"," - ",'Table 1 - Solo'!A13) -> Solo - Additional Information | BG1: =_xlfn.CONCAT("Consolidated"," - ",'Table 1 - Consolidated'!$A$4," - ",'Table 1 - Consolidated'!B3) -> Consolidated - a) Persons in the director groups of the bank - Total Exposure Limits (S$) | BH1: =_xlfn.CONCAT("Consolidated"," - ",'Table 1 - Consolidated'!$A$4," - ",'Table 1 - Consolidated'!C3) -> Consolidated - a) Persons in the director groups of the bank - Total Gross Exposure Amounts (S$) | BI1: =_xlfn.CONCAT("Consolidated"," - ",'Table 1 - Consolidated'!$A$4," - ",'Table 1 - Consolidated'!D3) -> Consolidated - a) Persons in the director groups of the bank - Total Net Exposure Amounts (S$) | BJ1: =_xlfn.CONCAT("Consolidated"," - ",'Table 1 - Consolidated'!$A$4," - ",'Table 1 - Consolidated'!E3) -> Consolidated - a) Persons in the director groups of the bank - Total Gross Exposure Amounts of which are Credit Facilities (S$) | BK1: =_xlfn.CONCAT("Consolidated"," - ",'Table 1 - Consolidated'!$A$4," - ",'Table 1 - Consolidated'!F3) -> Consolidated - a) Persons in the director groups of the bank - Total Credit Facilities which are Unsecured (S$) | BL1: =_xlfn.CONCAT("Consolidated"," - ",'Table 1 - Consolidated'!$A$4," - ",'Table 1 - Consolidated'!G3) -> Consolidated - a) Persons in the director groups of the bank - Remarks | BM1: =_xlfn.CONCAT("Consolidated"," - ",'Table 1 - Consolidated'!$A$5," - ",'Table 1 - Consolidated'!B3) -> Consolidated - b) In the case of a bank incorporated in Singapore, persons in the substantial shareholder groups of the bank - Total Exposure Limits (S$) | BN1: =_xlfn.CONCAT("Consolidated"," - ",'Table 1 - Consolidated'!$A$5," - ",'Table 1 - Consolidated'!C3) -> Consolidated - b) In the case of a bank incorporated in Singapore, persons in the substantial shareholder groups of the bank - Total Gross Exposure Amounts (S$) | BO1: =_xlfn.CONCAT("Consolidated"," - ",'Table 1 - Consolidated'!$A$5," - ",'Table 1 - Consolidated'!D3) -> Consolidated - b) In the case of a bank incorporated in Singapore, persons in the substantial shareholder groups of the bank - Total Net Exposure Amounts (S$) | BP1: =_xlfn.CONCAT("Consolidated"," - ",'Table 1 - Consolidated'!$A$5," - ",'Table 1 - Consolidated'!E3) -> Consolidated - b) In the case of a bank incorporated in Singapore, persons in the substantial shareholder groups of the bank - Total Gross Exposure Amounts of which are Credit Facilities (S$) | BQ1: =_xlfn.CONCAT("Consolidated"," - ",'Table 1 - Consolidated'!$A$5," - ",'Table 1 - Consolidated'!F3) -> Consolidated - b) In the case of a bank incorporated in Singapore, persons in the substantial shareholder groups of the bank - Total Credit Facilities which are Unsecured (S$) | BR1: =_xlfn.CONCAT("Consolidated"," - ",'Table 1 - Consolidated'!$A$5," - ",'Table 1 - Consolidated'!G3) -> Consolidated - b) In the case of a bank incorporated in Singapore, persons in the substantial shareholder groups of the bank - Remarks | BS1: =_xlfn.CONCAT("Consolidated"," - ",'Table 1 - Consolidated'!$A$6," - ",'Table 1 - Consolidated'!B3) -> Consolidated - c) Entities in the major stake entity groups of the bank - Total Exposure Limits (S$) | BT1: =_xlfn.CONCAT("Consolidated"," - ",'Table 1 - Consolidated'!$A$6," - ",'Table 1 - Consolidated'!C3) -> Consolidated - c) Entities in the major stake entity groups of the bank - Total Gross Exposure Amounts (S$) | BU1: =_xlfn.CONCAT("Consolidated"," - ",'Table 1 - Consolidated'!$A$6," - ",'Table 1 - Consolidated'!D3) -> Consolidated - c) Entities in the major stake entity groups of the bank - Total Net Exposure Amounts (S$) | BV1: =_xlfn.CONCAT("Consolidated"," - ",'Table 1 - Consolidated'!$A$6," - ",'Table 1 - Consolidated'!E3) -> Consolidated - c) Entities in the major stake entity groups of the bank - Total Gross Exposure Amounts of which are Credit Facilities (S$) | BW1: =_xlfn.CONCAT("Consolidated"," - ",'Table 1 - Consolidated'!$A$6," - ",'Table 1 - Consolidated'!F3) -> Consolidated - c) Entities in the major stake entity groups of the bank - Total Credit Facilities which are Unsecured (S$) | BX1: =_xlfn.CONCAT("Consolidated"," - ",'Table 1 - Consolidated'!$A$6," - ",'Table 1 - Consolidated'!G3) -> Consolidated - c) Entities in the major stake entity groups of the bank - Remarks | BY1: =_xlfn.CONCAT("Consolidated"," - ",'Table 1 - Consolidated'!$A$7," - ",'Table 1 - Consolidated'!B3) -> Consolidated - d) Branches, entities or head office in the related corporation groups of the bank - Total Exposure Limits (S$) | BZ1: =_xlfn.CONCAT("Consolidated"," - ",'Table 1 - Consolidated'!$A$7," - ",'Table 1 - Consolidated'!C3) -> Consolidated - d) Branches, entities or head office in the related corporation groups of the bank - Total Gross Exposure Amounts (S$) | CA1: =_xlfn.CONCAT("Consolidated"," - ",'Table 1 - Consolidated'!$A$7," - ",'Table 1 - Consolidated'!D3) -> Consolidated - d) Branches, entities or head office in the related corporation groups of the bank - Total Net Exposure Amounts (S$) | CB1: =_xlfn.CONCAT("Consolidated"," - ",'Table 1 - Consolidated'!$A$7," - ",'Table 1 - Consolidated'!E3) -> Consolidated - d) Branches, entities or head office in the related corporation groups of the bank - Total Gross Exposure Amounts of which are Credit Facilities (S$) | CC1: =_xlfn.CONCAT("Consolidated"," - ",'Table 1 - Consolidated'!$A$7," - ",'Table 1 - Consolidated'!F3) -> Consolidated - d) Branches, entities or head office in the related corporation groups of the bank - Total Credit Facilities which are Unsecured (S$) | CD1: =_xlfn.CONCAT("Consolidated"," - ",'Table 1 - Consolidated'!$A$7," - ",'Table 1 - Consolidated'!G3) -> Consolidated - d) Branches, entities or head office in the related corporation groups of the bank - Remarks | CE1: =_xlfn.CONCAT("Consolidated"," - ",'Table 1 - Consolidated'!$A$8," - ",'Table 1 - Consolidated'!B3) -> Consolidated - e) Persons in the senior management groups of the bank - Total Exposure Limits (S$) | CF1: =_xlfn.CONCAT("Consolidated"," - ",'Table 1 - Consolidated'!$A$8," - ",'Table 1 - Consolidated'!C3) -> Consolidated - e) Persons in the senior management groups of the bank - Total Gross Exposure Amounts (S$) | CG1: =_xlfn.CONCAT("Consolidated"," - ",'Table 1 - Consolidated'!$A$8," - ",'Table 1 - Consolidated'!D3) -> Consolidated - e) Persons in the senior management groups of the bank - Total Net Exposure Amounts (S$) | CH1: =_xlfn.CONCAT("Consolidated"," - ",'Table 1 - Consolidated'!$A$8," - ",'Table 1 - Consolidated'!E3) -> Consolidated - e) Persons in the senior management groups of the bank - Total Gross Exposure Amounts of which are Credit Facilities (S$) | CI1: =_xlfn.CONCAT("Consolidated"," - ",'Table 1 - Consolidated'!$A$8," - ",'Table 1 - Consolidated'!F3) -> Consolidated - e) Persons in the senior management groups of the bank - Total Credit Facilities which are Unsecured (S$) | CJ1: =_xlfn.CONCAT("Consolidated"," - ",'Table 1 - Consolidated'!$A$8," - ",'Table 1 - Consolidated'!G3) -> Consolidated - e) Persons in the senior management groups of the bank - Remarks | CK1: =_xlfn.CONCAT("Consolidated"," - ",'Table 1 - Consolidated'!$A$9," - ",'Table 1 - Consolidated'!B3) -> Consolidated - f) Persons in the key credit approver groups of the bank - Total Exposure Limits (S$) | CL1: =_xlfn.CONCAT("Consolidated"," - ",'Table 1 - Consolidated'!$A$9," - ",'Table 1 - Consolidated'!C3) -> Consolidated - f) Persons in the key credit approver groups of the bank - Total Gross Exposure Amounts (S$) | CM1: =_xlfn.CONCAT("Consolidated"," - ",'Table 1 - Consolidated'!$A$9," - ",'Table 1 - Consolidated'!D3) -> Consolidated - f) Persons in the key credit approver groups of the bank - Total Net Exposure Amounts (S$) | CN1: =_xlfn.CONCAT("Consolidated"," - ",'Table 1 - Consolidated'!$A$9," - ",'Table 1 - Consolidated'!E3) -> Consolidated - f) Persons in the key credit approver groups of the bank - Total Gross Exposure Amounts of which are Credit Facilities (S$) | CO1: =_xlfn.CONCAT("Consolidated"," - ",'Table 1 - Consolidated'!$A$9," - ",'Table 1 - Consolidated'!F3) -> Consolidated - f) Persons in the key credit approver groups of the bank - Total Credit Facilities which are Unsecured (S$) | CP1: =_xlfn.CONCAT("Consolidated"," - ",'Table 1 - Consolidated'!$A$9," - ",'Table 1 - Consolidated'!G3) -> Consolidated - f) Persons in the key credit approver groups of the bank - Remarks | CQ1: =_xlfn.CONCAT("Consolidated"," - ",'Table 1 - Consolidated'!$A$10," - ",'Table 1 - Consolidated'!B3) -> Consolidated - g) Persons in which, any of the directors of the bank has a direct or indirect interest, as declared under section 28 other than the credit facilities or exposures particulars of which have already been supplied under section 27 - Total Exposure Limits (S$) | CR1: =_xlfn.CONCAT("Consolidated"," - ",'Table 1 - Consolidated'!$A$10," - ",'Table 1 - Consolidated'!C3) -> Consolidated - g) Persons in which, any of the directors of the bank has a direct or indirect interest, as declared under section 28 other than the credit facilities or exposures particulars of which have already been supplied under section 27 - Total Gross Exposure Amounts (S$) | CS1: =_xlfn.CONCAT("Consolidated"," - ",'Table 1 - Consolidated'!$A$10," - ",'Table 1 - Consolidated'!D3) -> Consolidated - g) Persons in which, any of the directors of the bank has a direct or indirect interest, as declared under section 28 other than the credit facilities or exposures particulars of which have already been supplied under section 27 - Total Net Exposure Amounts (S$) | CT1: =_xlfn.CONCAT("Consolidated"," - ",'Table 1 - Consolidated'!$A$10," - ",'Table 1 - Consolidated'!E3) -> Consolidated - g) Persons in which, any of the directors of the bank has a direct or indirect interest, as declared under section 28 other than the credit facilities or exposures particulars of which have already been supplied under section 27 - Total Gross Exposure Amounts of which are Credit Facilities (S$) | CU1: =_xlfn.CONCAT("Consolidated"," - ",'Table 1 - Consolidated'!$A$10," - ",'Table 1 - Consolidated'!F3) -> Consolidated - g) Persons in which, any of the directors of the bank has a direct or indirect interest, as declared under section 28 other than the credit facilities or exposures particulars of which have already been supplied under section 27 - Total Credit Facilities which are Unsecured (S$) | CV1: =_xlfn.CONCAT("Consolidated"," - ",'Table 1 - Consolidated'!$A$10," - ",'Table 1 - Consolidated'!G3) -> Consolidated - g) Persons in which, any of the directors of the bank has a direct or indirect interest, as declared under section 28 other than the credit facilities or exposures particulars of which have already been supplied under section 27 - Remarks | CW1: =_xlfn.CONCAT("Consolidated"," - ",'Table 1 - Consolidated'!$A$11," - ",'Table 1 - Consolidated'!B3) -> Consolidated - h) Persons whose duties or interests are in conflict with the interests of the bank, as determined by the bank in accordance with a manner and process specified by the Authority by written notice to the bank under section 27(2)(h) - Total Exposure Limits (S$) | CX1: =_xlfn.CONCAT("Consolidated"," - ",'Table 1 - Consolidated'!$A$11," - ",'Table 1 - Consolidated'!C3) -> Consolidated - h) Persons whose duties or interests are in conflict with the interests of the bank, as determined by the bank in accordance with a manner and process specified by the Authority by written notice to the bank under section 27(2)(h) - Total Gross Exposure Amounts (S$) | CY1: =_xlfn.CONCAT("Consolidated"," - ",'Table 1 - Consolidated'!$A$11," - ",'Table 1 - Consolidated'!D3) -> Consolidated - h) Persons whose duties or interests are in conflict with the interests of the bank, as determined by the bank in accordance with a manner and process specified by the Authority by written notice to the bank under section 27(2)(h) - Total Net Exposure Amounts (S$) | CZ1: =_xlfn.CONCAT("Consolidated"," - ",'Table 1 - Consolidated'!$A$11," - ",'Table 1 - Consolidated'!E3) -> Consolidated - h) Persons whose duties or interests are in conflict with the interests of the bank, as determined by the bank in accordance with a manner and process specified by the Authority by written notice to the bank under section 27(2)(h) - Total Gross Exposure Amounts of which are Credit Facilities (S$) | DA1: =_xlfn.CONCAT("Consolidated"," - ",'Table 1 - Consolidated'!$A$11," - ",'Table 1 - Consolidated'!F3) -> Consolidated - h) Persons whose duties or interests are in conflict with the interests of the bank, as determined by the bank in accordance with a manner and process specified by the Authority by written notice to the bank under section 27(2)(h) - Total Credit Facilities which are Unsecured (S$) | DB1: =_xlfn.CONCAT("Consolidated"," - ",'Table 1 - Consolidated'!$A$11," - ",'Table 1 - Consolidated'!G3) -> Consolidated - h) Persons whose duties or interests are in conflict with the interests of the bank, as determined by the bank in accordance with a manner and process specified by the Authority by written notice to the bank under section 27(2)(h) - Remarks | DC1: =_xlfn.CONCAT("Consolidated"," - ",'Table 1 - Consolidated'!A13) -> Consolidated - Additional Information
A2: 1.1 | B2: {=LBAB('Cover Page'!D7)} | C2: {=LBAB('Cover Page'!D9)} | D2: {=LBAB('Cover Page'!D11)} | E2: {=LBAB('Cover Page'!D13)} | F2: {=LBAB('Cover Page'!D15)} | G2: {=LBAB('Cover Page'!D17)} | H2: {=LBAB('Cover Page'!D19)} | I2: {=LBAB('Cover Page'!D21)} | J2: {=LBAB('Table 1 - Solo'!B4)} | K2: {=LBAB('Table 1 - Solo'!C4)} | L2: {=LBAB('Table 1 - Solo'!D4)} | M2: {=LBAB('Table 1 - Solo'!E4)} | N2: {=LBAB('Table 1 - Solo'!F4)} | O2: {=LBAB('Table 1 - Solo'!G4)} | P2: {=LBAB('Table 1 - Solo'!B5)} | Q2: {=LBAB('Table 1 - Solo'!C5)} | R2: {=LBAB('Table 1 - Solo'!D5)} | S2: {=LBAB('Table 1 - Solo'!E5)} | T2: {=LBAB('Table 1 - Solo'!F5)} | U2: {=LBAB('Table 1 - Solo'!G5)} | V2: {=LBAB('Table 1 - Solo'!B6)} | W2: {=LBAB('Table 1 - Solo'!C6)} | X2: {=LBAB('Table 1 - Solo'!D6)} | Y2: {=LBAB('Table 1 - Solo'!E6)} | Z2: {=LBAB('Table 1 - Solo'!F6)} | AA2: {=LBAB('Table 1 - Solo'!G6)} | AB2: {=LBAB('Table 1 - Solo'!B7)} | AC2: {=LBAB('Table 1 - Solo'!C7)} | AD2: {=LBAB('Table 1 - Solo'!D7)} | AE2: {=LBAB('Table 1 - Solo'!E7)} | AF2: {=LBAB('Table 1 - Solo'!F7)} | AG2: {=LBAB('Table 1 - Solo'!G7)} | AH2: {=LBAB('Table 1 - Solo'!B8)} | AI2: {=LBAB('Table 1 - Solo'!C8)} | AJ2: {=LBAB('Table 1 - Solo'!D8)} | AK2: {=LBAB('Table 1 - Solo'!E8)} | AL2: {=LBAB('Table 1 - Solo'!F8)} | AM2: {=LBAB('Table 1 - Solo'!G8)} | AN2: {=LBAB('Table 1 - Solo'!B9)} | AO2: {=LBAB('Table 1 - Solo'!C9)} | AP2: {=LBAB('Table 1 - Solo'!D9)} | AQ2: {=LBAB('Table 1 - Solo'!E9)} | AR2: {=LBAB('Table 1 - Solo'!F9)} | AS2: {=LBAB('Table 1 - Solo'!G9)} | AT2: {=LBAB('Table 1 - Solo'!B10)} | AU2: {=LBAB('Table 1 - Solo'!C10)} | AV2: {=LBAB('Table 1 - Solo'!D10)} | AW2: {=LBAB('Table 1 - Solo'!E10)} | AX2: {=LBAB('Table 1 - Solo'!F10)} | AY2: {=LBAB('Table 1 - Solo'!G10)} | AZ2: {=LBAB('Table 1 - Solo'!B11)} | BA2: {=LBAB('Table 1 - Solo'!C11)} | BB2: {=LBAB('Table 1 - Solo'!D11)} | BC2: {=LBAB('Table 1 - Solo'!E11)} | BD2: {=LBAB('Table 1 - Solo'!F11)} | BE2: {=LBAB('Table 1 - Solo'!G11)} | BF2: {=LBAB('Table 1 - Solo'!A14)} | BG2: {=LBAB('Table 1 - Consolidated'!B4)} | BH2: {=LBAB('Table 1 - Consolidated'!C4)} | BI2: {=LBAB('Table 1 - Consolidated'!D4)} | BJ2: {=LBAB('Table 1 - Consolidated'!E4)} | BK2: {=LBAB('Table 1 - Consolidated'!F4)} | BL2: {=LBAB('Table 1 - Consolidated'!G4)} | BM2: {=LBAB('Table 1 - Consolidated'!B5)} | BN2: {=LBAB('Table 1 - Consolidated'!C5)} | BO2: {=LBAB('Table 1 - Consolidated'!D5)} | BP2: {=LBAB('Table 1 - Consolidated'!E5)} | BQ2: {=LBAB('Table 1 - Consolidated'!F5)} | BR2: {=LBAB('Table 1 - Consolidated'!G5)} | BS2: {=LBAB('Table 1 - Consolidated'!B6)} | BT2: {=LBAB('Table 1 - Consolidated'!C6)} | BU2: {=LBAB('Table 1 - Consolidated'!D6)} | BV2: {=LBAB('Table 1 - Consolidated'!E6)} | BW2: {=LBAB('Table 1 - Consolidated'!F6)} | BX2: {=LBAB('Table 1 - Consolidated'!G6)} | BY2: {=LBAB('Table 1 - Consolidated'!B7)} | BZ2: {=LBAB('Table 1 - Consolidated'!C7)} | CA2: {=LBAB('Table 1 - Consolidated'!D7)} | CB2: {=LBAB('Table 1 - Consolidated'!E7)} | CC2: {=LBAB('Table 1 - Consolidated'!F7)} | CD2: {=LBAB('Table 1 - Consolidated'!G7)} | CE2: {=LBAB('Table 1 - Consolidated'!B8)} | CF2: {=LBAB('Table 1 - Consolidated'!C8)} | CG2: {=LBAB('Table 1 - Consolidated'!D8)} | CH2: {=LBAB('Table 1 - Consolidated'!E8)} | CI2: {=LBAB('Table 1 - Consolidated'!F8)} | CJ2: {=LBAB('Table 1 - Consolidated'!G8)} | CK2: {=LBAB('Table 1 - Consolidated'!B9)} | CL2: {=LBAB('Table 1 - Consolidated'!C9)} | CM2: {=LBAB('Table 1 - Consolidated'!D9)} | CN2: {=LBAB('Table 1 - Consolidated'!E9)} | CO2: {=LBAB('Table 1 - Consolidated'!F9)} | CP2: {=LBAB('Table 1 - Consolidated'!G9)} | CQ2: {=LBAB('Table 1 - Consolidated'!B10)} | CR2: {=LBAB('Table 1 - Consolidated'!C10)} | CS2: {=LBAB('Table 1 - Consolidated'!D10)} | CT2: {=LBAB('Table 1 - Consolidated'!E10)} | CU2: {=LBAB('Table 1 - Consolidated'!F10)} | CV2: {=LBAB('Table 1 - Consolidated'!G10)} | CW2: {=LBAB('Table 1 - Consolidated'!B11)} | CX2: {=LBAB('Table 1 - Consolidated'!C11)} | CY2: {=LBAB('Table 1 - Consolidated'!D11)} | CZ2: {=LBAB('Table 1 - Consolidated'!E11)} | DA2: {=LBAB('Table 1 - Consolidated'!F11)} | DB2: {=LBAB('Table 1 - Consolidated'!G11)} | DC2: {=LBAB('Table 1 - Consolidated'!A14)}
