Workbook
Name isZero: Check!$D$11
Name RgFwd: #REF!
Name RgFwd: #REF!
Name RgMatFwd: #REF!
Name RgMatFwd: #REF!
Name RgMatSwaps: #REF!
Name RgMatSwaps: #REF!
Name RgSpot: #REF!
Name RgSpot: #REF!
Name RgSwaps: #REF!
Name RgSwaps: #REF!

Sheet CoverPage
A2: MANDATORY VALUE - INDICATOR
B3: 45809
B4: Please login to MASNET Website to check for the latest release.
B5: BIS TRIENNIAL CENTRAL BANK SURVEY OF FOREIGN EXCHANGE AND DERIVATIVES MARKET ACTIVITY - AMOUNTS OUTSTANDING
B10: GENERAL INFORMATION:
B11: Institution code: *
B12: Institution Name: *
B13: Reporting Cycle (MM/YYYY): *
B14: UEN:
B15: LEI Number:
B16: Other Entity ID:
B18: Approver & Officer for MAS to liase with regarding this survey submission:
B19: (a) Name: *
B20: (b) Designation: *
... B27: Must fill at least one of the items (UEN or LEI or Other Entity ID)

Sheet Instructions
B2: Instructions for consistency checks
B4: To ensure the quality of the reported data, several consistency checks have been implemented in the templates using arithmetical formulas. These checks and their corresponding formulas are available in the checking tables located at bottom of each reporting table. If a data consistency issue is detected in any of the breakdowns listed in a given table or across different tables, the amount of the inconsistency is shown in red. A summary of inconsistencies detected across all reporting tables is available in the sheet "Check". The main consistency checks performed in each table are listed below.
B7: REPORTING TABLE | D7: QUALITY CHECK
B9: Front | D9: First of all you need to select your country of residence from the drop down list located in the front sheet.
B11: Info | D11: Please enter the requested information on the coverage of the survey and the concentration of the survey using numeric values.
B13: O1
B14: Vertically
D15: Counterparty breakdown: for each currency, the sum of the components reported for each counterparty should be equal to the total amount reported under the corresponding instrument.
D17: Options Sold/Bought: for each currency, the sum of the amounts reported as total options sold and total options bought must be equal to the amount reported as total options.
D19: Total FX: for each currency, the sum of the amounts reported as total outright forwards and fx swaps, currency swaps, options and other products should be equal to the amount reported under "total FX contracts".
B21: Horizontally
D22: Currency breakdown: for each row, half of the sum of the amounts allocated to each currency should be equal to the total amount reported under the "Total" column.
B24: Other
D26: Including gold: the amount reported as "including gold" should be larger than the corresponding amount reported as "Total fx contracts".
B28: O2
B29: Vertically
D30: Counterparty breakdown: for each currency, the sum of the components reported for each counterparty should be equal to the total amount reported under the corresponding instrument.
D32: Options Sold/Bought: for each certain currency, the sum of the amounts reported as total options sold and total options bought must be equal to the amount reported as total options.
D34: Total IR: for each currency, the sum of the amounts reported as total FRAs, IR swaps, options and other products should be equal to the amount reported under "total IR contracts".
B36: Horizontally
D37: Currency breakdown: for each row, the sum of the amounts allocated to each currency should be equal to the total amount reported under the "Total" column.
B39: O3
B40: Vertically
D41: Counterparty breakdown: for each column, the sum of the components reported for each counterparty should be equal to the total amount reported under the corresponding instrument.
D43: Options Sold/Bought: for each column, the sum of the amounts reported as total options sold and total options bought must be equal to the amount reported as total options.
D45: Total contracts: for each column, the sum of the amounts reported as total forwards&swaps and options should be equal to the amount reported under "total contracts".
B47: Horizontally
D48: Market breakdown: for each row, the amounts reported in the column for totals should be equal to the sum of the amounts reported under each individual market.
B51: O4
B52: Vertically
D53: Counterparty breakdown: for each maturity, the sum of the components reported for each counterparty should be equal to the total amount reported under the corresponding instrument.
B55: Horizontally | D55: Instrument breakdown: given a certain maturity and market risk category, the sum of the components reported for each instrument should be equal to the total amount reported for the corresponding maturity.
B57: Across different tables | D57: Maturity breakdown: given a certain instrument and counterparty, the sum of the components reported for each maturity in table O4 should be equal to the total amount reported for the corresponding counterparty in tables O1, O2 or O3.
B60: O5
B61: Vertically
D62: Counterparty breakdown: for each column, the sum of the components reported for each counterparty should be equal to the total amount reported under the corresponding instrument.
D64: Instrument breakdown: the sum of the amounts reported for each instrument should be equal to the total amount reported under "Total CDS".
B66: Horizontally | D66: Sectorial breakdown: given a certain category (sold or bought), the sum of the components reported for each sector should be equal to the total amount reported for the corresponding instrument.
D68: Measure: the sum of notional amounts bought and sold should be larger that the sum of gross positive and negative market values.
B70: Across different tables | D70: Totals: the total notional amounts and gross market values reported in table O5 for the CDS contracts should be smaller than the corresponding totals reported in table O3 for the credit derivatives contracts. Please note that the CDS contracts are a subset of the credit derivatives contracts.

Sheet Check
C2: Checking tables summary
C4: Table | D4: Maximum of the differences
C5: Cover Page | D5: =IF(AND(ISBLANK(CoverPage!D14),ISBLANK(CoverPage!D15),ISBLANK(CoverPage!D16)),1, 0) + COUNTIF(CoverPage!D11:D13, "") + COUNTIF(CoverPage!D19:D24,"") -> 10
C6: O1 | D6: =MAX(ABS('O1'!G47),ABS('O1'!G48)) -> 0
C7: O2 | D7: =MAX(ABS('O2'!G47),ABS('O2'!G48)) -> 0
C8: O3 | D8: =MAX(ABS('O3'!F36),ABS('O3'!F37)) -> 0
C9: O4 | D9: =MAX(ABS('O4'!F30),ABS('O4'!F31)) -> 0
C10: O5 | D10: =MAX(ABS('O5'!F44),ABS('O5'!F45)) -> 0
C11: Check | D11: =SUM(D5:D10) -> 10

Sheet O1
B1: Table O1
C2: Central Bank Survey of Foreign Exchange and Derivatives Market Activity
C3: FOREIGN EXCHANGE AND GOLD CONTRACTS ¹
C4: Nominal or notional principal amounts outstanding at end - June 2025
C5: (in millions of USD)
C7: Instruments | D7: AED | E7: ARS | F7: AUD | G7: BGN | H7: BHD | I7: BRL | J7: CAD | K7: CHF | L7: CLP | M7: CNY | N7: COP | O7: CZK | P7: DKK | Q7: EUR | R7: GBP | S7: HKD | T7: HUF | U7: IDR | V7: ILS | W7: INR | X7: JPY | Y7: KRW | Z7: MXN | AA7: MYR | AB7: NOK | AC7: NZD | AD7: PEN | AE7: PHP | AF7: PLN | AG7: RON | AH7: RUB | AI7: SAR | AJ7: SEK | AK7: SGD | AL7: THB | AM7: TRY | AN7: TWD | AO7: USD | AP7: ZAR | AQ7: Other ² | AR7: TOT
C8: OUTRIGHT FORWARDS AND FOREIGN EXCHANGE SWAPS ³
C9: with reporting dealers | AR9: =SUM(D9:AQ9)/2 -> 0
C10: with other financial institutions | AR10: =SUM(D10:AQ10)/2 -> 0
C11: of which CCPs | AR11: =SUM(D11:AQ11)/2 -> 0
C12: with non-financial customers | AR12: =SUM(D12:AQ12)/2 -> 0
C13: TOTAL | D13: =+D9+D10+D12 -> 0 | E13: =+E9+E10+E12 -> 0 | F13: =+F9+F10+F12 -> 0 | G13: =+G9+G10+G12 -> 0 | H13: =+H9+H10+H12 -> 0 | I13: =+I9+I10+I12 -> 0 | J13: =+J9+J10+J12 -> 0 | K13: =+K9+K10+K12 -> 0 | ... AQ13: =+AQ9+AQ10+AQ12 -> 0 | AR13: =SUM(D13:AQ13)/2 -> 0
C14: TOTAL INCLUDING GOLD
C15: CURRENCY SWAPS
C16: with reporting dealers | AR16: =SUM(D16:AQ16)/2 -> 0
C17: with other financial institutions | AR17: =SUM(D17:AQ17)/2 -> 0
C18: of which CCPs | AR18: =SUM(D18:AQ18)/2 -> 0
C19: with non-financial customers | AR19: =SUM(D19:AQ19)/2 -> 0
C20: TOTAL | D20: =+D16+D17+D19 -> 0 | E20: =+E16+E17+E19 -> 0 | F20: =+F16+F17+F19 -> 0 | G20: =+G16+G17+G19 -> 0 | H20: =+H16+H17+H19 -> 0 | I20: =+I16+I17+I19 -> 0 | J20: =+J16+J17+J19 -> 0 | K20: =+K16+K17+K19 -> 0 | ... AQ20: =+AQ16+AQ17+AQ19 -> 0 | AR20: =SUM(D20:AQ20)/2 -> 0
C21: OTC OPTIONS 4
C22: Sold
C23: with reporting dealers | AR23: =SUM(D23:AQ23)/2 -> 0
C24: with other financial institutions | AR24: =SUM(D24:AQ24)/2 -> 0
C25: of which CCPs | AR25: =SUM(D25:AQ25)/2 -> 0
C26: with non-financial customers | AR26: =SUM(D26:AQ26)/2 -> 0
C27: TOTAL | D27: =+D23+D24+D26 -> 0 | E27: =+E23+E24+E26 -> 0 | F27: =+F23+F24+F26 -> 0 | G27: =+G23+G24+G26 -> 0 | H27: =+H23+H24+H26 -> 0 | I27: =+I23+I24+I26 -> 0 | J27: =+J23+J24+J26 -> 0 | K27: =+K23+K24+K26 -> 0 | ... AQ27: =+AQ23+AQ24+AQ26 -> 0 | AR27: =SUM(D27:AQ27)/2 -> 0
C28: TOTAL INCLUDING GOLD
C29: Bought
C30: with reporting dealers | AR30: =SUM(D30:AQ30)/2 -> 0
C31: with other financial institutions | AR31: =SUM(D31:AQ31)/2 -> 0
C32: of which CCPs | AR32: =SUM(D32:AQ32)/2 -> 0
C33: with non-financial customers | AR33: =SUM(D33:AQ33)/2 -> 0
C34: TOTAL | D34: =+D30+D31+D33 -> 0 | E34: =+E30+E31+E33 -> 0 | F34: =+F30+F31+F33 -> 0 | G34: =+G30+G31+G33 -> 0 | H34: =+H30+H31+H33 -> 0 | I34: =+I30+I31+I33 -> 0 | J34: =+J30+J31+J33 -> 0 | K34: =+K30+K31+K33 -> 0 | ... AQ34: =+AQ30+AQ31+AQ33 -> 0 | AR34: =SUM(D34:AQ34)/2 -> 0
C35: TOTAL INCLUDING GOLD
C36: TOTAL OTC OPTIONS | D36: =+SUM(D34,D27) -> 0 | E36: =+SUM(E34,E27) -> 0 | F36: =+SUM(F34,F27) -> 0 | G36: =+SUM(G34,G27) -> 0 | H36: =+SUM(H34,H27) -> 0 | I36: =+SUM(I34,I27) -> 0 | J36: =+SUM(J34,J27) -> 0 | K36: =+SUM(K34,K27) -> 0 | ... AQ36: =+SUM(AQ34,AQ27) -> 0 | AR36: =SUM(D36:AQ36)/2 -> 0
C37: Other products 5
C38: TOTAL FX CONTRACTS | D38: =+SUM(D36,D20,D13) -> 0 | E38: =+SUM(E36,E20,E13) -> 0 | F38: =+SUM(F36,F20,F13) -> 0 | G38: =+SUM(G36,G20,G13) -> 0 | H38: =+SUM(H36,H20,H13) -> 0 | I38: =+SUM(I36,I20,I13) -> 0 | J38: =+SUM(J36,J20,J13) -> 0 | K38: =+SUM(K36,K20,K13) -> 0 | ... AQ38: =+SUM(AQ36,AQ20,AQ13) -> 0 | AR38: =+SUM(AR36,AR20,AR13,AR37) -> 0
C39: TOTAL FX CONTRACTS INCLUDING GOLD | AR39: =+SUM(AR37,AR35,AR28,AR20,AR14) -> 0
C40: Memorandum items:
C41: Gross positive market values 6 | AR41: =SUM(D41:AQ41)/2 -> 0
...

Sheet O2
B1: Table O2
C2: Central Bank Survey of Foreign Exchange and Derivatives Market Activity
C3: SINGLE-CURRENCY INTEREST RATE DERIVATIVES ¹
C4: Nominal or notional principal amounts outstanding at end - June 2025
C5: (in millions of USD)
C7: Instruments | D7: AED | E7: ARS | F7: AUD | G7: BGN | H7: BHD | I7: BRL | J7: CAD | K7: CHF | L7: CLP | M7: CNY | N7: COP | O7: CZK | P7: DKK | Q7: EUR | R7: GBP | S7: HKD | T7: HUF | U7: IDR | V7: ILS | W7: INR | X7: JPY | Y7: KRW | Z7: MXN | AA7: MYR | AB7: NOK | AC7: NZD | AD7: PEN | AE7: PHP | AF7: PLN | AG7: RON | AH7: RUB | AI7: SAR | AJ7: SEK | AK7: SGD | AL7: THB | AM7: TRY | AN7: TWD | AO7: USD | AP7: ZAR | AQ7: Other ² | AR7: TOT
C8: FORWARD RATE AGREEMENTS
C9: with reporting dealers | AR9: =SUM(D9:AQ9) -> 0
C10: with other financial institutions | AR10: =SUM(D10:AQ10) -> 0
C11: of which CCPs | AR11: =SUM(D11:AQ11) -> 0
C12: with non-financial customers | AR12: =SUM(D12:AQ12) -> 0
C13: TOTAL | D13: =+D9+D10+D12 -> 0 | E13: =+E9+E10+E12 -> 0 | F13: =+F9+F10+F12 -> 0 | G13: =+G9+G10+G12 -> 0 | H13: =+H9+H10+H12 -> 0 | I13: =+I9+I10+I12 -> 0 | J13: =+J9+J10+J12 -> 0 | K13: =+K9+K10+K12 -> 0 | ... AR13: =+AR9+AR10+AR12 -> 0
C14: SWAPS
C15: with reporting dealers | AR15: =SUM(D15:AQ15) -> 0
C16: with other financial institutions | AR16: =SUM(D16:AQ16) -> 0
C17: of which CCPs | AR17: =SUM(D17:AQ17) -> 0
C18: with non-financial customers | AR18: =SUM(D18:AQ18) -> 0
C19: TOTAL | D19: =+D15+D16+D18 -> 0 | E19: =+E15+E16+E18 -> 0 | F19: =+F15+F16+F18 -> 0 | G19: =+G15+G16+G18 -> 0 | H19: =+H15+H16+H18 -> 0 | I19: =+I15+I16+I18 -> 0 | J19: =+J15+J16+J18 -> 0 | K19: =+K15+K16+K18 -> 0 | ... AQ19: =+AQ15+AQ16+AQ18 -> 0 | AR19: =SUM(D19:AQ19) -> 0
C20: OTC OPTIONS
C21: Sold
C22: with reporting dealers | AR22: =SUM(D22:AQ22) -> 0
C23: with other financial institutions | AR23: =SUM(D23:AQ23) -> 0
C24: of which CCPs | AR24: =SUM(D24:AQ24) -> 0
C25: with non-financial customers | AR25: =SUM(D25:AQ25) -> 0
C26: TOTAL | D26: =+D22+D23+D25 -> 0 | E26: =+E22+E23+E25 -> 0 | F26: =+F22+F23+F25 -> 0 | G26: =+G22+G23+G25 -> 0 | H26: =+H22+H23+H25 -> 0 | I26: =+I22+I23+I25 -> 0 | J26: =+J22+J23+J25 -> 0 | K26: =+K22+K23+K25 -> 0 | ... AQ26: =+AQ22+AQ23+AQ25 -> 0 | AR26: =SUM(D26:AQ26) -> 0
C27: Bought
C28: with reporting dealers | AR28: =SUM(D28:AQ28) -> 0
C29: with other financial institutions | AR29: =SUM(D29:AQ29) -> 0
C30: of which CCPs | AR30: =SUM(D30:AQ30) -> 0
C31: with non-financial customers | AR31: =SUM(D31:AQ31) -> 0
C32: TOTAL | D32: =+D28+D29+D31 -> 0 | E32: =+E28+E29+E31 -> 0 | F32: =+F28+F29+F31 -> 0 | G32: =+G28+G29+G31 -> 0 | H32: =+H28+H29+H31 -> 0 | I32: =+I28+I29+I31 -> 0 | J32: =+J28+J29+J31 -> 0 | K32: =+K28+K29+K31 -> 0 | ... AQ32: =+AQ28+AQ29+AQ31 -> 0 | AR32: =SUM(D32:AQ32) -> 0
C33: TOTAL OTC OPTIONS | D33: =+SUM(D32,D26) -> 0 | E33: =+SUM(E32,E26) -> 0 | F33: =+SUM(F32,F26) -> 0 | G33: =+SUM(G32,G26) -> 0 | H33: =+SUM(H32,H26) -> 0 | I33: =+SUM(I32,I26) -> 0 | J33: =+SUM(J32,J26) -> 0 | K33: =+SUM(K32,K26) -> 0 | ... AQ33: =+SUM(AQ32,AQ26) -> 0 | AR33: =SUM(D33:AQ33) -> 0
C34: Other products ³
C35: TOTAL INTEREST RATE CONTRACTS | D35: =+SUM(D33,D19,D13) -> 0 | E35: =+SUM(E33,E19,E13) -> 0 | F35: =+SUM(F33,F19,F13) -> 0 | G35: =+SUM(G33,G19,G13) -> 0 | H35: =+SUM(H33,H19,H13) -> 0 | I35: =+SUM(I33,I19,I13) -> 0 | J35: =+SUM(J33,J19,J13) -> 0 | K35: =+SUM(K33,K19,K13) -> 0 | ... AQ35: =+SUM(AQ33,AQ19,AQ13) -> 0 | AR35: =+SUM(AR33,AR34,AR19,AR13) -> 0
C36: Memorandum items:
C37: Gross positive market values 4 | AR37: =SUM(D37:AQ37) -> 0
C38: Gross negative market values 4 | AR38: =SUM(D38:AQ38) -> 0
C39: ¹ All instruments where all the legs are exposed to one and only one currency's interest rate, including all fixed/floating and floating/floating single-currency interest rate contracts. ² Additional currencies in which the reporter has a material amount of contracts outstanding. ³ Any instrument where the transaction is highly leveraged and/or the notional amount is variable and where a decomposition into individual plain vanilla components is impractical or impossible. 4 Gross market values of total interest rate contracts.
F47: Max | G47: =MAX(D52:AT84) -> 0
B48: Checking table | F48: Min | G48: =MIN(D52:AT84) -> 0
...

Sheet O3
B1: Table O3
C2: Central Bank Survey of Foreign Exchange and Derivatives Market Activity
C3: EQUITY, COMMODITY, CREDIT AND "OTHER" DERIVATIVES ¹
C4: Nominal or notional principal amounts outstanding at end - June 2025
C5: (in millions of USD)
C7: Instruments | D7: Equity-linked derivatives | K7: Precious metals | L7: Other | M7: Credit | N7: Other
D8: US | E8: Japanese | F8: European ² | G8: Latin American | H8: Other Asian ³ | I8: Other 4 | J8: Total | K8: (other than gold) | L8: commo-dities | M8: deriva-tives 5 | N8: deriva-tives 6
C9: FORWARDS AND SWAPS
C10: with reporting dealers | J10: =+SUM(D10:I10) -> 0
C11: with other financial institutions | J11: =+SUM(D11:I11) -> 0
C12: of which CCPs | J12: =+SUM(D12:I12) -> 0
C13: with non-financial customers | J13: =+SUM(D13:I13) -> 0
C14: TOTAL | D14: =+D10+D11+D13 -> 0 | E14: =+E10+E11+E13 -> 0 | F14: =+F10+F11+F13 -> 0 | G14: =+G10+G11+G13 -> 0 | H14: =+H10+H11+H13 -> 0 | I14: =+I10+I11+I13 -> 0 | J14: =+SUM(D14:I14) -> 0 | M14: =+M10+M11+M13 -> 0 | N14: =+N10+N11+N13 -> 0
C15: OTC OPTIONS
C16: Sold
C17: with reporting dealers | J17: =+SUM(D17:I17) -> 0
C18: with other financial institutions | J18: =+SUM(D18:I18) -> 0
C19: of which CCPs | J19: =+SUM(D19:I19) -> 0
C20: with non-financial customers | J20: =+SUM(D20:I20) -> 0
C21: TOTAL | D21: =+D17+D18+D20 -> 0 | E21: =+E17+E18+E20 -> 0 | F21: =+F17+F18+F20 -> 0 | G21: =+G17+G18+G20 -> 0 | H21: =+H17+H18+H20 -> 0 | I21: =+I17+I18+I20 -> 0 | J21: =+SUM(D21:I21) -> 0 | M21: =+M17+M18+M20 -> 0 | N21: =+N17+N18+N20 -> 0
C22: Bought
C23: with reporting dealers | J23: =+SUM(D23:I23) -> 0
C24: with other financial institutions | J24: =+SUM(D24:I24) -> 0
C25: of which CCPs | J25: =+SUM(D25:I25) -> 0
C26: with non-financial customers | J26: =+SUM(D26:I26) -> 0
C27: TOTAL | D27: =+D23+D24+D26 -> 0 | E27: =+E23+E24+E26 -> 0 | F27: =+F23+F24+F26 -> 0 | G27: =+G23+G24+G26 -> 0 | H27: =+H23+H24+H26 -> 0 | I27: =+I23+I24+I26 -> 0 | J27: =+SUM(D27:I27) -> 0 | M27: =+M23+M24+M26 -> 0 | N27: =+N23+N24+N26 -> 0
C28: TOTAL OTC OPTIONS | D28: =+SUM(D27,D21) -> 0 | E28: =+SUM(E27,E21) -> 0 | F28: =+SUM(F27,F21) -> 0 | G28: =+SUM(G27,G21) -> 0 | H28: =+SUM(H27,H21) -> 0 | I28: =+SUM(I27,I21) -> 0 | J28: =+SUM(D28:I28) -> 0 | K28: =+SUM(K27,K21) -> 0 | L28: =+SUM(L27,L21) -> 0 | M28: =+SUM(M27,M21) -> 0 | N28: =+SUM(N27,N21) -> 0
C29: TOTAL CONTRACTS | D29: =+SUM(D27,D21,D14) -> 0 | E29: =+SUM(E27,E21,E14) -> 0 | F29: =+SUM(F27,F21,F14) -> 0 | G29: =+SUM(G27,G21,G14) -> 0 | H29: =+SUM(H27,H21,H14) -> 0 | I29: =+SUM(I27,I21,I14) -> 0 | J29: =+SUM(D29:I29) -> 0 | K29: =+SUM(K27,K21,K14) -> 0 | L29: =+SUM(L28,L14,) -> 0 | M29: =+SUM(M28,M14,) -> 0 | N29: =+SUM(N28,N14,) -> 0
C30: Memorandum items:
C31: Gross positive market values | J31: =+SUM(D31:I31) -> 0
C32: Gross negative market values | J32: =+SUM(D32:I32) -> 0
B33: 1 Any instrument whose price is assumed to be mainly determined by the price of an equity or a stock index, a commodity or the creditworthiness of a particular reference credit. 2 Excludes Albania and the successor republics of the former Soviet Union and Yugoslavia that are not part of the European union. 3 All countries in Asia other than Japan. 4 Africa, Australia, New Zealand and all other countries/regions not listed in the table. 5 Include CDS. 6 Any instrument which does not involve an exposure to foreign exchange, interest rate, equity, commodity or credit risk.
E36: Max | F36: =MAX(D42:P67) -> 0
B37: Checking table | E37: Min | F37: =MIN(D42:P67) -> 0
C40: Instruments | D40: Equity-linked derivatives | K40: Precious metals | L40: Other | M40: Credit | N40: Other | P40: =+J8 -> Total
D41: =+D8 -> US | E41: =+E8 -> Japanese | F41: =+F8 -> European ² | G41: =+G8 -> Latin American | H41: =+H8 -> Other Asian ³ | I41: =+I8 -> Other 4 | J41: =+J8 -> Total | K41: (other than gold) | L41: commo-dities | M41: deriva-tives | N41: deriva-tives 5
C42: FORWARDS AND SWAPS
C43: with reporting dealers | P43: =J10-SUM(D10:I10) -> 0
C44: with other financial institutions | P44: =J11-SUM(D11:I11) -> 0
B45: of which CCPs | D45: =+IF(OR(SUM(D12)>0),IF(OR(D11=0,D11=""),111,IF((D11<D12),111,0)),0) -> 0 | E45: =+IF(OR(SUM(E12)>0),IF(OR(E11=0,E11=""),111,IF((E11<E12),111,0)),0) -> 0 | F45: =+IF(OR(SUM(F12)>0),IF(OR(F11=0,F11=""),111,IF((F11<F12),111,0)),0) -> 0 | G45: =+IF(OR(SUM(G12)>0),IF(OR(G11=0,G11=""),111,IF((G11<G12),111,0)),0) -> 0 | H45: =+IF(OR(SUM(H12)>0),IF(OR(H11=0,H11=""),111,IF((H11<H12),111,0)),0) -> 0 | I45: =+IF(OR(SUM(I12)>0),IF(OR(I11=0,I11=""),111,IF((I11<I12),111,0)),0) -> 0 | J45: =+IF(OR(SUM(J12)>0),IF(OR(J11=0,J11=""),111,IF((J11<J12),111,0)),0) -> 0 | M45: =+IF(OR(SUM(M12)>0),IF(OR(M11=0,M11=""),111,IF((M11<M12),111,0)),0) -> 0 | N45: =+IF(OR(SUM(N12)>0),IF(OR(N11=0,N11=""),111,IF((N11<N12),111,0)),0) -> 0 | P45: =J12-SUM(D12:I12) -> 0
...

Sheet O4
B1: Table O4
C2: Central Bank Survey of Foreign Exchange and Derivatives Market Activity
C3: OTC DERIVATIVES CONTRACTS
C4: Nominal or notional principal amounts outstanding at end - June 2025, by remaining maturity
C5: (in millions of USD)
D7: Forwards and swaps | G7: OTC options sold | J7: OTC options bought | M7: Total
C8: Risk category | D8: One year or less | E8: Over one year and up to five years | F8: Over five years | G8: One year or less | H8: Over one year and up to five years | I8: Over five years | J8: One year or less | K8: Over one year and up to five years | L8: Over five years | M8: One year or less | N8: Over one year and up to five years | O8: Over five years
C9: FOREIGN EXCHANGE AND GOLD CONTRACTS
C10: FOREIGN EXCHANGE CONTRACTS
C11: with reporting dealers | M11: =+SUM(D11,G11,J11) -> 0 | N11: =+SUM(E11,H11,K11) -> 0 | O11: =+SUM(F11,I11,L11) -> 0
C12: with other financial institutions | M12: =+SUM(D12,G12,J12) -> 0 | N12: =+SUM(E12,H12,K12) -> 0 | O12: =+SUM(F12,I12,L12) -> 0
C13: of which CCPs | M13: =+SUM(D13,G13,J13) -> 0 | N13: =+SUM(E13,H13,K13) -> 0 | O13: =+SUM(F13,I13,L13) -> 0
C14: with non-financial customers | M14: =+SUM(D14,G14,J14) -> 0 | N14: =+SUM(E14,H14,K14) -> 0 | O14: =+SUM(F14,I14,L14) -> 0
C15: TOTAL | D15: =+D11+D12+D14 -> 0 | E15: =+E11+E12+E14 -> 0 | F15: =+F11+F12+F14 -> 0 | G15: =+G11+G12+G14 -> 0 | H15: =+H11+H12+H14 -> 0 | I15: =+I11+I12+I14 -> 0 | J15: =+J11+J12+J14 -> 0 | K15: =+K11+K12+K14 -> 0 | L15: =+L11+L12+L14 -> 0 | M15: =+SUM(D15,G15,J15) -> 0 | N15: =+SUM(E15,H15,K15) -> 0 | O15: =+SUM(F15,I15,L15) -> 0
C16: INTEREST RATE CONTRACTS
C17: with reporting dealers | M17: =+SUM(D17,G17,J17) -> 0 | N17: =+SUM(E17,H17,K17) -> 0 | O17: =+SUM(F17,I17,L17) -> 0
C18: with other financial institutions | M18: =+SUM(D18,G18,J18) -> 0 | N18: =+SUM(E18,H18,K18) -> 0 | O18: =+SUM(F18,I18,L18) -> 0
C19: of which CCPs | M19: =+SUM(D19,G19,J19) -> 0 | N19: =+SUM(E19,H19,K19) -> 0 | O19: =+SUM(F19,I19,L19) -> 0
C20: with non-financial customers | M20: =+SUM(D20,G20,J20) -> 0 | N20: =+SUM(E20,H20,K20) -> 0 | O20: =+SUM(F20,I20,L20) -> 0
C21: TOTAL | D21: =+D17+D18+D20 -> 0 | E21: =+E17+E18+E20 -> 0 | F21: =+F17+F18+F20 -> 0 | G21: =+G17+G18+G20 -> 0 | H21: =+H17+H18+H20 -> 0 | I21: =+I17+I18+I20 -> 0 | J21: =+J17+J18+J20 -> 0 | K21: =+K17+K18+K20 -> 0 | L21: =+L17+L18+L20 -> 0 | M21: =+SUM(D21,G21,J21) -> 0 | N21: =+SUM(E21,H21,K21) -> 0 | O21: =+SUM(F21,I21,L21) -> 0
C22: EQUITY CONTRACTS
C23: with reporting dealers | M23: =+SUM(D23,G23,J23) -> 0 | N23: =+SUM(E23,H23,K23) -> 0 | O23: =+SUM(F23,I23,L23) -> 0
C24: with other financial institutions | M24: =+SUM(D24,G24,J24) -> 0 | N24: =+SUM(E24,H24,K24) -> 0 | O24: =+SUM(F24,I24,L24) -> 0
C25: of which CCPs | M25: =+SUM(D25,G25,J25) -> 0 | N25: =+SUM(E25,H25,K25) -> 0 | O25: =+SUM(F25,I25,L25) -> 0
C26: with non-financial customers | M26: =+SUM(D26,G26,J26) -> 0 | N26: =+SUM(E26,H26,K26) -> 0 | O26: =+SUM(F26,I26,L26) -> 0
C27: TOTAL | D27: =+D23+D24+D26 -> 0 | E27: =+E23+E24+E26 -> 0 | F27: =+F23+F24+F26 -> 0 | G27: =+G23+G24+G26 -> 0 | H27: =+H23+H24+H26 -> 0 | I27: =+I23+I24+I26 -> 0 | J27: =+J23+J24+J26 -> 0 | K27: =+K23+K24+K26 -> 0 | L27: =+L23+L24+L26 -> 0 | M27: =+SUM(D27,G27,J27) -> 0 | N27: =+SUM(E27,H27,K27) -> 0 | O27: =+SUM(F27,I27,L27) -> 0
E30: Max | F30: =MAX(D36:T54) -> 0
B31: Checking table | E31: Min | F31: =MIN(D36:T54) -> 0
D34: Forwards and swaps | G34: OTC options sold | J34: OTC options bought | M34: Total
C35: Risk category | D35: One year or less | E35: Over one year and up to five years | F35: Over five years | G35: One year or less | H35: Over one year and up to five years | I35: Over five years | J35: One year or less | K35: Over one year and up to five years | L35: Over five years | M35: One year or less | N35: Over one year and up to five years | O35: Over five years | Q35: Consistency with tables O1, O2 and O3
C36: FOREIGN EXCHANGE AND GOLD CONTRACTS | T36: =SUM(M9:O9)-(SUM('O1'!AR39)-'O1'!AR37) -> 0
C37: FOREIGN EXCHANGE CONTRACTS
C38: with reporting dealers | M38: =M11-SUM(D11,G11,J11) -> 0 | N38: =N11-SUM(E11,H11,K11) -> 0 | O38: =O11-SUM(F11,I11,L11) -> 0 | Q38: =SUM(D11:F11)-SUM('O1'!AR9,'O1'!AR16) -> 0 | R38: =SUM(G11:I11)-SUM('O1'!AR23) -> 0 | S38: =SUM(J11:L11)-SUM('O1'!AR30) -> 0
C39: with other financial institutions | M39: =M12-SUM(D12,G12,J12) -> 0 | N39: =N12-SUM(E12,H12,K12) -> 0 | O39: =O12-SUM(F12,I12,L12) -> 0 | Q39: =SUM(D12:F12)-SUM('O1'!AR10,'O1'!AR17) -> 0 | R39: =SUM(G12:I12)-SUM('O1'!AR24) -> 0 | S39: =SUM(J12:L12)-SUM('O1'!AR31) -> 0
B40: of which CCPs | D40: =+IF(OR(SUM(D13)>0),IF(OR(D12=0,D12=""),111,IF((D12<D13),111,0)),0) -> 0 | E40: =+IF(OR(SUM(E13)>0),IF(OR(E12=0,E12=""),111,IF((E12<E13),111,0)),0) -> 0 | F40: =+IF(OR(SUM(F13)>0),IF(OR(F12=0,F12=""),111,IF((F12<F13),111,0)),0) -> 0 | G40: =+IF(OR(SUM(G13)>0),IF(OR(G12=0,G12=""),111,IF((G12<G13),111,0)),0) -> 0 | H40: =+IF(OR(SUM(H13)>0),IF(OR(H12=0,H12=""),111,IF((H12<H13),111,0)),0) -> 0 | I40: =+IF(OR(SUM(I13)>0),IF(OR(I12=0,I12=""),111,IF((I12<I13),111,0)),0) -> 0 | J40: =+IF(OR(SUM(J13)>0),IF(OR(J12=0,J12=""),111,IF((J12<J13),111,0)),0) -> 0 | K40: =+IF(OR(SUM(K13)>0),IF(OR(K12=0,K12=""),111,IF((K12<K13),111,0)),0) -> 0 | L40: =+IF(OR(SUM(L13)>0),IF(OR(L12=0,L12=""),111,IF((L12<L13),111,0)),0) -> 0 | M40: =M13-SUM(D13,G13,J13) -> 0 | N40: =N13-SUM(E13,H13,K13) -> 0 | O40: =O13-SUM(F13,I13,L13) -> 0 | Q40: =SUM(D13:F13)-SUM('O1'!AR11,'O1'!AR18) -> 0 | R40: =SUM(G13:I13)-SUM('O1'!AR25) -> 0 | S40: =SUM(J13:L13)-SUM('O1'!AR32) -> 0
C41: with non-financial customers | M41: =M14-SUM(D14,G14,J14) -> 0 | N41: =N14-SUM(E14,H14,K14) -> 0 | O41: =O14-SUM(F14,I14,L14) -> 0 | Q41: =SUM(D14:F14)-SUM('O1'!AR12,'O1'!AR19) -> 0 | R41: =SUM(G14:I14)-SUM('O1'!AR26) -> 0 | S41: =SUM(J14:L14)-SUM('O1'!AR33) -> 0
C42: TOTAL | D42: =+D15-D11-D12-D14 -> 0 | E42: =+E15-E11-E12-E14 -> 0 | F42: =+F15-F11-F12-F14 -> 0 | G42: =+G15-G11-G12-G14 -> 0 | H42: =+H15-H11-H12-H14 -> 0 | I42: =+I15-I11-I12-I14 -> 0 | J42: =+J15-J11-J12-J14 -> 0 | K42: =+K15-K11-K12-K14 -> 0 | L42: =+L15-L11-L12-L14 -> 0 | M42: =M15-SUM(D15,G15,J15) -> 0 | N42: =N15-SUM(E15,H15,K15) -> 0 | O42: =O15-SUM(F15,I15,L15) -> 0 | Q42: =SUM(D15:F15)-SUM('O1'!AR13,'O1'!AR20) -> 0 | R42: =SUM(G15:I15)-SUM('O1'!AR27) -> 0 | S42: =SUM(J15:L15)-SUM('O1'!AR34) -> 0 | T42: =SUM(M15:O15)-(SUM('O1'!AR38)-'O1'!AR37) -> 0
C43: INTEREST RATE CONTRACTS
C44: with reporting dealers | M44: =M17-SUM(D17,G17,J17) -> 0 | N44: =N17-SUM(E17,H17,K17) -> 0 | O44: =O17-SUM(F17,I17,L17) -> 0 | Q44: =SUM(D17:F17)-SUM('O2'!AR9,'O2'!AR15) -> 0 | R44: =SUM(G17:I17)-SUM('O2'!AR22) -> 0 | S44: =SUM(J17:L17)-SUM('O2'!AR28) -> 0
C45: with other financial institutions | M45: =M18-SUM(D18,G18,J18) -> 0 | N45: =N18-SUM(E18,H18,K18) -> 0 | O45: =O18-SUM(F18,I18,L18) -> 0 | Q45: =SUM(D18:F18)-SUM('O2'!AR10,'O2'!AR16) -> 0 | R45: =SUM(G18:I18)-SUM('O2'!AR23) -> 0 | S45: =SUM(J18:L18)-SUM('O2'!AR29) -> 0
...

Sheet O5
B1: Table O5
C2: Central Bank Survey of Foreign Exchange and Derivatives Market Activity
C3: CREDIT DEFAULT SWAPS
C4: Nominal or notional principal amounts outstanding and gross-market values at end - June 2025
C5: (in millions of USD)
B7: Instruments | G7: Notional amounts | J7: Gross market values
D8: Total | F8: Sovereigns | H8: Non-sovereigns | J8: Gross positive market values | K8: Gross negative market values
D9: Bought | E9: Sold | F9: Bought | G9: Sold | H9: Bought | I9: Sold
C11: ALL CONTRACTS | D11: =+D21+D31 -> 0 | E11: =+E21+E31 -> 0 | F11: =+F21+F31 -> 0 | G11: =+G21+G31 -> 0 | H11: =+H21+H31 -> 0 | I11: =+I21+I31 -> 0 | J11: =+J21+J31 -> 0 | K11: =+K21+K31 -> 0
C12: with reporting dealers | D12: =+D22+D32 -> 0 | E12: =+E22+E32 -> 0 | F12: =+F22+F32 -> 0 | G12: =+G22+G32 -> 0 | H12: =+H22+H32 -> 0 | I12: =+I22+I32 -> 0 | J12: =+J22+J32 -> 0 | K12: =+K22+K32 -> 0
C13: with other financial institutions | D13: =+D23+D33 -> 0 | E13: =+E23+E33 -> 0 | F13: =+F23+F33 -> 0 | G13: =+G23+G33 -> 0 | H13: =+H23+H33 -> 0 | I13: =+I23+I33 -> 0 | J13: =+J23+J33 -> 0 | K13: =+K23+K33 -> 0
C14: CCPs | D14: =+D24+D34 -> 0 | E14: =+E24+E34 -> 0 | F14: =+F24+F34 -> 0 | G14: =+G24+G34 -> 0 | H14: =+H24+H34 -> 0 | I14: =+I24+I34 -> 0 | J14: =+J24+J34 -> 0 | K14: =+K24+K34 -> 0
C15: Banks and securities firms | D15: =+D25+D35 -> 0 | E15: =+E25+E35 -> 0 | F15: =+F25+F35 -> 0 | G15: =+G25+G35 -> 0 | H15: =+H25+H35 -> 0 | I15: =+I25+I35 -> 0 | J15: =+J25+J35 -> 0 | K15: =+K25+K35 -> 0
C16: Insurance firms1 (including pension funds) | D16: =+D26+D36 -> 0 | E16: =+E26+E36 -> 0 | F16: =+F26+F36 -> 0 | G16: =+G26+G36 -> 0 | H16: =+H26+H36 -> 0 | I16: =+I26+I36 -> 0 | J16: =+J26+J36 -> 0 | K16: =+K26+K36 -> 0
C17: SPVs, SPCs or SPEs | D17: =+D27+D37 -> 0 | E17: =+E27+E37 -> 0 | F17: =+F27+F37 -> 0 | G17: =+G27+G37 -> 0 | H17: =+H27+H37 -> 0 | I17: =+I27+I37 -> 0 | J17: =+J27+J37 -> 0 | K17: =+K27+K37 -> 0
C18: Hedge funds | D18: =+D28+D38 -> 0 | E18: =+E28+E38 -> 0 | F18: =+F28+F38 -> 0 | G18: =+G28+G38 -> 0 | H18: =+H28+H38 -> 0 | I18: =+I28+I38 -> 0 | J18: =+J28+J38 -> 0 | K18: =+K28+K38 -> 0
C19: Other | D19: =+D29+D39 -> 0 | E19: =+E29+E39 -> 0 | F19: =+F29+F39 -> 0 | G19: =+G29+G39 -> 0 | H19: =+H29+H39 -> 0 | I19: =+I29+I39 -> 0 | J19: =+J29+J39 -> 0 | K19: =+K29+K39 -> 0
C20: with non-financial customers | D20: =+D30+D40 -> 0 | E20: =+E30+E40 -> 0 | F20: =+F30+F40 -> 0 | G20: =+G30+G40 -> 0 | H20: =+H30+H40 -> 0 | I20: =+I30+I40 -> 0 | J20: =+J30+J40 -> 0 | K20: =+K30+K40 -> 0
C21: SINGLE-NAME INSTRUMENTS | D21: =+F21+H21 -> 0 | E21: =+G21+I21 -> 0 | F21: =+SUM(F22,F23,F30) -> 0 | G21: =+SUM(G22,G23,G30) -> 0 | H21: =+SUM(H22,H23,H30) -> 0 | I21: =+SUM(I22,I23,I30) -> 0 | J21: =+SUM(J22,J23,J30) -> 0 | K21: =+SUM(K22,K23,K30) -> 0
C22: with reporting dealers | D22: =+F22+H22 -> 0 | E22: =+G22+I22 -> 0
C23: with other financial institutions | D23: =+F23+H23 -> 0 | E23: =+G23+I23 -> 0 | F23: =SUM(F24:F29) -> 0 | G23: =SUM(G24:G29) -> 0 | H23: =SUM(H24:H29) -> 0 | I23: =SUM(I24:I29) -> 0 | J23: =SUM(J24:J29) -> 0 | K23: =SUM(K24:K29) -> 0
C24: CCPs | D24: =+F24+H24 -> 0 | E24: =+G24+I24 -> 0
C25: Banks and securities firms | D25: =+F25+H25 -> 0 | E25: =+G25+I25 -> 0
C26: Insurance firms1 (including pension funds) | D26: =+F26+H26 -> 0 | E26: =+G26+I26 -> 0
C27: SPVs, SPCs or SPEs | D27: =+F27+H27 -> 0 | E27: =+G27+I27 -> 0
C28: Hedge funds | D28: =+F28+H28 -> 0 | E28: =+G28+I28 -> 0
C29: Other | D29: =+F29+H29 -> 0 | E29: =+G29+I29 -> 0
C30: with non-financial customers | D30: =+F30+H30 -> 0 | E30: =+G30+I30 -> 0
C31: MULTI-NAME INSTRUMENTS | D31: =+F31+H31 -> 0 | E31: =+G31+I31 -> 0 | F31: =+SUM(F32,F33,F40) -> 0 | G31: =+SUM(G32,G33,G40) -> 0 | H31: =+SUM(H32,H33,H40) -> 0 | I31: =+SUM(I32,I33,I40) -> 0 | J31: =+SUM(J32,J33,J40) -> 0 | K31: =+SUM(K32,K33,K40) -> 0
C32: with reporting dealers | D32: =+F32+H32 -> 0 | E32: =+G32+I32 -> 0
C33: with other financial institutions | D33: =+F33+H33 -> 0 | E33: =+G33+I33 -> 0 | F33: =SUM(F34:F39) -> 0 | G33: =SUM(G34:G39) -> 0 | H33: =SUM(H34:H39) -> 0 | I33: =SUM(I34:I39) -> 0 | J33: =SUM(J34:J39) -> 0 | K33: =SUM(K34:K39) -> 0
C34: CCPs | D34: =+F34+H34 -> 0 | E34: =+G34+I34 -> 0
C35: Banks and securities firms | D35: =+F35+H35 -> 0 | E35: =+G35+I35 -> 0
C36: Insurance firms1 (including pension funds) | D36: =+F36+H36 -> 0 | E36: =+G36+I36 -> 0
C37: SPVs, SPCs or SPEs | D37: =+F37+H37 -> 0 | E37: =+G37+I37 -> 0
C38: Hedge funds | D38: =+F38+H38 -> 0 | E38: =+G38+I38 -> 0
C39: Other | D39: =+F39+H39 -> 0 | E39: =+G39+I39 -> 0
C40: with non-financial customers | D40: =+F40+H40 -> 0 | E40: =+G40+I40 -> 0
C41: 1 Including reinsurance and financial guaranty firms.
E44: Max | F44: =MAX(D52:O81) -> 0
...
