Workbook
Name Info: Info!$D$17,Info!$D$18,Info!$C$27,Info!$D$27,Info!$C$28,Info!$D$28,Info!$C$29,Info!$D$29,Info!$C$30,Info!$D$30
Name Is_zero: Check!$D$13
Name RgFwd: #REF!
Name RgFwd: #REF!
Name RgFwd: #REF!
Name RgFwd: #REF!
Name RgMatFwd: #REF!
Name RgMatFwd: #REF!
Name RgMatFwd: #REF!
Name RgMatFwd: #REF!
Name RgMatSwaps: #REF!
Name RgMatSwaps: #REF!
Name RgMatSwaps: #REF!
Name RgMatSwaps: #REF!
Name RgSpot: #REF!
Name RgSpot: #REF!
Name RgSpot: #REF!
Name RgSpot: #REF!
Name RgSwaps: #REF!
Name RgSwaps: #REF!
Name RgSwaps: #REF!
Name RgSwaps: #REF!

Sheet CoverPage
A2: MANDATORY VALUE - INDICATOR
B3: APRIL 2025
B4: Please login to MASNET Website to check for the latest release
B5: BIS TRIENNIAL CENTRAL BANK SURVEY OF FOREIGN EXCHANGE AND DERIVATIVES MARKET ACTIVITY - TURNOVER
B10: GENERAL INFORMATION:
B11: Institution code: *
B12: Institution Name: *
B13: Reporting Cycle (MM/YYYY): *
B14: UEN:
B15: LEI Number:
B16: Other Entity ID:
B18: Approver & Officer for MAS to liase with regarding this survey submission:
B19: (a) Name: *
... B26: Please specify the entities that have been incorporated into the reported figures, if any.
B27: List of Entity | C27: Entity Name
B28: 1
B29: 2
B30: 3
B31: 4
B32: 5
B33: 6
B34: 7
B36: * Compulsory fields
B37: Must fill at least one of the items (UEN or LEI or Other Entity ID)

Sheet Instructions
B2: Instructions for consistency checks
B4: To ensure the quality of the reported data, several consistency checks have been implemented in the templates using arithmetical formulas. These checks and their corresponding formulas are available in the checking tables located on the right hand side of each reporting table. If a data consistency issue is detected in any of the breakdowns listed in a given table or across different tables, the amount of the inconsistency is shown in red. A summary of inconsistencies detected across all reporting tables is available in the sheet "Check". The main consistency checks performed in each table are listed below.
B8: REPORTING TABLE | E8: QUALITY CHECK
B11: Front | E11: First of all you need to select your country of residence from the drop down list located in the front sheet.
B13: Info | E13: Enter the requested information following the indications specified in the footnotes of the table.
B15: Tables A1-A4
B17: Vertically
E18: Counterparty breakdown (A1, A2, A3, A4): for each currency pair, the sum of the components reported for each counterparty should be equal to the total amount reported under the corresponding instrument.
E20: Local/Cross-border breakdown (A1, A2, A3, A4): for each currency pair, the sum of the components reported under the local/cross-border breakdown should be equal to the total amount reported for the corresponding counterparty (reporting dealers, other financial institutions or non-financial institutions).
E22: Maturity breakdown (A1, A2, A3, A4): for each currency pair, the sum of the amounts allocated to the different maturities should be equal to the total amount reported for the corresponding instrument.
E24: Total FX (A1, A2, A3, A4): for each currency pair, the sum of the amounts reported as total spot, total outright forward, total FX Swaps, total currency swaps and total options should be equal to the amount reported under total FX.
B26: Horizontally
E27: Currency breakdown (A1, A2, A3): for each row in the relevant table, the sum of the amounts allocated to each currency pair should be equal to the total amount reported under the "Total" column. IMPORTANT: If you report a given amount under the "Other" column you will have to allocate exactly the same amount to one of the currencies listed in table A4 (for amounts reported in tables A1 to A3).
B29: Across different tables
E30: Grand Total (A3): for each row in table A3, the sum of the amounts allocated to each currency pair in tables A1, A2 and A3 should be equal to the total amount reported under the "Grand Total" column of table A3. In other words, the amounts reported as "Grand Total" in table A3 should be consistent with the sum of the amounts reported under the "Total" column in tables A1, A2 and A3, plus the amount reported as residual in table A3.
E32: Currency breakdown across tables (A4): The purpose of table A4 is to provide a currency breakdown for columns "other" and "residual" in tables A1, A2 and A3. Please note that columns "other" and "residual" should be treated differently when being transferred to table A4. For deals reported under column "other", given that the first leg of the transaction is already identified in tables A1, A2 or A3, only the second leg should be included in table A4. This is, the same amount reported in column "other" should be allocated in table A4. In contrast, deals reported under column "residual", (since both legs are unknown), should be allocated to two relevant currencies in table A4. In other words, although the deal is reported once in column "residual", it should be reported twice in table A4, making up 200% of the deal. In cases where neither currency leg is listed in table A4, the transaction should be included twice under column "other" in table A4 (making up 200% of the deal in this column).
B34: Table A5
B35: Across different tables
E36: Spot: the amount reported as total spot in table A5 should be equal to the amount reported as total spot in table A3.
E38: Outright forwards: the amount reported as total outright forwards in table A5 should be equal to the amount reported as total outright forwards in table A3.
E40: FX Swaps: the amount reported as total FX Swaps in table A5 should be equal to the amount reported as total FX Swaps in table A3.
E42: Currency Swaps: the amount reported as total Currency Swaps in table A5 should be equal to the amount reported as total Currency Swaps in table A3.
E44: FX options: the amount reported as total FX options in table A5 should be equal to the amount reported as total FX options in table A3.
E46: Counterparty breakdown: the total amounts reported in table A5 under "with reporting dealers", "with reporting dealers - local" , "with reporting dealers - cross-border", "with other financial institutions" and "with non-financial customers" should be equal to total amounts reported in table A3 under the same counterparty categories and instruments.
B48: Vertically
E49: Instrument breakdown: for any execution method, the sum of the amounts reported for each instrument should be consistent with the amount reported under total instruments.
E51: Counterparty breakdown: for any execution method and instrument, the sum of counterparties should be equal to the total amount.
E53: Local/Cross-border breakdown: for each execution method and instrument, the sum of the components reported under the local/cross-border breakdown should be equal to the total amount reported under the category "of which: with reporting dealers".
B54: Horizontally
E55: Execution method breakdown: Given a certain instrument or counterparty, the sum of the amounts reported for each method of execution should be consistent with the amount reported under "total execution methods".
B58: Table B
B60: Vertically
E61: Counterparty breakdown: for each currency, the sum of the components reported for each counterparty should be equal to the total amount reported under the corresponding instrument.
E63: Local/Cross-border breakdown: for each currency, the sum of the components reported under the local/cross-border breakdown should be equal to the total amount reported for the corresponding counterparty (reporting dealers, other financial institutions or non-financial institutions).
E65: Total IR: for each currency, the sum of the amounts reported as total FRA, overnight indexed swaps, other swaps and OTC options should be equal to the amount reported as total IR contracts.
B67: Horizontally
E68: Currency breakdown: for each row in the table, the sum of the amounts allocated to each currency should be equal to the total amount reported under the "Total" column.
B71: Others
E73: Prime brokered: the amount reported as "o/w prime brokered" should be smaller than the corresponding amount reported under "Total contracts". Retail-driven: the amount reported as "o/w retail-driven" should be smaller than the corresponding amount reported under "Total contracts". Non-deliverable forwards: the amount reported as "o/w non-deliverable forwards" should be smaller than the corresponding amount reported under "Total contracts". Related party trades: the amount reported as "related party trades" should be smaller than the corresponding amount reported under "Total contracts".

Sheet Check
C2: Checking tables summary
C4: Table | D4: Maximum of the differences
C5: CoverPage | D5: =IF(AND(ISBLANK(CoverPage!D14),ISBLANK(CoverPage!D15),ISBLANK(CoverPage!D16)),1, 0) + COUNTIF(CoverPage!D11:D13, "") + COUNTIF(CoverPage!D19:D24,"") -> 10
C6: Info | D6: =10-COUNTA(Info) -> 10
C7: A1 | D7: =MAX(ABS('A1'!Q2),ABS('A1'!Q3)) -> 0
C8: A2 | D8: =MAX(ABS('A2'!AD2),ABS('A2'!AD3)) -> 0
C9: A3 | D9: =MAX(ABS('A3'!AE2),ABS('A3'!AE3)) -> 0
C10: A4 | D10: =MAX(ABS('A4'!AR2),ABS('A4'!AR3)) -> 0
C11: A5 | D11: =MAX(ABS('A5'!P2),ABS('A5'!P3)) -> 0
C12: B | D12: =MAX(ABS(B!AV2),ABS(B!AV3)) -> 0
C13: Check | D13: =SUM(D5:D12) -> 20

Sheet Info
B2: Central Bank Survey of Foreign Exchange and Derivatives Market Activity
B3: COMPLEMENTARY INFORMATION FOR FOREIGN EXCHANGE CONTRACTS
B5: Turnover in nominal or notional principal amounts in April 2025
B7: SINGAPORE
B9: 1. Information on the number of business days | C9: Number of days | F9: <-- Negative values and non-numeric entries are not allowed | L9: <-- Negative values and non-numeric entries are not allowed
B11: 2. Information on coverage and concentration | D11: FX contracts
B12: a) The final number of participating institutions. | F12: <-- Negative values and non-numeric entries are not allowed
B13: b) The estimated percentage coverage of their survey.1 | E13: 1 In percentage and without % sign, ie 90% should be entered as 90. | F13: <-- Value(s) out of range. Please enter values from 0 to 100.
B14: c) The number of institutions accounting for 75 percent of the reported totals. | F14: <-- Negative values and non-numeric entries are not allowed
B16: 3. Information on trend of trading activity | D16: FX contracts | J16: <-- Value(s) out of range. Please enter 1, 2 or 3. | L16: <-- Value(s) out of range. Please enter 1, 2 or 3.
B17: a) Level of turnover: below normal, normal, above normal.1 | E17: 1 Below normal = 1, normal = 2, above normal = 3 | F17: <-- Value(s) out of range. Please enter 1, 2 or 3. | J17: <-- Value(s) out of range. Please enter 1, 2 or 3. | L17: <-- Value(s) out of range. Please enter 1, 2 or 3.
B18: b) Compared to previous 6 months: decreasing, steady, increasing.2 | E18: 2 Decreasing = 1, steady = 2, increasing = 3 | F18: <-- Value(s) out of range. Please enter 1, 2 or 3.
B20: 4. Quality control questions to assess the representativeness of the reported figures | C20: Detailed breakdown of other financial institutions | D20: Prime brokered | E20: Retail-driven
B21: a) Number of dealers reporting the data? | F21: <-- Negative values and non-numeric entries are not allowed
B22: b) Number of dealers not reporting the data due to technical incapacity to report? | F22: <-- Negative values and non-numeric entries are not allowed
B23: c) Number of dealers not reporting the data due to no turnover in the transaction in question? | F23: <-- Negative values and non-numeric entries are not allowed
B24: d) Estimated percentage coverage. 1 | F24: <-- Value(s) out of range. Please enter values from 0 to 100.
B26: 5. Internalisation of FX spot turnover | C26: Internalisation ratio 1 | D26: Total customer spot turnover (denominator) 2 | E26: 1 In percentage and without % sign, ie 90% should be entered as 90. 2 In millions of USD | F26: <-- Negative values and non-numeric entries are not allowed
B27: a) Total all currencies | F27: <-- Value(s) out of range. Please enter values from 0 to 100.
B28: b) G4 currencies: EUR, JPY, GBP, USD | F28: <-- (a) expected to be larger than (b) + (c) + (d)
B29: c) Other G10 currencies: AUD, CAD, NZD, NOK, SEK, CHF | F29: <-- (a) expected between min(b, c, d) and max(b, c, d)
B30: d) Other liquid non-G10 currencies: BRL, CNY, DKK, HKD, KRW, MXN, RUB, SGD, TRY, ZAR | F30: '<-- (a) expected to be smaller than G16 + H16 + J16 reported in table A5

Sheet A1
B1: Table A1
C2: Central Bank Survey of Foreign Exchange and Derivatives Market Activity | P2: Max | Q2: =MAX(P9:AA146) -> 0
C3: FOREIGN EXCHANGE CONTRACTS 1 | P3: Min | Q3: =MIN(P9:AA146) -> 0
C4: Turnover in nominal or notional principal amounts in April 2025
C5: (in millions of USD) | P5: Checking table
D6: Negative values and non-numeric entries are not allowed
B7: Instruments | D7: Domestic currency against | P7: =+D7 -> Domestic currency against
D8: AUD | E8: CAD | F8: CHF | G8: EUR | H8: GBP | I8: JPY | J8: SEK | K8: USD | L8: Other 2 | M8: TOT | P8: =+D8 -> AUD | Q8: =+E8 -> CAD | R8: =+F8 -> CHF | S8: =+G8 -> EUR | T8: =+H8 -> GBP | U8: =+I8 -> JPY | V8: =+J8 -> SEK | W8: =+K8 -> USD | X8: OTH | Y8: =+M8 -> TOT | AA8: =+M8 -> TOT
C9: SPOT 3
C10: with reporting dealers | D10: =SUM(D11:D12) -> 0 | E10: =SUM(E11:E12) -> 0 | F10: =SUM(F11:F12) -> 0 | G10: =SUM(G11:G12) -> 0 | H10: =SUM(H11:H12) -> 0 | I10: =SUM(I11:I12) -> 0 | J10: =SUM(J11:J12) -> 0 | K10: =SUM(K11:K12) -> 0 | L10: =SUM(L11:L12) -> 0 | M10: =+SUM(D10:L10) -> 0 | P10: =+D10-SUM(D11:D12) -> 0 | Q10: =+E10-SUM(E11:E12) -> 0 | R10: =+F10-SUM(F11:F12) -> 0 | S10: =+G10-SUM(G11:G12) -> 0 | T10: =+H10-SUM(H11:H12) -> 0 | U10: =+I10-SUM(I11:I12) -> 0 | V10: =+J10-SUM(J11:J12) -> 0 | W10: =+K10-SUM(K11:K12) -> 0 | ... Y10: =+M10-SUM(M11:M12) -> 0 | AA10: =+M10-SUM(D10:L10) -> 0
C11: local | M11: =+SUM(D11:L11) -> 0 | AA11: =+M11-SUM(D11:L11) -> 0
C12: cross-border | M12: =+SUM(D12:L12) -> 0 | AA12: =+M12-SUM(D12:L12) -> 0
C13: with other financial institutions | D13: =SUM(D14:D15) -> 0 | E13: =SUM(E14:E15) -> 0 | F13: =SUM(F14:F15) -> 0 | G13: =SUM(G14:G15) -> 0 | H13: =SUM(H14:H15) -> 0 | I13: =SUM(I14:I15) -> 0 | J13: =SUM(J14:J15) -> 0 | K13: =SUM(K14:K15) -> 0 | L13: =SUM(L14:L15) -> 0 | M13: =+SUM(D13:L13) -> 0 | P13: =+D13-SUM(D14:D15) -> 0 | Q13: =+E13-SUM(E14:E15) -> 0 | R13: =+F13-SUM(F14:F15) -> 0 | S13: =+G13-SUM(G14:G15) -> 0 | T13: =+H13-SUM(H14:H15) -> 0 | U13: =+I13-SUM(I14:I15) -> 0 | V13: =+J13-SUM(J14:J15) -> 0 | W13: =+K13-SUM(K14:K15) -> 0 | ... Y13: =+M13-SUM(M14:M15) -> 0 | AA13: =+M13-SUM(D13:L13) -> 0
C14: local | M14: =+SUM(D14:L14) -> 0 | AA14: =+M14-SUM(D14:L14) -> 0
C15: cross-border | M15: =+SUM(D15:L15) -> 0 | AA15: =+M15-SUM(D15:L15) -> 0
C17: non-reporting banks | M17: =+SUM(D17:L17) -> 0 | P17: =+D13-SUM(D17:D22) -> 0 | Q17: =+E13-SUM(E17:E22) -> 0 | R17: =+F13-SUM(F17:F22) -> 0 | S17: =+G13-SUM(G17:G22) -> 0 | T17: =+H13-SUM(H17:H22) -> 0 | U17: =+I13-SUM(I17:I22) -> 0 | V17: =+J13-SUM(J17:J22) -> 0 | W17: =+K13-SUM(K17:K22) -> 0 | ... Y17: =+M13-SUM(M17:M22) -> 0 | AA17: =+M17-SUM(D17:L17) -> 0
C18: institutional investors | M18: =+SUM(D18:L18) -> 0 | AA18: =+M18-SUM(D18:L18) -> 0
C19: hedge funds and proprietary trading firms | M19: =+SUM(D19:L19) -> 0 | AA19: =+M19-SUM(D19:L19) -> 0
C20: official sector financial institutions | M20: =+SUM(D20:L20) -> 0 | AA20: =+M20-SUM(D20:L20) -> 0
C21: others | M21: =+SUM(D21:L21) -> 0 | AA21: =+M21-SUM(D21:L21) -> 0
C22: undistributed | M22: =+SUM(D22:L22) -> 0 | AA22: =+M22-SUM(D22:L22) -> 0
C24: with non-financial customers | D24: =SUM(D25:D26) -> 0 | E24: =SUM(E25:E26) -> 0 | F24: =SUM(F25:F26) -> 0 | G24: =SUM(G25:G26) -> 0 | H24: =SUM(H25:H26) -> 0 | I24: =SUM(I25:I26) -> 0 | J24: =SUM(J25:J26) -> 0 | K24: =SUM(K25:K26) -> 0 | L24: =SUM(L25:L26) -> 0 | M24: =+SUM(D24:L24) -> 0 | P24: =+D24-SUM(D25:D26) -> 0 | Q24: =+E24-SUM(E25:E26) -> 0 | R24: =+F24-SUM(F25:F26) -> 0 | S24: =+G24-SUM(G25:G26) -> 0 | T24: =+H24-SUM(H25:H26) -> 0 | U24: =+I24-SUM(I25:I26) -> 0 | V24: =+J24-SUM(J25:J26) -> 0 | W24: =+K24-SUM(K25:K26) -> 0 | ... Y24: =+M24-SUM(M25:M26) -> 0 | AA24: =+M24-SUM(D24:L24) -> 0
C25: local | M25: =+SUM(D25:L25) -> 0 | AA25: =+M25-SUM(D25:L25) -> 0
C26: cross-border | M26: =+SUM(D26:L26) -> 0 | AA26: =+M26-SUM(D26:L26) -> 0
C27: TOTAL SPOT | D27: =+SUM(D24,D13,D10) -> 0 | E27: =+SUM(E24,E13,E10) -> 0 | F27: =+SUM(F24,F13,F10) -> 0 | G27: =+SUM(G24,G13,G10) -> 0 | H27: =+SUM(H24,H13,H10) -> 0 | I27: =+SUM(I24,I13,I10) -> 0 | J27: =+SUM(J24,J13,J10) -> 0 | K27: =+SUM(K24,K13,K10) -> 0 | L27: =+SUM(L24,L13,L10) -> 0 | M27: =+SUM(D27:L27) -> 0 | P27: =+D27-D10-D13-D24 -> 0 | Q27: =+E27-E10-E13-E24 -> 0 | R27: =+F27-F10-F13-F24 -> 0 | S27: =+G27-G10-G13-G24 -> 0 | T27: =+H27-H10-H13-H24 -> 0 | U27: =+I27-I10-I13-I24 -> 0 | V27: =+J27-J10-J13-J24 -> 0 | W27: =+K27-K10-K13-K24 -> 0 | ... Y27: =+M27-M10-M13-M24 -> 0 | AA27: =+M27-SUM(D27:L27) -> 0
C28: o/w prime brokered to non-bank electronic market-makers | M28: =+SUM(D28:L28) -> 0 | P28: =+IF((D28+D29>D27),111,0) -> 0 | Q28: =+IF((E28+E29>E27),111,0) -> 0 | R28: =+IF((F28+F29>F27),111,0) -> 0 | S28: =+IF((G28+G29>G27),111,0) -> 0 | T28: =+IF((H28+H29>H27),111,0) -> 0 | U28: =+IF((I28+I29>I27),111,0) -> 0 | V28: =+IF((J28+J29>J27),111,0) -> 0 | W28: =+IF((K28+K29>K27),111,0) -> 0 | ... Y28: =+IF((M28+M29>M27),111,0) -> 0 | AA28: =+M28-SUM(D28:L28) -> 0
C29: o/w prime brokered to other customers | M29: =+SUM(D29:L29) -> 0 | AA29: =+M29-SUM(D29:L29) -> 0
C30: o/w retail-driven | M30: =+SUM(D30:L30) -> 0 | P30: =+IF((D30>D27),111,0) -> 0 | Q30: =+IF((E30>E27),111,0) -> 0 | R30: =+IF((F30>F27),111,0) -> 0 | S30: =+IF((G30>G27),111,0) -> 0 | T30: =+IF((H30>H27),111,0) -> 0 | U30: =+IF((I30>I27),111,0) -> 0 | V30: =+IF((J30>J27),111,0) -> 0 | W30: =+IF((K30>K27),111,0) -> 0 | ... Y30: =+IF((M30>M27),111,0) -> 0 | AA30: =+M30-SUM(D30:L30) -> 0
C31: o/w back-to-back trades | S31: =+IF((G31>G27),111,0) -> 0 | U31: =+IF((I31>I27),111,0) -> 0 | W31: =+IF((K31>K27),111,0) -> 0
C32: OUTRIGHT FORWARDS 4
C33: with reporting dealers | D33: =SUM(D34:D35) -> 0 | E33: =SUM(E34:E35) -> 0 | F33: =SUM(F34:F35) -> 0 | G33: =SUM(G34:G35) -> 0 | H33: =SUM(H34:H35) -> 0 | I33: =SUM(I34:I35) -> 0 | J33: =SUM(J34:J35) -> 0 | K33: =SUM(K34:K35) -> 0 | L33: =SUM(L34:L35) -> 0 | M33: =+SUM(D33:L33) -> 0 | P33: =+D33-SUM(D34:D35) -> 0 | Q33: =+E33-SUM(E34:E35) -> 0 | R33: =+F33-SUM(F34:F35) -> 0 | S33: =+G33-SUM(G34:G35) -> 0 | T33: =+H33-SUM(H34:H35) -> 0 | U33: =+I33-SUM(I34:I35) -> 0 | V33: =+J33-SUM(J34:J35) -> 0 | W33: =+K33-SUM(K34:K35) -> 0 | ... Y33: =+M33-SUM(M34:M35) -> 0 | AA33: =+M33-SUM(D33:L33) -> 0
C34: local | M34: =+SUM(D34:L34) -> 0 | AA34: =+M34-SUM(D34:L34) -> 0
C35: cross-border | M35: =+SUM(D35:L35) -> 0 | AA35: =+M35-SUM(D35:L35) -> 0
C36: with other financial institutions | D36: =SUM(D37:D38) -> 0 | E36: =SUM(E37:E38) -> 0 | F36: =SUM(F37:F38) -> 0 | G36: =SUM(G37:G38) -> 0 | H36: =SUM(H37:H38) -> 0 | I36: =SUM(I37:I38) -> 0 | J36: =SUM(J37:J38) -> 0 | K36: =SUM(K37:K38) -> 0 | L36: =SUM(L37:L38) -> 0 | M36: =+SUM(D36:L36) -> 0 | P36: =+D36-SUM(D37:D38) -> 0 | Q36: =+E36-SUM(E37:E38) -> 0 | R36: =+F36-SUM(F37:F38) -> 0 | S36: =+G36-SUM(G37:G38) -> 0 | T36: =+H36-SUM(H37:H38) -> 0 | U36: =+I36-SUM(I37:I38) -> 0 | V36: =+J36-SUM(J37:J38) -> 0 | W36: =+K36-SUM(K37:K38) -> 0 | ... Y36: =+M36-SUM(M37:M38) -> 0 | AA36: =+M36-SUM(D36:L36) -> 0
C37: local | M37: =+SUM(D37:L37) -> 0 | AA37: =+M37-SUM(D37:L37) -> 0
C38: cross-border | M38: =+SUM(D38:L38) -> 0 | AA38: =+M38-SUM(D38:L38) -> 0
C40: non-reporting banks | M40: =+SUM(D40:L40) -> 0 | P40: =+D36-SUM(D40:D45) -> 0 | Q40: =+E36-SUM(E40:E45) -> 0 | R40: =+F36-SUM(F40:F45) -> 0 | S40: =+G36-SUM(G40:G45) -> 0 | T40: =+H36-SUM(H40:H45) -> 0 | U40: =+I36-SUM(I40:I45) -> 0 | V40: =+J36-SUM(J40:J45) -> 0 | W40: =+K36-SUM(K40:K45) -> 0 | ... Y40: =+M36-SUM(M40:M45) -> 0 | AA40: =+M40-SUM(D40:L40) -> 0
C41: institutional investors | M41: =+SUM(D41:L41) -> 0 | AA41: =+M41-SUM(D41:L41) -> 0
C42: hedge funds and proprietary trading firms | M42: =+SUM(D42:L42) -> 0 | AA42: =+M42-SUM(D42:L42) -> 0
C43: official sector financial institutions | M43: =+SUM(D43:L43) -> 0 | AA43: =+M43-SUM(D43:L43) -> 0
...

Sheet A2
B1: Table A2
C2: Central Bank Survey of Foreign Exchange and Derivatives Market Activity | AC2: Max | AD2: =MAX(AC9:BA147) -> 0
C3: FOREIGN EXCHANGE CONTRACTS 1 | AC3: Min | AD3: =MIN(AC9:BA147) -> 0
C4: Turnover in nominal or notional principal amounts in April 2025
C5: (in millions of USD) | AC5: Checking table
D6: Negative values and non-numeric entries are not allowed
C7: Instruments | D7: USD against | AC7: =+D7 -> USD against
D8: AUD | E8: BRL | F8: CAD | G8: CHF | H8: CNY | I8: EUR | J8: GBP | K8: HKD | L8: INR | M8: JPY | N8: KRW | O8: MXN | P8: NOK | Q8: NZD | R8: PLN | S8: RUB | T8: SEK | U8: SGD | V8: TRY | W8: TWD | X8: ZAR | Y8: Other 2 | Z8: TOT | AC8: =+D8 -> AUD | AD8: =+E8 -> BRL | AE8: =+F8 -> CAD | AF8: =+G8 -> CHF | AG8: =+H8 -> CNY | AH8: =+I8 -> EUR | AI8: =+J8 -> GBP | AJ8: =+K8 -> HKD | ... AW8: =+X8 -> ZAR | AX8: OTH | AY8: =+Z8 -> TOT | BA8: =+Z8 -> TOT
C9: SPOT 3
C10: with reporting dealers | D10: =SUM(D11:D12) -> 0 | E10: =SUM(E11:E12) -> 0 | F10: =SUM(F11:F12) -> 0 | G10: =SUM(G11:G12) -> 0 | H10: =SUM(H11:H12) -> 0 | I10: =SUM(I11:I12) -> 0 | J10: =SUM(J11:J12) -> 0 | K10: =SUM(K11:K12) -> 0 | ... T10: =SUM(T11:T12) -> 0 | V10: =SUM(V11:V12) -> 0 | W10: =SUM(W11:W12) -> 0 | X10: =SUM(X11:X12) -> 0 | Y10: =SUM(Y11:Y12) -> 0 | Z10: =SUM(D10:T10)+SUM(V10:Y10) -> 0 | AC10: =+D10-SUM(D11:D12) -> 0 | AD10: =+E10-SUM(E11:E12) -> 0 | AE10: =+F10-SUM(F11:F12) -> 0 | AF10: =+G10-SUM(G11:G12) -> 0 | AG10: =+H10-SUM(H11:H12) -> 0 | AH10: =+I10-SUM(I11:I12) -> 0 | AI10: =+J10-SUM(J11:J12) -> 0 | AJ10: =+K10-SUM(K11:K12) -> 0 | ... AY10: =+Z10-SUM(Z11:Z12) -> 0 | BA10: =+Z10-SUM(D10:Y10) -> 0
C11: local | Z11: =SUM(D11:T11)+SUM(V11:Y11) -> 0 | BA11: =+Z11-SUM(D11:Y11) -> 0
C12: cross-border | Z12: =SUM(D12:T12)+SUM(V12:Y12) -> 0 | BA12: =+Z12-SUM(D12:Y12) -> 0
C13: with other financial institutions | D13: =SUM(D14:D15) -> 0 | E13: =SUM(E14:E15) -> 0 | F13: =SUM(F14:F15) -> 0 | G13: =SUM(G14:G15) -> 0 | H13: =SUM(H14:H15) -> 0 | I13: =SUM(I14:I15) -> 0 | J13: =SUM(J14:J15) -> 0 | K13: =SUM(K14:K15) -> 0 | ... T13: =SUM(T14:T15) -> 0 | V13: =SUM(V14:V15) -> 0 | W13: =SUM(W14:W15) -> 0 | X13: =SUM(X14:X15) -> 0 | Y13: =SUM(Y14:Y15) -> 0 | Z13: =SUM(D13:T13)+SUM(V13:Y13) -> 0 | AC13: =+D13-SUM(D14:D15) -> 0 | AD13: =+E13-SUM(E14:E15) -> 0 | AE13: =+F13-SUM(F14:F15) -> 0 | AF13: =+G13-SUM(G14:G15) -> 0 | AG13: =+H13-SUM(H14:H15) -> 0 | AH13: =+I13-SUM(I14:I15) -> 0 | AI13: =+J13-SUM(J14:J15) -> 0 | AJ13: =+K13-SUM(K14:K15) -> 0 | ... AY13: =+Z13-SUM(Z14:Z15) -> 0 | BA13: =+Z13-SUM(D13:Y13) -> 0
C14: local | Z14: =SUM(D14:T14)+SUM(V14:Y14) -> 0 | BA14: =+Z14-SUM(D14:Y14) -> 0
C15: cross-border | Z15: =SUM(D15:T15)+SUM(V15:Y15) -> 0 | BA15: =+Z15-SUM(D15:Y15) -> 0
C17: non-reporting banks | Z17: =SUM(D17:T17)+SUM(V17:Y17) -> 0 | AC17: =+D13-SUM(D17:D22) -> 0 | AD17: =+E13-SUM(E17:E22) -> 0 | AE17: =+F13-SUM(F17:F22) -> 0 | AF17: =+G13-SUM(G17:G22) -> 0 | AG17: =+H13-SUM(H17:H22) -> 0 | AH17: =+I13-SUM(I17:I22) -> 0 | AI17: =+J13-SUM(J17:J22) -> 0 | AJ17: =+K13-SUM(K17:K22) -> 0 | ... AY17: =+Z13-SUM(Z17:Z22) -> 0 | BA17: =+Z17-SUM(D17:Y17) -> 0
C18: institutional investors | Z18: =SUM(D18:T18)+SUM(V18:Y18) -> 0 | BA18: =+Z18-SUM(D18:Y18) -> 0
C19: hedge funds and proprietary trading firms | Z19: =SUM(D19:T19)+SUM(V19:Y19) -> 0 | BA19: =+Z19-SUM(D19:Y19) -> 0
C20: official sector financial institutions | Z20: =SUM(D20:T20)+SUM(V20:Y20) -> 0 | BA20: =+Z20-SUM(D20:Y20) -> 0
C21: others | Z21: =SUM(D21:T21)+SUM(V21:Y21) -> 0 | BA21: =+Z21-SUM(D21:Y21) -> 0
C22: undistributed | Z22: =SUM(D22:T22)+SUM(V22:Y22) -> 0 | BA22: =+Z22-SUM(D22:Y22) -> 0
C24: with non-financial customers | D24: =SUM(D25:D26) -> 0 | E24: =SUM(E25:E26) -> 0 | F24: =SUM(F25:F26) -> 0 | G24: =SUM(G25:G26) -> 0 | H24: =SUM(H25:H26) -> 0 | I24: =SUM(I25:I26) -> 0 | J24: =SUM(J25:J26) -> 0 | K24: =SUM(K25:K26) -> 0 | ... T24: =SUM(T25:T26) -> 0 | V24: =SUM(V25:V26) -> 0 | W24: =SUM(W25:W26) -> 0 | X24: =SUM(X25:X26) -> 0 | Y24: =SUM(Y25:Y26) -> 0 | Z24: =SUM(D24:T24)+SUM(V24:Y24) -> 0 | AC24: =+D24-SUM(D25:D26) -> 0 | AD24: =+E24-SUM(E25:E26) -> 0 | AE24: =+F24-SUM(F25:F26) -> 0 | AF24: =+G24-SUM(G25:G26) -> 0 | AG24: =+H24-SUM(H25:H26) -> 0 | AH24: =+I24-SUM(I25:I26) -> 0 | AI24: =+J24-SUM(J25:J26) -> 0 | AJ24: =+K24-SUM(K25:K26) -> 0 | ... AY24: =+Z24-SUM(Z25:Z26) -> 0 | BA24: =+Z24-SUM(D24:Y24) -> 0
C25: local | Z25: =SUM(D25:T25)+SUM(V25:Y25) -> 0 | BA25: =+Z25-SUM(D25:Y25) -> 0
C26: cross-border | Z26: =SUM(D26:T26)+SUM(V26:Y26) -> 0 | BA26: =+Z26-SUM(D26:Y26) -> 0
C27: TOTAL SPOT | D27: =+SUM(D24,D13,D10) -> 0 | E27: =+SUM(E24,E13,E10) -> 0 | F27: =+SUM(F24,F13,F10) -> 0 | G27: =+SUM(G24,G13,G10) -> 0 | H27: =+SUM(H24,H13,H10) -> 0 | I27: =+SUM(I24,I13,I10) -> 0 | J27: =+SUM(J24,J13,J10) -> 0 | K27: =+SUM(K24,K13,K10) -> 0 | ... T27: =+SUM(T24,T13,T10) -> 0 | V27: =+SUM(V24,V13,V10) -> 0 | W27: =+SUM(W24,W13,W10) -> 0 | X27: =+SUM(X24,X13,X10) -> 0 | Y27: =+SUM(Y24,Y13,Y10) -> 0 | Z27: =SUM(D27:T27)+SUM(V27:Y27) -> 0 | AC27: =+D27-D10-D13-D24 -> 0 | AD27: =+E27-E10-E13-E24 -> 0 | AE27: =+F27-F10-F13-F24 -> 0 | AF27: =+G27-G10-G13-G24 -> 0 | AG27: =+H27-H10-H13-H24 -> 0 | AH27: =+I27-I10-I13-I24 -> 0 | AI27: =+J27-J10-J13-J24 -> 0 | AJ27: =+K27-K10-K13-K24 -> 0 | ... AY27: =+Z27-Z10-Z13-Z24 -> 0 | BA27: =+Z27-SUM(D27:Y27) -> 0
C28: o/w prime brokered to non-bank electronic market-makers | Z28: =SUM(D28:T28)+SUM(V28:Y28) -> 0 | AC28: =+IF((D28+D29>D27),111,0) -> 0 | AD28: =+IF((E28+E29>E27),111,0) -> 0 | AE28: =+IF((F28+F29>F27),111,0) -> 0 | AF28: =+IF((G28+G29>G27),111,0) -> 0 | AG28: =+IF((H28+H29>H27),111,0) -> 0 | AH28: =+IF((I28+I29>I27),111,0) -> 0 | AI28: =+IF((J28+J29>J27),111,0) -> 0 | AJ28: =+IF((K28+K29>K27),111,0) -> 0 | ... AY28: =+IF((Z28+Z29>Z27),111,0) -> 0 | BA28: =+Z28-SUM(D28:Y28) -> 0
C29: o/w prime brokered to other customers | Z29: =SUM(D29:T29)+SUM(V29:Y29) -> 0 | BA29: =+Z29-SUM(D29:Y29) -> 0
C30: o/w retail-driven | Z30: =SUM(D30:T30)+SUM(V30:Y30) -> 0 | AC30: =+IF((D30>D27),111,0) -> 0 | AD30: =+IF((E30>E27),111,0) -> 0 | AE30: =+IF((F30>F27),111,0) -> 0 | AF30: =+IF((G30>G27),111,0) -> 0 | AG30: =+IF((H30>H27),111,0) -> 0 | AH30: =+IF((I30>I27),111,0) -> 0 | AI30: =+IF((J30>J27),111,0) -> 0 | AJ30: =+IF((K30>K27),111,0) -> 0 | ... AY30: =+IF((Z30>Z27),111,0) -> 0 | BA30: =+Z30-SUM(D30:Y30) -> 0
C31: o/w back-to-back trades | AY31: =+IF(Z31>Z27,111,0) -> 0
C32: OUTRIGHT FORWARDS 4 | BA32: =+Z32-SUM(D32:Y32) -> 0
C33: with reporting dealers | D33: =SUM(D34:D35) -> 0 | E33: =SUM(E34:E35) -> 0 | F33: =SUM(F34:F35) -> 0 | G33: =SUM(G34:G35) -> 0 | H33: =SUM(H34:H35) -> 0 | I33: =SUM(I34:I35) -> 0 | J33: =SUM(J34:J35) -> 0 | K33: =SUM(K34:K35) -> 0 | ... T33: =SUM(T34:T35) -> 0 | V33: =SUM(V34:V35) -> 0 | W33: =SUM(W34:W35) -> 0 | X33: =SUM(X34:X35) -> 0 | Y33: =SUM(Y34:Y35) -> 0 | Z33: =SUM(D33:T33)+SUM(V33:Y33) -> 0 | AC33: =+D33-SUM(D34:D35) -> 0 | AD33: =+E33-SUM(E34:E35) -> 0 | AE33: =+F33-SUM(F34:F35) -> 0 | AF33: =+G33-SUM(G34:G35) -> 0 | AG33: =+H33-SUM(H34:H35) -> 0 | AH33: =+I33-SUM(I34:I35) -> 0 | AI33: =+J33-SUM(J34:J35) -> 0 | AJ33: =+K33-SUM(K34:K35) -> 0 | ... AY33: =+Z33-SUM(Z34:Z35) -> 0 | BA33: =+Z33-SUM(D33:Y33) -> 0
C34: local | Z34: =SUM(D34:T34)+SUM(V34:Y34) -> 0 | BA34: =+Z34-SUM(D34:Y34) -> 0
C35: cross-border | Z35: =SUM(D35:T35)+SUM(V35:Y35) -> 0 | BA35: =+Z35-SUM(D35:Y35) -> 0
C36: with other financial institutions | D36: =SUM(D37:D38) -> 0 | E36: =SUM(E37:E38) -> 0 | F36: =SUM(F37:F38) -> 0 | G36: =SUM(G37:G38) -> 0 | H36: =SUM(H37:H38) -> 0 | I36: =SUM(I37:I38) -> 0 | J36: =SUM(J37:J38) -> 0 | K36: =SUM(K37:K38) -> 0 | ... T36: =SUM(T37:T38) -> 0 | V36: =SUM(V37:V38) -> 0 | W36: =SUM(W37:W38) -> 0 | X36: =SUM(X37:X38) -> 0 | Y36: =SUM(Y37:Y38) -> 0 | Z36: =SUM(D36:T36)+SUM(V36:Y36) -> 0 | AC36: =+D36-SUM(D37:D38) -> 0 | AD36: =+E36-SUM(E37:E38) -> 0 | AE36: =+F36-SUM(F37:F38) -> 0 | AF36: =+G36-SUM(G37:G38) -> 0 | AG36: =+H36-SUM(H37:H38) -> 0 | AH36: =+I36-SUM(I37:I38) -> 0 | AI36: =+J36-SUM(J37:J38) -> 0 | AJ36: =+K36-SUM(K37:K38) -> 0 | ... AY36: =+Z36-SUM(Z37:Z38) -> 0 | BA36: =+Z36-SUM(D36:Y36) -> 0
C37: local | Z37: =SUM(D37:T37)+SUM(V37:Y37) -> 0 | BA37: =+Z37-SUM(D37:Y37) -> 0
C38: cross-border | Z38: =SUM(D38:T38)+SUM(V38:Y38) -> 0 | BA38: =+Z38-SUM(D38:Y38) -> 0
C40: non-reporting banks | Z40: =SUM(D40:T40)+SUM(V40:Y40) -> 0 | AC40: =+D36-SUM(D40:D45) -> 0 | AD40: =+E36-SUM(E40:E45) -> 0 | AE40: =+F36-SUM(F40:F45) -> 0 | AF40: =+G36-SUM(G40:G45) -> 0 | AG40: =+H36-SUM(H40:H45) -> 0 | AH40: =+I36-SUM(I40:I45) -> 0 | AI40: =+J36-SUM(J40:J45) -> 0 | AJ40: =+K36-SUM(K40:K45) -> 0 | ... AY40: =+Z36-SUM(Z40:Z45) -> 0 | BA40: =+Z40-SUM(D40:Y40) -> 0
C41: institutional investors | Z41: =SUM(D41:T41)+SUM(V41:Y41) -> 0 | BA41: =+Z41-SUM(D41:Y41) -> 0
C42: hedge funds and proprietary trading firms | Z42: =SUM(D42:T42)+SUM(V42:Y42) -> 0 | BA42: =+Z42-SUM(D42:Y42) -> 0
C43: official sector financial institutions | Z43: =SUM(D43:T43)+SUM(V43:Y43) -> 0 | BA43: =+Z43-SUM(D43:Y43) -> 0
...

Sheet A3
B1: Table A3
C2: Central Bank Survey of Foreign Exchange and Derivatives Market Activity | AD2: Max | AE2: =MAX(AD9:BE155) -> 0
C3: FOREIGN EXCHANGE CONTRACTS 1 | AD3: Min | AE3: =MIN(AD9:BE155) -> 0
C4: Turnover in nominal or notional principal amounts in April 2025
C5: (in millions of USD) | AD5: Checking table
D6: Negative values and non-numeric entries are not allowed
C7: Instruments | D7: EUR against | R7: JPY against | Z7: RESIDUAL 3 | AA7: GRAND TOTAL 4 | AD7: =+D7 -> EUR against | AR7: =+R7 -> JPY against | BC7: EUR | BD7: JPY | BE7: TOT
D8: AUD | E8: CAD | F8: CHF | G8: CNY | H8: DKK | I8: GBP | J8: HUF | K8: JPY | L8: NOK | M8: PLN | N8: SEK | O8: TRY | P8: Other 2 | Q8: TOT | R8: AUD | S8: BRL | T8: CAD | U8: NZD | V8: TRY | W8: ZAR | X8: Other 2 | Y8: TOT | AD8: =+D8 -> AUD | AE8: =+E8 -> CAD | AF8: =+F8 -> CHF | AG8: =+G8 -> CNY | AH8: =+H8 -> DKK | AI8: =+I8 -> GBP | AJ8: =+J8 -> HUF | AK8: =+K8 -> JPY | ... AO8: =+O8 -> TRY | AP8: OTH | AQ8: =+Q8 -> TOT | AR8: =+R8 -> AUD | AS8: =+S8 -> BRL | AT8: =+T8 -> CAD | AU8: =+U8 -> NZD | AV8: =+V8 -> TRY | AW8: =+W8 -> ZAR | AX8: OTH | AY8: =+Y8 -> TOT | AZ8: RES | BA8: TOT | BC8: TOT | BD8: TOT | BE8: TOT
C9: SPOT 5
C10: with reporting dealers | D10: =SUM(D11:D12) -> 0 | E10: =SUM(E11:E12) -> 0 | F10: =SUM(F11:F12) -> 0 | G10: =SUM(G11:G12) -> 0 | H10: =SUM(H11:H12) -> 0 | I10: =SUM(I11:I12) -> 0 | J10: =SUM(J11:J12) -> 0 | K10: =SUM(K11:K12) -> 0 | ... P10: =SUM(P11:P12) -> 0 | Q10: =+SUM(D10:P10) -> 0 | R10: =SUM(R11:R12) -> 0 | S10: =SUM(S11:S12) -> 0 | T10: =SUM(T11:T12) -> 0 | U10: =SUM(U11:U12) -> 0 | V10: =SUM(V11:V12) -> 0 | W10: =SUM(W11:W12) -> 0 | X10: =SUM(X11:X12) -> 0 | Y10: =+SUM(R10:X10) -> 0 | AA10: =+'A1'!M10+'A2'!Z10+'A3'!Q10+'A3'!Y10+'A3'!Z10 -> 0 | AD10: =+D10-SUM(D11:D12) -> 0 | AE10: =+E10-SUM(E11:E12) -> 0 | AF10: =+F10-SUM(F11:F12) -> 0 | AG10: =+G10-SUM(G11:G12) -> 0 | AH10: =+H10-SUM(H11:H12) -> 0 | AI10: =+I10-SUM(I11:I12) -> 0 | AJ10: =+J10-SUM(J11:J12) -> 0 | AK10: =+K10-SUM(K11:K12) -> 0 | ... BA10: =+AA10-SUM(AA11:AA12) -> 0 | BC10: =+Q10-SUM(D10:P10) -> 0 | BD10: =+Y10-SUM(R10:X10) -> 0 | BE10: =+AA10-'A1'!M10-'A2'!Z10-'A3'!Q10-'A3'!Y10-'A3'!Z10 -> 0
C11: local | Q11: =+SUM(D11:P11) -> 0 | Y11: =+SUM(R11:X11) -> 0 | AA11: =+'A1'!M11+'A2'!Z11+'A3'!Q11+'A3'!Y11+'A3'!Z11 -> 0 | BC11: =+Q11-SUM(D11:P11) -> 0 | BD11: =+Y11-SUM(R11:X11) -> 0 | BE11: =+AA11-'A1'!M11-'A2'!Z11-'A3'!Q11-'A3'!Y11-'A3'!Z11 -> 0
C12: cross-border | Q12: =+SUM(D12:P12) -> 0 | Y12: =+SUM(R12:X12) -> 0 | AA12: =+'A1'!M12+'A2'!Z12+'A3'!Q12+'A3'!Y12+'A3'!Z12 -> 0 | BC12: =+Q12-SUM(D12:P12) -> 0 | BD12: =+Y12-SUM(R12:X12) -> 0 | BE12: =+AA12-'A1'!M12-'A2'!Z12-'A3'!Q12-'A3'!Y12-'A3'!Z12 -> 0
C13: with other financial institutions | D13: =SUM(D14:D15) -> 0 | E13: =SUM(E14:E15) -> 0 | F13: =SUM(F14:F15) -> 0 | G13: =SUM(G14:G15) -> 0 | H13: =SUM(H14:H15) -> 0 | I13: =SUM(I14:I15) -> 0 | J13: =SUM(J14:J15) -> 0 | K13: =SUM(K14:K15) -> 0 | ... P13: =SUM(P14:P15) -> 0 | Q13: =+SUM(D13:P13) -> 0 | R13: =SUM(R14:R15) -> 0 | S13: =SUM(S14:S15) -> 0 | T13: =SUM(T14:T15) -> 0 | U13: =SUM(U14:U15) -> 0 | V13: =SUM(V14:V15) -> 0 | W13: =SUM(W14:W15) -> 0 | X13: =SUM(X14:X15) -> 0 | Y13: =+SUM(R13:X13) -> 0 | AA13: =+'A1'!M13+'A2'!Z13+'A3'!Q13+'A3'!Y13+'A3'!Z13 -> 0 | AD13: =+D13-SUM(D14:D15) -> 0 | AE13: =+E13-SUM(E14:E15) -> 0 | AF13: =+F13-SUM(F14:F15) -> 0 | AG13: =+G13-SUM(G14:G15) -> 0 | AH13: =+H13-SUM(H14:H15) -> 0 | AI13: =+I13-SUM(I14:I15) -> 0 | AJ13: =+J13-SUM(J14:J15) -> 0 | AK13: =+K13-SUM(K14:K15) -> 0 | ... BA13: =+AA13-SUM(AA14:AA15) -> 0 | BC13: =+Q13-SUM(D13:P13) -> 0 | BD13: =+Y13-SUM(R13:X13) -> 0 | BE13: =+AA13-'A1'!M13-'A2'!Z13-'A3'!Q13-'A3'!Y13-'A3'!Z13 -> 0
C14: local | Q14: =+SUM(D14:P14) -> 0 | Y14: =+SUM(R14:X14) -> 0 | AA14: =+'A1'!M14+'A2'!Z14+'A3'!Q14+'A3'!Y14+'A3'!Z14 -> 0 | BC14: =+Q14-SUM(D14:P14) -> 0 | BD14: =+Y14-SUM(R14:X14) -> 0 | BE14: =+AA14-'A1'!M14-'A2'!Z14-'A3'!Q14-'A3'!Y14-'A3'!Z14 -> 0
C15: cross-border | Q15: =+SUM(D15:P15) -> 0 | Y15: =+SUM(R15:X15) -> 0 | AA15: =+'A1'!M15+'A2'!Z15+'A3'!Q15+'A3'!Y15+'A3'!Z15 -> 0 | BC15: =+Q15-SUM(D15:P15) -> 0 | BD15: =+Y15-SUM(R15:X15) -> 0 | BE15: =+AA15-'A1'!M15-'A2'!Z15-'A3'!Q15-'A3'!Y15-'A3'!Z15 -> 0
C17: non-reporting banks | Q17: =+SUM(D17:P17) -> 0 | Y17: =+SUM(R17:X17) -> 0 | AA17: =+'A1'!M17+'A2'!Z17+'A3'!Q17+'A3'!Y17+'A3'!Z17 -> 0 | AD17: =+D13-SUM(D17:D22) -> 0 | AE17: =+E13-SUM(E17:E22) -> 0 | AF17: =+F13-SUM(F17:F22) -> 0 | AG17: =+G13-SUM(G17:G22) -> 0 | AH17: =+H13-SUM(H17:H22) -> 0 | AI17: =+I13-SUM(I17:I22) -> 0 | AJ17: =+J13-SUM(J17:J22) -> 0 | AK17: =+K13-SUM(K17:K22) -> 0 | ... BA17: =+AA13-SUM(AA17:AA22) -> 0 | BC17: =+Q17-SUM(D17:P17) -> 0 | BD17: =+Y17-SUM(R17:X17) -> 0 | BE17: =+AA17-'A1'!M17-'A2'!Z17-'A3'!Q17-'A3'!Y17-'A3'!Z17 -> 0
C18: institutional investors | Q18: =+SUM(D18:P18) -> 0 | Y18: =+SUM(R18:X18) -> 0 | AA18: =+'A1'!M18+'A2'!Z18+'A3'!Q18+'A3'!Y18+'A3'!Z18 -> 0 | BC18: =+Q18-SUM(D18:P18) -> 0 | BD18: =+Y18-SUM(R18:X18) -> 0 | BE18: =+AA18-'A1'!M18-'A2'!Z18-'A3'!Q18-'A3'!Y18-'A3'!Z18 -> 0
C19: hedge funds and proprietary trading firms | Q19: =+SUM(D19:P19) -> 0 | Y19: =+SUM(R19:X19) -> 0 | AA19: =+'A1'!M19+'A2'!Z19+'A3'!Q19+'A3'!Y19+'A3'!Z19 -> 0 | BC19: =+Q19-SUM(D19:P19) -> 0 | BD19: =+Y19-SUM(R19:X19) -> 0 | BE19: =+AA19-'A1'!M19-'A2'!Z19-'A3'!Q19-'A3'!Y19-'A3'!Z19 -> 0
C20: official sector financial institutions | Q20: =+SUM(D20:P20) -> 0 | Y20: =+SUM(R20:X20) -> 0 | AA20: =+'A1'!M20+'A2'!Z20+'A3'!Q20+'A3'!Y20+'A3'!Z20 -> 0 | BC20: =+Q20-SUM(D20:P20) -> 0 | BD20: =+Y20-SUM(R20:X20) -> 0 | BE20: =+AA20-'A1'!M20-'A2'!Z20-'A3'!Q20-'A3'!Y20-'A3'!Z20 -> 0
C21: others | Q21: =+SUM(D21:P21) -> 0 | Y21: =+SUM(R21:X21) -> 0 | AA21: =+'A1'!M21+'A2'!Z21+'A3'!Q21+'A3'!Y21+'A3'!Z21 -> 0 | BC21: =+Q21-SUM(D21:P21) -> 0 | BD21: =+Y21-SUM(R21:X21) -> 0 | BE21: =+AA21-'A1'!M21-'A2'!Z21-'A3'!Q21-'A3'!Y21-'A3'!Z21 -> 0
C22: undistributed | Q22: =+SUM(D22:P22) -> 0 | Y22: =+SUM(R22:X22) -> 0 | AA22: =+'A1'!M22+'A2'!Z22+'A3'!Q22+'A3'!Y22+'A3'!Z22 -> 0 | BC22: =+Q22-SUM(D22:P22) -> 0 | BD22: =+Y22-SUM(R22:X22) -> 0 | BE22: =+AA22-'A1'!M22-'A2'!Z22-'A3'!Q22-'A3'!Y22-'A3'!Z22 -> 0
C24: with non-financial customers | D24: =SUM(D25:D26) -> 0 | E24: =SUM(E25:E26) -> 0 | F24: =SUM(F25:F26) -> 0 | G24: =SUM(G25:G26) -> 0 | H24: =SUM(H25:H26) -> 0 | I24: =SUM(I25:I26) -> 0 | J24: =SUM(J25:J26) -> 0 | K24: =SUM(K25:K26) -> 0 | ... P24: =SUM(P25:P26) -> 0 | Q24: =+SUM(D24:P24) -> 0 | R24: =SUM(R25:R26) -> 0 | S24: =SUM(S25:S26) -> 0 | T24: =SUM(T25:T26) -> 0 | U24: =SUM(U25:U26) -> 0 | V24: =SUM(V25:V26) -> 0 | W24: =SUM(W25:W26) -> 0 | X24: =SUM(X25:X26) -> 0 | Y24: =+SUM(R24:X24) -> 0 | AA24: =+'A1'!M24+'A2'!Z24+'A3'!Q24+'A3'!Y24+'A3'!Z24 -> 0 | AD24: =+D24-SUM(D25:D26) -> 0 | AE24: =+E24-SUM(E25:E26) -> 0 | AF24: =+F24-SUM(F25:F26) -> 0 | AG24: =+G24-SUM(G25:G26) -> 0 | AH24: =+H24-SUM(H25:H26) -> 0 | AI24: =+I24-SUM(I25:I26) -> 0 | AJ24: =+J24-SUM(J25:J26) -> 0 | AK24: =+K24-SUM(K25:K26) -> 0 | ... BA24: =+AA24-SUM(AA25:AA26) -> 0 | BC24: =+Q24-SUM(D24:P24) -> 0 | BD24: =+Y24-SUM(R24:X24) -> 0 | BE24: =+AA24-'A1'!M24-'A2'!Z24-'A3'!Q24-'A3'!Y24-'A3'!Z24 -> 0
C25: local | Q25: =+SUM(D25:P25) -> 0 | Y25: =+SUM(R25:X25) -> 0 | AA25: =+'A1'!M25+'A2'!Z25+'A3'!Q25+'A3'!Y25+'A3'!Z25 -> 0 | BC25: =+Q25-SUM(D25:P25) -> 0 | BD25: =+Y25-SUM(R25:X25) -> 0 | BE25: =+AA25-'A1'!M25-'A2'!Z25-'A3'!Q25-'A3'!Y25-'A3'!Z25 -> 0
C26: cross-border | Q26: =+SUM(D26:P26) -> 0 | Y26: =+SUM(R26:X26) -> 0 | AA26: =+'A1'!M26+'A2'!Z26+'A3'!Q26+'A3'!Y26+'A3'!Z26 -> 0 | BC26: =+Q26-SUM(D26:P26) -> 0 | BD26: =+Y26-SUM(R26:X26) -> 0 | BE26: =+AA26-'A1'!M26-'A2'!Z26-'A3'!Q26-'A3'!Y26-'A3'!Z26 -> 0
C27: TOTAL SPOT | D27: =+SUM(D24,D13,D10) -> 0 | E27: =+SUM(E24,E13,E10) -> 0 | F27: =+SUM(F24,F13,F10) -> 0 | G27: =+SUM(G24,G13,G10) -> 0 | H27: =+SUM(H24,H13,H10) -> 0 | I27: =+SUM(I24,I13,I10) -> 0 | J27: =+SUM(J24,J13,J10) -> 0 | K27: =+SUM(K24,K13,K10) -> 0 | ... P27: =+SUM(P24,P13,P10) -> 0 | Q27: =+SUM(D27:P27) -> 0 | R27: =+SUM(R24,R13,R10) -> 0 | S27: =+SUM(S24,S13,S10) -> 0 | T27: =+SUM(T24,T13,T10) -> 0 | U27: =+SUM(U24,U13,U10) -> 0 | V27: =+SUM(V24,V13,V10) -> 0 | W27: =+SUM(W24,W13,W10) -> 0 | X27: =+SUM(X24,X13,X10) -> 0 | Y27: =+SUM(R27:X27) -> 0 | Z27: =+SUM(Z24,Z13,Z10) -> 0 | AA27: =+'A1'!M27+'A2'!Z27+'A3'!Q27+'A3'!Y27+'A3'!Z27 -> 0 | AD27: =+D27-D10-D13-D24 -> 0 | AE27: =+E27-E10-E13-E24 -> 0 | AF27: =+F27-F10-F13-F24 -> 0 | AG27: =+G27-G10-G13-G24 -> 0 | AH27: =+H27-H10-H13-H24 -> 0 | AI27: =+I27-I10-I13-I24 -> 0 | AJ27: =+J27-J10-J13-J24 -> 0 | AK27: =+K27-K10-K13-K24 -> 0 | ... BA27: =+AA27-AA10-AA13-AA24 -> 0 | BC27: =+Q27-SUM(D27:P27) -> 0 | BD27: =+Y27-SUM(R27:X27) -> 0 | BE27: =+AA27-'A1'!M27-'A2'!Z27-'A3'!Q27-'A3'!Y27-'A3'!Z27 -> 0
C28: o/w prime brokered to non-bank electronic market-makers | Q28: =+SUM(D28:P28) -> 0 | Y28: =SUM(R28:X28) -> 0 | AA28: =+'A1'!M28+'A2'!Z28+'A3'!Q28+'A3'!Y28+'A3'!Z28 -> 0 | AD28: =+IF((D28+D29>D27),111,0) -> 0 | AE28: =+IF((E28+E29>E27),111,0) -> 0 | AF28: =+IF((F28+F29>F27),111,0) -> 0 | AG28: =+IF((G28+G29>G27),111,0) -> 0 | AH28: =+IF((H28+H29>H27),111,0) -> 0 | AI28: =+IF((I28+I29>I27),111,0) -> 0 | AJ28: =+IF((J28+J29>J27),111,0) -> 0 | AK28: =+IF((K28+K29>K27),111,0) -> 0 | ... BA28: =+IF((AA28+AA29>AA27),111,0) -> 0 | BC28: =+Q28-SUM(D28:P28) -> 0 | BD28: =+Y28-SUM(R28:X28) -> 0 | BE28: =+AA28-'A1'!M28-'A2'!Z28-'A3'!Q28-'A3'!Y28-'A3'!Z28 -> 0
C29: o/w prime brokered to other customers | Q29: =+SUM(D29:P29) -> 0 | Y29: =SUM(R29:X29) -> 0 | AA29: =+'A1'!M29+'A2'!Z29+'A3'!Q29+'A3'!Y29+'A3'!Z29 -> 0 | BC29: =+Q29-SUM(D29:P29) -> 0 | BD29: =+Y29-SUM(R29:X29) -> 0 | BE29: =+AA29-'A1'!M29-'A2'!Z29-'A3'!Q29-'A3'!Y29-'A3'!Z29 -> 0
C30: o/w retail-driven | Q30: =+SUM(D30:P30) -> 0 | Y30: =SUM(R30:X30) -> 0 | AA30: =+'A1'!M30+'A2'!Z30+'A3'!Q30+'A3'!Y30+'A3'!Z30 -> 0 | AD30: =+IF((D30>D27),111,0) -> 0 | AE30: =+IF((E30>E27),111,0) -> 0 | AF30: =+IF((F30>F27),111,0) -> 0 | AG30: =+IF((G30>G27),111,0) -> 0 | AH30: =+IF((H30>H27),111,0) -> 0 | AI30: =+IF((I30>I27),111,0) -> 0 | AJ30: =+IF((J30>J27),111,0) -> 0 | AK30: =+IF((K30>K27),111,0) -> 0 | ... BA30: =+IF((AA30>AA27),111,0) -> 0 | BC30: =+Q30-SUM(D30:P30) -> 0 | BD30: =+Y30-SUM(R30:X30) -> 0 | BE30: =+AA30-'A1'!M30-'A2'!Z30-'A3'!Q30-'A3'!Y30-'A3'!Z30 -> 0
C31: o/w back-to-back trades | AQ31: =+IF(Q31>Q27,111,0) -> 0 | AY31: =+IF(Y31>Y27,111,0) -> 0 | BA31: =+IF(AA31>AA27,111,0) -> 0 | BE31: =IF(AA31>AA27,111,0)+IF(AA31<SUM(Y31,Q31,'A2'!Z31,'A1'!K31,'A1'!I31,'A1'!G31),333,0) -> 0
C32: OUTRIGHT FORWARDS 6
C33: with reporting dealers | D33: =SUM(D34:D35) -> 0 | E33: =SUM(E34:E35) -> 0 | F33: =SUM(F34:F35) -> 0 | G33: =SUM(G34:G35) -> 0 | H33: =SUM(H34:H35) -> 0 | I33: =SUM(I34:I35) -> 0 | J33: =SUM(J34:J35) -> 0 | K33: =SUM(K34:K35) -> 0 | ... P33: =SUM(P34:P35) -> 0 | Q33: =+SUM(D33:P33) -> 0 | R33: =SUM(R34:R35) -> 0 | S33: =SUM(S34:S35) -> 0 | T33: =SUM(T34:T35) -> 0 | U33: =SUM(U34:U35) -> 0 | V33: =SUM(V34:V35) -> 0 | W33: =SUM(W34:W35) -> 0 | X33: =SUM(X34:X35) -> 0 | Y33: =+SUM(R33:X33) -> 0 | AA33: =+'A1'!M33+'A2'!Z33+'A3'!Q33+'A3'!Y33+'A3'!Z33 -> 0 | AD33: =+D33-SUM(D34:D35) -> 0 | AE33: =+E33-SUM(E34:E35) -> 0 | AF33: =+F33-SUM(F34:F35) -> 0 | AG33: =+G33-SUM(G34:G35) -> 0 | AH33: =+H33-SUM(H34:H35) -> 0 | AI33: =+I33-SUM(I34:I35) -> 0 | AJ33: =+J33-SUM(J34:J35) -> 0 | AK33: =+K33-SUM(K34:K35) -> 0 | ... BA33: =+AA33-SUM(AA34:AA35) -> 0 | BC33: =+Q33-SUM(D33:P33) -> 0 | BD33: =+Y33-SUM(R33:X33) -> 0 | BE33: =+AA33-'A1'!M33-'A2'!Z33-'A3'!Q33-'A3'!Y33-'A3'!Z33 -> 0
C34: local | Q34: =+SUM(D34:P34) -> 0 | Y34: =+SUM(R34:X34) -> 0 | AA34: =+'A1'!M34+'A2'!Z34+'A3'!Q34+'A3'!Y34+'A3'!Z34 -> 0 | BC34: =+Q34-SUM(D34:P34) -> 0 | BD34: =+Y34-SUM(R34:X34) -> 0 | BE34: =+AA34-'A1'!M34-'A2'!Z34-'A3'!Q34-'A3'!Y34-'A3'!Z34 -> 0
C35: cross-border | Q35: =+SUM(D35:P35) -> 0 | Y35: =+SUM(R35:X35) -> 0 | AA35: =+'A1'!M35+'A2'!Z35+'A3'!Q35+'A3'!Y35+'A3'!Z35 -> 0 | BC35: =+Q35-SUM(D35:P35) -> 0 | BD35: =+Y35-SUM(R35:X35) -> 0 | BE35: =+AA35-'A1'!M35-'A2'!Z35-'A3'!Q35-'A3'!Y35-'A3'!Z35 -> 0
C36: with other financial institutions | D36: =SUM(D37:D38) -> 0 | E36: =SUM(E37:E38) -> 0 | F36: =SUM(F37:F38) -> 0 | G36: =SUM(G37:G38) -> 0 | H36: =SUM(H37:H38) -> 0 | I36: =SUM(I37:I38) -> 0 | J36: =SUM(J37:J38) -> 0 | K36: =SUM(K37:K38) -> 0 | ... P36: =SUM(P37:P38) -> 0 | Q36: =+SUM(D36:P36) -> 0 | R36: =SUM(R37:R38) -> 0 | S36: =SUM(S37:S38) -> 0 | T36: =SUM(T37:T38) -> 0 | U36: =SUM(U37:U38) -> 0 | V36: =SUM(V37:V38) -> 0 | W36: =SUM(W37:W38) -> 0 | X36: =SUM(X37:X38) -> 0 | Y36: =+SUM(R36:X36) -> 0 | AA36: =+'A1'!M36+'A2'!Z36+'A3'!Q36+'A3'!Y36+'A3'!Z36 -> 0 | AD36: =+D36-SUM(D37:D38) -> 0 | AE36: =+E36-SUM(E37:E38) -> 0 | AF36: =+F36-SUM(F37:F38) -> 0 | AG36: =+G36-SUM(G37:G38) -> 0 | AH36: =+H36-SUM(H37:H38) -> 0 | AI36: =+I36-SUM(I37:I38) -> 0 | AJ36: =+J36-SUM(J37:J38) -> 0 | AK36: =+K36-SUM(K37:K38) -> 0 | ... BA36: =+AA36-SUM(AA37:AA38) -> 0 | BC36: =+Q36-SUM(D36:P36) -> 0 | BD36: =+Y36-SUM(R36:X36) -> 0 | BE36: =+AA36-'A1'!M36-'A2'!Z36-'A3'!Q36-'A3'!Y36-'A3'!Z36 -> 0
C37: local | Q37: =+SUM(D37:P37) -> 0 | Y37: =+SUM(R37:X37) -> 0 | AA37: =+'A1'!M37+'A2'!Z37+'A3'!Q37+'A3'!Y37+'A3'!Z37 -> 0 | BC37: =+Q37-SUM(D37:P37) -> 0 | BD37: =+Y37-SUM(R37:X37) -> 0 | BE37: =+AA37-'A1'!M37-'A2'!Z37-'A3'!Q37-'A3'!Y37-'A3'!Z37 -> 0
C38: cross-border | Q38: =+SUM(D38:P38) -> 0 | Y38: =+SUM(R38:X38) -> 0 | AA38: =+'A1'!M38+'A2'!Z38+'A3'!Q38+'A3'!Y38+'A3'!Z38 -> 0 | BC38: =+Q38-SUM(D38:P38) -> 0 | BD38: =+Y38-SUM(R38:X38) -> 0 | BE38: =+AA38-'A1'!M38-'A2'!Z38-'A3'!Q38-'A3'!Y38-'A3'!Z38 -> 0
C40: non-reporting banks | Q40: =+SUM(D40:P40) -> 0 | Y40: =+SUM(R40:X40) -> 0 | AA40: =+'A1'!M40+'A2'!Z40+'A3'!Q40+'A3'!Y40+'A3'!Z40 -> 0 | AD40: =+D36-SUM(D40:D45) -> 0 | AE40: =+E36-SUM(E40:E45) -> 0 | AF40: =+F36-SUM(F40:F45) -> 0 | AG40: =+G36-SUM(G40:G45) -> 0 | AH40: =+H36-SUM(H40:H45) -> 0 | AI40: =+I36-SUM(I40:I45) -> 0 | AJ40: =+J36-SUM(J40:J45) -> 0 | AK40: =+K36-SUM(K40:K45) -> 0 | ... BA40: =+AA36-SUM(AA40:AA45) -> 0 | BC40: =+Q40-SUM(D40:P40) -> 0 | BD40: =+Y40-SUM(R40:X40) -> 0 | BE40: =+AA40-'A1'!M40-'A2'!Z40-'A3'!Q40-'A3'!Y40-'A3'!Z40 -> 0
C41: institutional investors | Q41: =+SUM(D41:P41) -> 0 | Y41: =+SUM(R41:X41) -> 0 | AA41: =+'A1'!M41+'A2'!Z41+'A3'!Q41+'A3'!Y41+'A3'!Z41 -> 0 | BC41: =+Q41-SUM(D41:P41) -> 0 | BD41: =+Y41-SUM(R41:X41) -> 0 | BE41: =+AA41-'A1'!M41-'A2'!Z41-'A3'!Q41-'A3'!Y41-'A3'!Z41 -> 0
C42: hedge funds and proprietary trading firms | Q42: =+SUM(D42:P42) -> 0 | Y42: =+SUM(R42:X42) -> 0 | AA42: =+'A1'!M42+'A2'!Z42+'A3'!Q42+'A3'!Y42+'A3'!Z42 -> 0 | BC42: =+Q42-SUM(D42:P42) -> 0 | BD42: =+Y42-SUM(R42:X42) -> 0 | BE42: =+AA42-'A1'!M42-'A2'!Z42-'A3'!Q42-'A3'!Y42-'A3'!Z42 -> 0
C43: official sector financial institutions | Q43: =+SUM(D43:P43) -> 0 | Y43: =+SUM(R43:X43) -> 0 | AA43: =+'A1'!M43+'A2'!Z43+'A3'!Q43+'A3'!Y43+'A3'!Z43 -> 0 | BC43: =+Q43-SUM(D43:P43) -> 0 | BD43: =+Y43-SUM(R43:X43) -> 0 | BE43: =+AA43-'A1'!M43-'A2'!Z43-'A3'!Q43-'A3'!Y43-'A3'!Z43 -> 0
...

Sheet A4
B1: Table A4
C2: Central Bank Survey of Foreign Exchange and Derivatives Market Activity | AQ2: Max | AR2: =MAX(AQ9:CC138) -> 0
C3: FOREIGN EXCHANGE CONTRACTS 1 | AQ3: Min | AR3: =MIN(AQ9:CC138) -> 0
C4: Turnover in nominal or notional principal amounts in April 2025
C5: (in millions of USD) | AQ5: Checking table
D6: Negative values and non-numeric entries are not allowed
C7: Instruments | D7: Total turnover in listed currencies against all other currencies ² | AQ7: =+D7 -> Total turnover in listed currencies against all other currencies ² | CC7: Across tabes A1, A2, A3 and A4
D8: AED | E8: ARS | F8: AUD | G8: BGN | H8: BHD | I8: BRL | J8: CAD | K8: CHF | L8: CLP | M8: CNY | N8: COP | O8: CZK | P8: DKK | Q8: GBP | R8: HKD | S8: HUF | T8: IDR | U8: ILS | V8: INR | W8: KRW | X8: MXN | Y8: MYR | Z8: NOK | AA8: NZD | AB8: PEN | AC8: PHP | AD8: PLN | AE8: RON | AF8: RUB | AG8: SAR | AH8: SEK | AI8: SGD | AJ8: THB | AK8: TRY | AL8: TWD | AM8: ZAR | AN8: Other | AQ8: =+D8 -> AED | AR8: =+E8 -> ARS | AS8: =+F8 -> AUD | AT8: =+G8 -> BGN | AU8: =+H8 -> BHD | AV8: =+I8 -> BRL | AW8: =+J8 -> CAD | AX8: =+K8 -> CHF | ... CA8: =+AN8 -> Other
C9: SPOT 3
C10: with reporting dealers | D10: =SUM(D11:D12) -> 0 | E10: =SUM(E11:E12) -> 0 | F10: =SUM(F11:F12) -> 0 | G10: =SUM(G11:G12) -> 0 | H10: =SUM(H11:H12) -> 0 | I10: =SUM(I11:I12) -> 0 | J10: =SUM(J11:J12) -> 0 | K10: =SUM(K11:K12) -> 0 | ... AN10: =SUM(AN11:AN12) -> 0 | AQ10: =+D10-SUM(D11:D12) -> 0 | AR10: =+E10-SUM(E11:E12) -> 0 | AS10: =+F10-SUM(F11:F12) -> 0 | AT10: =+G10-SUM(G11:G12) -> 0 | AU10: =+H10-SUM(H11:H12) -> 0 | AV10: =+I10-SUM(I11:I12) -> 0 | AW10: =+J10-SUM(J11:J12) -> 0 | AX10: =+K10-SUM(K11:K12) -> 0 | ... CA10: =+AN10-SUM(AN11:AN12) -> 0 | CC10: =SUM(D10:AO10)-'A1'!L10-'A2'!Y10-'A3'!P10-'A3'!X10-'A3'!Z10*2 -> 0
C11: local | CC11: =SUM(D11:AO11)-'A1'!L11-'A2'!Y11-'A3'!P11-'A3'!X11-'A3'!Z11*2 -> 0
C12: cross-border | CC12: =SUM(D12:AO12)-'A1'!L12-'A2'!Y12-'A3'!P12-'A3'!X12-'A3'!Z12*2 -> 0
C13: with other financial institutions | D13: =SUM(D14:D15) -> 0 | E13: =SUM(E14:E15) -> 0 | F13: =SUM(F14:F15) -> 0 | G13: =SUM(G14:G15) -> 0 | H13: =SUM(H14:H15) -> 0 | I13: =SUM(I14:I15) -> 0 | J13: =SUM(J14:J15) -> 0 | K13: =SUM(K14:K15) -> 0 | ... AN13: =SUM(AN14:AN15) -> 0 | AQ13: =+D13-SUM(D14:D15) -> 0 | AR13: =+E13-SUM(E14:E15) -> 0 | AS13: =+F13-SUM(F14:F15) -> 0 | AT13: =+G13-SUM(G14:G15) -> 0 | AU13: =+H13-SUM(H14:H15) -> 0 | AV13: =+I13-SUM(I14:I15) -> 0 | AW13: =+J13-SUM(J14:J15) -> 0 | AX13: =+K13-SUM(K14:K15) -> 0 | ... CA13: =+AN13-SUM(AN14:AN15) -> 0 | CC13: =SUM(D13:AO13)-'A1'!L13-'A2'!Y13-'A3'!P13-'A3'!X13-'A3'!Z13*2 -> 0
C14: local | CC14: =SUM(D14:AO14)-'A1'!L14-'A2'!Y14-'A3'!P14-'A3'!X14-'A3'!Z14*2 -> 0
C15: cross-border | CC15: =SUM(D15:AO15)-'A1'!L15-'A2'!Y15-'A3'!P15-'A3'!X15-'A3'!Z15*2 -> 0
C17: non-reporting banks | AQ17: =+D13-SUM(D17:D22) -> 0 | AR17: =+E13-SUM(E17:E22) -> 0 | AS17: =+F13-SUM(F17:F22) -> 0 | AT17: =+G13-SUM(G17:G22) -> 0 | AU17: =+H13-SUM(H17:H22) -> 0 | AV17: =+I13-SUM(I17:I22) -> 0 | AW17: =+J13-SUM(J17:J22) -> 0 | AX17: =+K13-SUM(K17:K22) -> 0 | ... CA17: =+AN13-SUM(AN17:AN22) -> 0 | CC17: =SUM(D17:AO17)-'A1'!L17-'A2'!Y17-'A3'!P17-'A3'!X17-'A3'!Z17*2 -> 0
C18: institutional investors | CC18: =SUM(D18:AO18)-'A1'!L18-'A2'!Y18-'A3'!P18-'A3'!X18-'A3'!Z18*2 -> 0
C19: hedge funds and proprietary trading firms | CC19: =SUM(D19:AO19)-'A1'!L19-'A2'!Y19-'A3'!P19-'A3'!X19-'A3'!Z19*2 -> 0
C20: official sector financial institutions | CC20: =SUM(D20:AO20)-'A1'!L20-'A2'!Y20-'A3'!P20-'A3'!X20-'A3'!Z20*2 -> 0
C21: others | CC21: =SUM(D21:AO21)-'A1'!L21-'A2'!Y21-'A3'!P21-'A3'!X21-'A3'!Z21*2 -> 0
C22: undistributed | CC22: =SUM(D22:AO22)-'A1'!L22-'A2'!Y22-'A3'!P22-'A3'!X22-'A3'!Z22*2 -> 0
C24: with non-financial customers | D24: =SUM(D25:D26) -> 0 | E24: =SUM(E25:E26) -> 0 | F24: =SUM(F25:F26) -> 0 | G24: =SUM(G25:G26) -> 0 | H24: =SUM(H25:H26) -> 0 | I24: =SUM(I25:I26) -> 0 | J24: =SUM(J25:J26) -> 0 | K24: =SUM(K25:K26) -> 0 | ... AN24: =SUM(AN25:AN26) -> 0 | AQ24: =+D24-SUM(D25:D26) -> 0 | AR24: =+E24-SUM(E25:E26) -> 0 | AS24: =+F24-SUM(F25:F26) -> 0 | AT24: =+G24-SUM(G25:G26) -> 0 | AU24: =+H24-SUM(H25:H26) -> 0 | AV24: =+I24-SUM(I25:I26) -> 0 | AW24: =+J24-SUM(J25:J26) -> 0 | AX24: =+K24-SUM(K25:K26) -> 0 | ... CA24: =+AN24-SUM(AN25:AN26) -> 0 | CC24: =SUM(D24:AO24)-'A1'!L24-'A2'!Y24-'A3'!P24-'A3'!X24-'A3'!Z24*2 -> 0
C25: local | CC25: =SUM(D25:AO25)-'A1'!L25-'A2'!Y25-'A3'!P25-'A3'!X25-'A3'!Z25*2 -> 0
C26: cross-border | CC26: =SUM(D26:AO26)-'A1'!L26-'A2'!Y26-'A3'!P26-'A3'!X26-'A3'!Z26*2 -> 0
C27: TOTAL SPOT | D27: =+SUM(D24,D13,D10) -> 0 | E27: =+SUM(E24,E13,E10) -> 0 | F27: =+SUM(F24,F13,F10) -> 0 | G27: =+SUM(G24,G13,G10) -> 0 | H27: =+SUM(H24,H13,H10) -> 0 | I27: =+SUM(I24,I13,I10) -> 0 | J27: =+SUM(J24,J13,J10) -> 0 | K27: =+SUM(K24,K13,K10) -> 0 | ... AN27: =+SUM(AN24,AN13,AN10) -> 0 | AQ27: =+D27-D10-D13-D24 -> 0 | AR27: =+E27-E10-E13-E24 -> 0 | AS27: =+F27-F10-F13-F24 -> 0 | AT27: =+G27-G10-G13-G24 -> 0 | AU27: =+H27-H10-H13-H24 -> 0 | AV27: =+I27-I10-I13-I24 -> 0 | AW27: =+J27-J10-J13-J24 -> 0 | AX27: =+K27-K10-K13-K24 -> 0 | ... CA27: =+AN27-AN10-AN13-AN24 -> 0 | CC27: =SUM(D27:AO27)-'A1'!L27-'A2'!Y27-'A3'!P27-'A3'!X27-'A3'!Z27*2 -> 0
C28: o/w prime brokered to non-bank electronic market-makers | AQ28: =+IF((D28+D29>D27),111,0) -> 0 | AR28: =+IF((E28+E29>E27),111,0) -> 0 | AS28: =+IF((F28+F29>F27),111,0) -> 0 | AT28: =+IF((G28+G29>G27),111,0) -> 0 | AU28: =+IF((H28+H29>H27),111,0) -> 0 | AV28: =+IF((I28+I29>I27),111,0) -> 0 | AW28: =+IF((J28+J29>J27),111,0) -> 0 | AX28: =+IF((K28+K29>K27),111,0) -> 0 | ... CA28: =+IF((AN28+AN29>AN27),111,0) -> 0 | CC28: =SUM(D28:AO28)-'A1'!L28-'A2'!Y28-'A3'!P28-'A3'!X28-'A3'!Z28*2 -> 0
C29: o/w prime brokered to other customers | CC29: =SUM(D29:AO29)-'A1'!L29-'A2'!Y29-'A3'!P29-'A3'!X29-'A3'!Z29*2 -> 0
C30: o/w retail-driven | AQ30: =+IF((D30>D27),111,0) -> 0 | AR30: =+IF((E30>E27),111,0) -> 0 | AS30: =+IF((F30>F27),111,0) -> 0 | AT30: =+IF((G30>G27),111,0) -> 0 | AU30: =+IF((H30>H27),111,0) -> 0 | AV30: =+IF((I30>I27),111,0) -> 0 | AW30: =+IF((J30>J27),111,0) -> 0 | AX30: =+IF((K30>K27),111,0) -> 0 | ... CA30: =+IF((AN30>AN27),111,0) -> 0 | CC30: =SUM(D30:AO30)-'A1'!L30-'A2'!Y30-'A3'!P30-'A3'!X30-'A3'!Z30*2 -> 0
C31: OUTRIGHT FORWARDS 4
C32: with reporting dealers | D32: =SUM(D33:D34) -> 0 | E32: =SUM(E33:E34) -> 0 | F32: =SUM(F33:F34) -> 0 | G32: =SUM(G33:G34) -> 0 | H32: =SUM(H33:H34) -> 0 | I32: =SUM(I33:I34) -> 0 | J32: =SUM(J33:J34) -> 0 | K32: =SUM(K33:K34) -> 0 | ... AN32: =SUM(AN33:AN34) -> 0 | AQ32: =+D32-SUM(D33:D34) -> 0 | AR32: =+E32-SUM(E33:E34) -> 0 | AS32: =+F32-SUM(F33:F34) -> 0 | AT32: =+G32-SUM(G33:G34) -> 0 | AU32: =+H32-SUM(H33:H34) -> 0 | AV32: =+I32-SUM(I33:I34) -> 0 | AW32: =+J32-SUM(J33:J34) -> 0 | AX32: =+K32-SUM(K33:K34) -> 0 | ... CA32: =+AN32-SUM(AN33:AN34) -> 0 | CC32: =SUM(D32:AO32)-'A1'!L33-'A2'!Y33-'A3'!P33-'A3'!X33-'A3'!Z33*2 -> 0
C33: local | CC33: =SUM(D33:AO33)-'A1'!L34-'A2'!Y34-'A3'!P34-'A3'!X34-'A3'!Z34*2 -> 0
C34: cross-border | CC34: =SUM(D34:AO34)-'A1'!L35-'A2'!Y35-'A3'!P35-'A3'!X35-'A3'!Z35*2 -> 0
C35: with other financial institutions | D35: =SUM(D36:D37) -> 0 | E35: =SUM(E36:E37) -> 0 | F35: =SUM(F36:F37) -> 0 | G35: =SUM(G36:G37) -> 0 | H35: =SUM(H36:H37) -> 0 | I35: =SUM(I36:I37) -> 0 | J35: =SUM(J36:J37) -> 0 | K35: =SUM(K36:K37) -> 0 | ... AN35: =SUM(AN36:AN37) -> 0 | AQ35: =+D35-SUM(D36:D37) -> 0 | AR35: =+E35-SUM(E36:E37) -> 0 | AS35: =+F35-SUM(F36:F37) -> 0 | AT35: =+G35-SUM(G36:G37) -> 0 | AU35: =+H35-SUM(H36:H37) -> 0 | AV35: =+I35-SUM(I36:I37) -> 0 | AW35: =+J35-SUM(J36:J37) -> 0 | AX35: =+K35-SUM(K36:K37) -> 0 | ... CA35: =+AN35-SUM(AN36:AN37) -> 0 | CC35: =SUM(D35:AO35)-'A1'!L36-'A2'!Y36-'A3'!P36-'A3'!X36-'A3'!Z36*2 -> 0
C36: local | CC36: =SUM(D36:AO36)-'A1'!L37-'A2'!Y37-'A3'!P37-'A3'!X37-'A3'!Z37*2 -> 0
C37: cross-border | CC37: =SUM(D37:AO37)-'A1'!L38-'A2'!Y38-'A3'!P38-'A3'!X38-'A3'!Z38*2 -> 0
C39: non-reporting banks | AQ39: =+D35-SUM(D39:D44) -> 0 | AR39: =+E35-SUM(E39:E44) -> 0 | AS39: =+F35-SUM(F39:F44) -> 0 | AT39: =+G35-SUM(G39:G44) -> 0 | AU39: =+H35-SUM(H39:H44) -> 0 | AV39: =+I35-SUM(I39:I44) -> 0 | AW39: =+J35-SUM(J39:J44) -> 0 | AX39: =+K35-SUM(K39:K44) -> 0 | ... CA39: =+AN35-SUM(AN39:AN44) -> 0 | CC39: =SUM(D39:AO39)-'A1'!L40-'A2'!Y40-'A3'!P40-'A3'!X40-'A3'!Z40*2 -> 0
C40: institutional investors | CC40: =SUM(D40:AO40)-'A1'!L41-'A2'!Y41-'A3'!P41-'A3'!X41-'A3'!Z41*2 -> 0
C41: hedge funds and proprietary trading firms | CC41: =SUM(D41:AO41)-'A1'!L42-'A2'!Y42-'A3'!P42-'A3'!X42-'A3'!Z42*2 -> 0
C42: official sector financial institutions | CC42: =SUM(D42:AO42)-'A1'!L43-'A2'!Y43-'A3'!P43-'A3'!X43-'A3'!Z43*2 -> 0
C43: others | CC43: =SUM(D43:AO43)-'A1'!L44-'A2'!Y44-'A3'!P44-'A3'!X44-'A3'!Z44*2 -> 0
...

Sheet A5
C1: Table A5
C2: Central Bank Survey of Foreign Exchange and Derivatives Market Activity | O2: Max | P2: =MAX(O10:Z47) -> 0
C3: EXECUTION METHOD FOR FOREIGN EXCHANGE CONTRACTS | O3: Min | P3: =MIN(O10:Z47) -> 0
C4: Turnover in nominal or notional principal amounts in April 2025
C5: (in millions of USD) | O5: Checking table
E6: Negative values and non-numeric entries are not allowed
E7: Voice | G7: Electronic | K7: Unallocated | L7: Total 1 | O7: =+E7 -> Voice | Q7: =+G7 -> Electronic | U7: =+K7 -> Unallocated | V7: =MID(L7,1,LEN(L7)-1) -> Total | Z7: Across tabes A1, A2, A3 and A4
D8: Instruments | E8: Direct | F8: Indirect | G8: Direct | I8: Indirect | O8: =+E8 -> Direct | P8: =+F8 -> Indirect | Q8: =+G8 -> Direct | S8: =+I8 -> Indirect
G9: Single-bank proprietary trading system | H9: Other | I9: Anonymous venues | J9: Disclosed venues | Q9: =+G9 -> Single-bank proprietary trading system | R9: =+H9 -> Other | S9: =+I9 -> Anonymous venues | T9: =+J9 -> Disclosed venues | X9: =+V7 -> Total
D10: SPOT
D11: with reporting dealers | E11: =SUM(E12:E13) -> 0 | F11: =SUM(F12:F13) -> 0 | G11: =SUM(G12:G13) -> 0 | H11: =SUM(H12:H13) -> 0 | I11: =SUM(I12:I13) -> 0 | J11: =SUM(J12:J13) -> 0 | K11: =SUM(K12:K13) -> 0 | L11: =+SUM(E11:K11) -> 0 | O11: =+E11-SUM(E12:E13) -> 0 | P11: =+F11-SUM(F12:F13) -> 0 | Q11: =+G11-SUM(G12:G13) -> 0 | R11: =+H11-SUM(H12:H13) -> 0 | S11: =+I11-SUM(I12:I13) -> 0 | T11: =+J11-SUM(J12:J13) -> 0 | U11: =+K11-SUM(K12:K13) -> 0 | V11: =+L11-SUM(L12:L13) -> 0 | X11: =+L11-SUM(E11:K11) -> 0 | Z11: =+L11-'A3'!AA10 -> 0
D12: local | L12: =+SUM(E12:K12) -> 0 | X12: =+L12-SUM(E12:K12) -> 0 | Z12: =+L12-'A3'!AA11 -> 0
D13: cross-border | L13: =+SUM(E13:K13) -> 0 | X13: =+L13-SUM(E13:K13) -> 0 | Z13: =+L13-'A3'!AA12 -> 0
D14: with other financial institutions | L14: =+SUM(E14:K14) -> 0 | X14: =+L14-SUM(E14:K14) -> 0 | Z14: =+L14-'A3'!AA13 -> 0
D15: with non-financial customers | L15: =+SUM(E15:K15) -> 0 | X15: =+L15-SUM(E15:K15) -> 0 | Z15: =+L15-'A3'!AA24 -> 0
D16: TOTAL SPOT | E16: =+E11+E14+E15 -> 0 | F16: =+F11+F14+F15 -> 0 | G16: =+G11+G14+G15 -> 0 | H16: =+H11+H14+H15 -> 0 | I16: =+I11+I14+I15 -> 0 | J16: =+J11+J14+J15 -> 0 | K16: =+K11+K14+K15 -> 0 | L16: =+SUM(E16:K16) -> 0 | O16: =+E16-E11-E15-E14 -> 0 | P16: =+F16-F11-F15-F14 -> 0 | Q16: =+G16-G11-G15-G14 -> 0 | R16: =+H16-H11-H15-H14 -> 0 | S16: =+I16-I11-I15-I14 -> 0 | T16: =+J16-J11-J15-J14 -> 0 | U16: =+K16-K11-K15-K14 -> 0 | V16: =+L16-L11-L15-L14 -> 0 | X16: =+L16-SUM(E16:K16) -> 0 | Z16: =+L16-'A3'!AA27 -> 0
D17: OUTRIGHT FORWARDS
D18: with reporting dealers | E18: =SUM(E19:E20) -> 0 | F18: =SUM(F19:F20) -> 0 | G18: =SUM(G19:G20) -> 0 | H18: =SUM(H19:H20) -> 0 | I18: =SUM(I19:I20) -> 0 | J18: =SUM(J19:J20) -> 0 | K18: =SUM(K19:K20) -> 0 | L18: =+SUM(E18:K18) -> 0 | O18: =+E18-SUM(E19:E20) -> 0 | P18: =+F18-SUM(F19:F20) -> 0 | Q18: =+G18-SUM(G19:G20) -> 0 | R18: =+H18-SUM(H19:H20) -> 0 | S18: =+I18-SUM(I19:I20) -> 0 | T18: =+J18-SUM(J19:J20) -> 0 | U18: =+K18-SUM(K19:K20) -> 0 | V18: =+L18-SUM(L19:L20) -> 0 | X18: =+L18-SUM(E18:K18) -> 0 | Z18: =+L18-'A3'!AA33 -> 0
D19: local | L19: =+SUM(E19:K19) -> 0 | X19: =+L19-SUM(E19:K19) -> 0 | Z19: =+L19-'A3'!AA34 -> 0
D20: cross-border | L20: =+SUM(E20:K20) -> 0 | X20: =+L20-SUM(E20:K20) -> 0 | Z20: =+L20-'A3'!AA35 -> 0
D21: with other financial institutions | L21: =+SUM(E21:K21) -> 0 | X21: =+L21-SUM(E21:K21) -> 0 | Z21: =+L21-'A3'!AA36 -> 0
D22: with non-financial customers | L22: =+SUM(E22:K22) -> 0 | X22: =+L22-SUM(E22:K22) -> 0 | Z22: =+L22-'A3'!AA47 -> 0
D23: TOTAL OUTRIGHT FORWARDS | E23: =+E18+E21+E22 -> 0 | F23: =+F18+F21+F22 -> 0 | G23: =+G18+G21+G22 -> 0 | H23: =+H18+H21+H22 -> 0 | I23: =+I18+I21+I22 -> 0 | J23: =+J18+J21+J22 -> 0 | K23: =+K18+K21+K22 -> 0 | L23: =+SUM(E23:K23) -> 0 | O23: =+E23-E18-E22-E21 -> 0 | P23: =+F23-F18-F22-F21 -> 0 | Q23: =+G23-G18-G22-G21 -> 0 | R23: =+H23-H18-H22-H21 -> 0 | S23: =+I23-I18-I22-I21 -> 0 | T23: =+J23-J18-J22-J21 -> 0 | U23: =+K23-K18-K22-K21 -> 0 | V23: =+L23-L18-L22-L21 -> 0 | X23: =+L23-SUM(E23:K23) -> 0 | Z23: =+L23-'A3'!AA50 -> 0
D24: FOREIGN EXCHANGE SWAPS
D25: with reporting dealers | E25: =SUM(E26:E27) -> 0 | F25: =SUM(F26:F27) -> 0 | G25: =SUM(G26:G27) -> 0 | H25: =SUM(H26:H27) -> 0 | I25: =SUM(I26:I27) -> 0 | J25: =SUM(J26:J27) -> 0 | K25: =SUM(K26:K27) -> 0 | L25: =+SUM(E25:K25) -> 0 | O25: =+E25-SUM(E26:E27) -> 0 | P25: =+F25-SUM(F26:F27) -> 0 | Q25: =+G25-SUM(G26:G27) -> 0 | R25: =+H25-SUM(H26:H27) -> 0 | S25: =+I25-SUM(I26:I27) -> 0 | T25: =+J25-SUM(J26:J27) -> 0 | U25: =+K25-SUM(K26:K27) -> 0 | V25: =+L25-SUM(L26:L27) -> 0 | X25: =+L25-SUM(E25:K25) -> 0 | Z25: =+L25-'A3'!AA66 -> 0
D26: local | L26: =+SUM(E26:K26) -> 0 | X26: =+L26-SUM(E26:K26) -> 0 | Z26: =+L26-'A3'!AA67 -> 0
D27: cross-border | L27: =+SUM(E27:K27) -> 0 | X27: =+L27-SUM(E27:K27) -> 0 | Z27: =+L27-'A3'!AA68 -> 0
D28: with other financial institutions | L28: =+SUM(E28:K28) -> 0 | X28: =+L28-SUM(E28:K28) -> 0 | Z28: =+L28-'A3'!AA69 -> 0
D29: with non-financial customers | L29: =+SUM(E29:K29) -> 0 | X29: =+L29-SUM(E29:K29) -> 0 | Z29: =+L29-'A3'!AA80 -> 0
D30: TOTAL FOREIGN EXCHANGE SWAPS | E30: =+E25+E28+E29 -> 0 | F30: =+F25+F28+F29 -> 0 | G30: =+G25+G28+G29 -> 0 | H30: =+H25+H28+H29 -> 0 | I30: =+I25+I28+I29 -> 0 | J30: =+J25+J28+J29 -> 0 | K30: =+K25+K28+K29 -> 0 | L30: =+SUM(E30:K30) -> 0 | O30: =+E30-E25-E29-E28 -> 0 | P30: =+F30-F25-F29-F28 -> 0 | Q30: =+G30-G25-G29-G28 -> 0 | R30: =+H30-H25-H29-H28 -> 0 | S30: =+I30-I25-I29-I28 -> 0 | T30: =+J30-J25-J29-J28 -> 0 | U30: =+K30-K25-K29-K28 -> 0 | V30: =+L30-L25-L29-L28 -> 0 | X30: =+L30-SUM(E30:K30) -> 0 | Z30: =+L30-'A3'!AA83 -> 0
D31: CURRENCY SWAPS
D32: with reporting dealers | E32: =SUM(E33:E34) -> 0 | F32: =SUM(F33:F34) -> 0 | G32: =SUM(G33:G34) -> 0 | H32: =SUM(H33:H34) -> 0 | I32: =SUM(I33:I34) -> 0 | J32: =SUM(J33:J34) -> 0 | K32: =SUM(K33:K34) -> 0 | L32: =+SUM(E32:K32) -> 0 | O32: =+E32-SUM(E33:E34) -> 0 | P32: =+F32-SUM(F33:F34) -> 0 | Q32: =+G32-SUM(G33:G34) -> 0 | R32: =+H32-SUM(H33:H34) -> 0 | S32: =+I32-SUM(I33:I34) -> 0 | T32: =+J32-SUM(J33:J34) -> 0 | U32: =+K32-SUM(K33:K34) -> 0 | V32: =+L32-SUM(L33:L34) -> 0 | X32: =+L32-SUM(E32:K32) -> 0 | Z32: =+L32-'A3'!AA98 -> 0
D33: local | L33: =+SUM(E33:K33) -> 0 | X33: =+L33-SUM(E33:K33) -> 0 | Z33: =+L33-'A3'!AA99 -> 0
D34: cross-border | L34: =+SUM(E34:K34) -> 0 | X34: =+L34-SUM(E34:K34) -> 0 | Z34: =+L34-'A3'!AA100 -> 0
D35: with other financial institutions | L35: =+SUM(E35:K35) -> 0 | X35: =+L35-SUM(E35:K35) -> 0 | Z35: =+L35-'A3'!AA101 -> 0
D36: with non-financial customers | L36: =+SUM(E36:K36) -> 0 | X36: =+L36-SUM(E36:K36) -> 0 | Z36: =+L36-'A3'!AA112 -> 0
