Workbook

Sheet Cover Page
C2: Form CHR and Form Long-term Accident & Health (Form LTAHO)
C5: Company Code (e.g. J1234): | D5: Not required
C6: Company Name: | D6: Not required
C8: Data as at: [YYYYMMDD](e.g. 20260630) | D8: Not required
D10: Form CHR report | E10: Form LTAHO report (excluding 'Form LTAHO Rep Count' tab)
C11: For each report, indicate "Yes" if filing a NIL report
C12: Reason for NIL report(s) For each NIL report, indicate applicable reason(s)
C13: Company did not receive any Complaints reportable under the relevant report in the reporting period
C14: Others, please elaborate
C17: (1) This file contains two reports.
C18: (i) Form CHR - This consists of tabs with 'Form CHR' in the tab name.
C19: (ii) Form LTAHO - This consists of tabs with 'Form LTAHO' in the tab name.
C21: (2) Form CHR and Form LTAHO are to be submitted by a financial adviser in respect of its customers that are:
C22: (i) individuals or individual proprietors of a sole proprietorships; and
C23: (ii) not accredited investors, expert investors or institutional investors.
C25: Financial advisers not serving the customers described above are not required to submit nil reports.
C27: (3) 'Form LTAHO Rep Count' tab is required for all financial advisers serving customers described in item (2) even if no complaint reportable under Form LTAHO was received in the reporting period. Complaints reportable under Form LTAHO defined in 'Form LTAHO Instructions' tab.

Sheet Form CHR Instructions
B2: Declaration
B3: This report has been approved by a member of senior management, pursuant to paragraph 9(2) of the Financial Advisers (Complaints Handling and Resolution) Regulations.
B5: Instructions
B6: 1) Please fill in all the relevant fields in each of the following tabs: - Form CHR General - Form CHR Investigation - Form CHR Transaction - Form CHR Client - Form CHR Representative
B7: If filing a nil Form CHR report, leave the above tabs empty.
B8: 2) Unless specified otherwise, please leave the respective cells blank if the data is unavailable.
B9: 3) Fill in the Form CHR General tab first, and use the same unique identifiers in the Form CHR General tab to fill in the remaining Form CHR tabs.
B10: 4) Please do not change the structure of the table in each tab (i.e. do not add or delete columns, do not insert a value that is not within the drop-down list).
B11: 5) The scope of complaints to be reported in Form CHR is defined below.
B12: Note: - “FAA Complaint” refers to a complaint as defined in paragraph 2 of the Financial Advisers (Complaints Handling And Resolution) Regulations - "Substantiated" FAA Complaint refers to an FAA Complaint where there is sufficient evidence to reasonably conclude that the allegation(s) in the FAA Complaint are valid - "Unsubstantiated" FAA Complaint refers to an FAA Complaint where there is sufficient evidence to reasonably conclude that the allegation(s) in the FAA Complaint are not valid - "Inconclusive" FAA Complaint refers to an FAA Complaint where there is insufficient evidence to come to a conclusion as to the validity of the allegation(s) in the FAA Complaint Please take note of the following in providing your responses: (i) To include FAA Complaints which were resolved within one day. (ii) To include FAA Complaints filed against your own representatives and/or employees only. For product manufacturers such as banks and insurance companies, sales done through external distribution channels such as licensed FA firms should be excluded. (iii) To include FAA Complaints relating to investment products defined under the Financial Advisers Act only. (iv) Do not include service-level related complaints that did not result in any market conduct concerns. For example, dissatisfaction solely with FA firm's standard of service such as rude staff; delays or failure in processes resulting from system issues. (v) The Financial Advisers (Complaints Handling and Resolution) Regulations do not apply to any complaint relating to the provision of any financial advisory service to any client or prospective client (a) who is an accredited investor, an expert investor or an institutional investor; or (b) who is not a natural person.

Sheet Form CHR General
B1: Please use one row per FAA Complaint. You may insert rows if more rows are required.
B2: Unique identifier | C2: FAA Complaint type | D2: FAA Complaint status | E2: Date received by the firm | F2: Compensation requested at the point of complaint (SGD) | G2: Complainant’s expectation(s) for resolution (non-monetary) | H2: Complainant’s expectation(s) for resolution (non-monetary) (if Others is chosen) | I2: Date that FAA Complaint was escalated for investigation (if applicable) | J2: Reason(s) if not escalated for investigation | K2: FAA Complaint outcome | L2: FAA Complaint outcome if FI did not fully agree to complainant's requests | M2: FAA Complaint outcome (if Others is chosen) | N2: Monetary compensation (if any) (SGD) | O2: Remarks on FAA Complaint outcome | P2: Manner of FAA complaint resolution | Q2: Date of resolution | R2: Reason(s) for delay if resolution was more than 20 business days after the date the FAA Complaint is received | S2: Has legal action been taken by the complainant? | T2: Did the complainant file a police report? | U2: FIDReC case ID | V2: MAS Case Reference Number | W2: Has a misconduct report been filed or will a misconduct report be filed? | X2: Misconduct report number
A3: Fields that are submitted through the reporting of misconduct and hence need not be filled in this Form CHR report | E3: X | F3: X | G3: X | H3: X | K3: X | L3: X | M3: X

Sheet Form CHR Dropdowns (Hidden)
A1: Not resolved | B1: Written and spoken | C1: Below GCE ‘N’ or ‘O’ Level, or equivalent | D1: FA firm's own premises (e.g. branch, office) | E1: FA firm's own premises (e.g. branch, office) | F1: Equity securities (e.g. shares) | G1: Allegation | H1: Inadequate fact-find | I1: Request for reinstatement of policy | J1: Monetary compensation | K1: Single premium | L1: FI fully agreed with the client's requests/appeals | M1: Under investigation | N1: Original
A2: New information | B2: Not proficient in written or spoken | C2: GCE ‘N’ or ‘O’ Level, or equivalent, or higher | D2: Rep/agency's premises | E2: Client’s premises (e.g. home, place of work, family/friend's premises) | F2: Fixed income securities (e.g. debentures, asset-backed securities) | G2: Finding | H2: Sub-agency/pooling | I2: Request for transaction to be cancelled and investment amount/premiums to be refunded | J2: Policy reinstated | K2: Annual premium | L2: FI partially agreed with the client's requests/appeals | M2: Substantiated | N2: Reopened
A3: Resolved | B3: Unknown | C3: Unknown | D3: Client’s premises (e.g. home, place of work, family/friend's premises) | E3: Rep/agency's premises | F3: Exchange-traded derivatives contracts (e.g. options, warrants, rights, futures) | H3: Mis-selling/unsuitable recommendation | I3: Request for waiver of exclusion clauses | J3: Client accepted explanation given by FI | K3: Semi-annual premium | L3: FI did not agree with the client's requests/appeals | M3: Unsubstantiated
D4: Roadshow (e.g. temporary / short-term arrangements) | E4: Roadshow (e.g. temporary / short-term arrangements) | F4: Over-the-counter derivatives contracts (e.g. contracts-for-difference) | H4: Switching detrimental to the interest of the client | I4: Others | J4: Others | K4: Quarterly premium | L4: Others | M4: Inconclusive
D5: Retailer (tie-up with FI) (e.g. long term arrangements) | E5: Retailer (tie-up with FI) (e.g. long term arrangements) | F5: Collective investment schemes including exchange traded funds, that invests only in 'Excluded Investment Products' | H5: Inadequate information disclosure/misrepresentation | I5: Not applicable | K5: Monthly premium | M5: No investigation conducted
D6: Street canvassing | E6: Retailer (no tie-up with FI) (e.g. at a restaurant/café where there is no arrangement made between FI and retailer) | F6: Collective investment schemes excluding those that invests in 'Excluded Investment Products' only | H6: Lapses in executing client's transaction instructions that result in client incurring losses
D7: Seminar | E7: Seminar | F7: Spot foreign exchange contracts for the purposes of leveraged foreign exchange trading | H7: Aggressive sales tactics, e.g. hard-selling, physical / verbal harassment
D8: Over the phone | E8: Over the phone | F8: Spot foreign exchange contracts other than for the purposes of leveraged foreign exchange trading | H8: Financing of client’s premiums
D9: Over video conference | E9: Over video conference | F9: Structured notes | H9: Impersonation
D10: Internet / social media | E10: Unable to recall | F10: Structured deposits | H10: Other acts involving fraud, dishonesty or other offences of a similar nature (e.g. cheating, fraud, forgery, misappropriation of monies or criminal breach of trust, money laundering)
D11: Referral | E11: Others | F11: Participating endowment life policies | H11: Breach of client confidentiality
D12: Unable to recall | F12: Participating whole life policies | H12: Others
D13: Others | F13: Investment-linked life policies defined as 'Excluded Investment Products'
F14: Investment-linked life policies not defined as 'Excluded Investment Products'
F15: Non-participating term life policies
F16: Non-participating life policies (other than term life policies)
F17: Universal life policies
F18: Others (to specify)
F19: No product involved

Sheet Form CHR Investigation
B1: Please use one row for each allegation or additional findings related to an FAA complaint. You may insert rows if more rows are required.
B2: Unique identifier | C2: Transaction ID | D2: Allegation or Finding | E2: Allegation / finding | F2: Allegation / finding (if Others is chosen) | G2: Allegation / finding is in respect of | H2: Allegation / finding is in respect of (if Others is chosen) | I2: Investigation outcome
A3: Fields that are submitted through the reporting of misconduct and hence need not be filled in this Form CHR report | D3: X | E3: X | F3: X | I3: X

Sheet Form CHR Transaction
B1: Please provide the details of the product(s) involved for each complaint in the "Form CHR General" tab. If more than one product is involved in the FAA Complaint, please use one row for each product. You may insert rows if more rows are required.
B2: Unique identifier | C2: Transaction ID | D2: Date of sale / alleged offence | E2: Complainant / representative unable to recall date of sale / alleged offence? | F2: Where was the client prospected? | G2: Where was the client prospected? (if Others is chosen) | H2: Location of where client was prospected (if Roadshow or Retailer is chosen) | I2: Where did the advisory session take place? | J2: Where did the advisory session take place? (if Others is chosen) | K2: Location of where advisory session took place (if Roadshow or Retailer is chosen) | L2: Product type | M2: Product type (if Others is chosen) | N2: Product name | O2: Amount invested by client / premium amount (SGD) | P2: Premium type (for insurance products)
A3: Fields that are submitted through the reporting of misconduct and hence need not be filled in this Form CHR report | D3: X | F3: X | L3: X | M3: X | N3: X | O3: X | P3: X

Sheet Form CHR Client
B1: Please provide the details of all clients, as at the point of sale or alleged offence, involved for each FAA Complaint in the Form CHR General tab. If more than one client is involved in the FAA Complaint, please use one row for each client. You may insert rows if more rows are required. Only select the "N/A" and "Unknown" options if the relevant data was not collected from the client (e.g. for past transactions prior to the implementation of the CHR Regulations where clients declined to disclose their details).
B2: Unique identifier | C2: Is client a Selected Client as at date of sale/advice, as per FI's assessment? | D2: Date of birth of client | E2: Date of birth not available | F2: English proficiency of client as at date of sale/advice | G2: Academic qualification of client as at date of sale/advice
A3: Fields that are submitted through the reporting of misconduct and hence need not be filled in this Form CHR report | C3: X | D3: X | F3: X | G3: X

Sheet Form CHR Representative
B1: Please provide the details of the representative(s) involved, as at the point of sale or alleged offence, for each FAA Complaint in the Form CHR General tab. If more than one representative is involved in the FAA Complaint, please use one row for each representative.
B2: Unique identifier | C2: Representative number of representative | D2: Name of salesperson / staff | E2: Representative is involved in the FAA Complaint in his/her capacity as a representative or supervisor | F2: Details of supervisor not available | G2: Representative number of supervisor of representative | H2: Name of representative's supervisor | I2: Did the supervisor accompany the representative for the sale / advisory session? | J2: Name of Tier 2 agency of representative as at date of sale / alleged offence | K2: Name of Tier 3 agency of representative as at date of sale / alleged offence
A3: Fields that are submitted through the reporting of misconduct and hence need not be filled in this Form CHR report | C3: X | H3: X

Sheet Form LTAHO Instructions
B2: Instructions
B3: 1) Please fill in all the relevant fields in each of the following tabs: - Form LTAHO Rep count (mandatory for all FIs serving retail customers even if no LTAHO Complaints received) - Form LTAHO General (leave empty if submitting a NIL Form LTAHO report) - Form LTAHO Investigation (leave empty if submitting a NIL Form LTAHO report) - Form LTAHO Transaction (leave empty if submitting a NIL Form LTAHO report) - Form LTAHO Client (leave empty if submitting a NIL Form LTAHO report) - Form LTAHO Representative (leave empty if submitting a NIL Form LTAHO report)
B4: 2) Unless specified otherwise, please leave the respective cells blank if the data is unavailable.
B5: 3) Fill in the Form LTAHO General tab first, and use the same unique identifiers in the Form LTAHO General tab to fill in the remaining tabs.
B6: 4) Please do not change the structure of the table in each tab (i.e. do not add or delete columns, do not insert a value that is not within the drop-down list).
B7: 5) The scope of complaints to be reported is defined below.
B8: Note: - "FAA Complaint" refers to a complaint as defined in paragraph 2 of the Financial Advisers (Complaints Handling And Resolution) Regulations - “Complaint-LT A&H” means a complaint made by a named client or named prospective client of a financial adviser, containing an allegation of any conduct which, if true, may constitute — (a) a contravention of a business conduct requirement; or (b) an unfair practice in relation to the provision of recommendation in respect of an LT A&H policy For avoidance of doubt, a member of public making allegations of the above, e.g. aggressive sales tactics used at roadshows, misrepresentations or misleading statements made on the internet (including social media), would be considered a client or prospective client. - "Complaint-Others" refers to all other complaints that do not fall under 'FAA Complaint' and 'Complaint-LT A&H' made by a client or prospective client whose identity is not known or do not wish to be disclosed. The complainant making allegation of any conduct which, if true, may constitute – (a) a contravention of a business conduct requirement; or (b) an unfair practice in relation to the provision of a financial advisory service and/or recommendation in respect of an LT A&H policy. For example, anonymous complainant or whistleblower making allegations such as aggressive sales tactics used at roadshows or misleading advertisement in respect of any investment products or LT A&H policies. - "Substantiated" complaint-LT A&H/complaint-others refers to a complaint-LT A&H/complaint-others where there is sufficient evidence to reasonably conclude that the allegation(s) in the complaint-LT A&H/complaint-others are valid - "Unsubstantiated" complaint-LT A&H/complaint-others refers to a complaint-LT A&H/complaint-others where there is sufficient evidence to reasonably conclude that the allegation(s) in the complaint-LT A&H/complaint-others are not valid - "Inconclusive" complaint-LT A&H/complaint-others refers to acomplaint-LTA&H/complaint-others where there is insufficient evidence to come to a conclusion as to the validity of the allegation(s) in the complaint-LT A&H/complaint-others Please take note of the following in providing your responses: (i) To include "Complaints-LT A&H" and "Complaint-others which were resolved within one day. (ii) To include "Complaints-LT A&H" and "Complaint-others filed against your own representatives and/or employees only. For product manufacturers such as banks and insurance companies, sales done through external distribution channels such as licensed FA firms should be excluded. (iii) To include "Complaints-LT A&H" relating to LT A&H policies, which has the same meaning as "Long-term accident and health policy" defined in the First Schedule of the Insurance Act (IA) only. (iv) To include "Complaint-Others relating to investment products defined in section 2 of the Financial Advisers Act and LT A&H policies as defined in (iii) above. (v) There is no need to include FAA Complaints in Form LTAHO report, i.e. complaints as defined in paragraph 2 of the Financial Advisers (Complaints Handling And Resolution) Regulations. The reporting of FAA complaints are to be submitted in Form CHR report. (vi) Do not include service-level related "Complaints-LT A&H" and "Complaint-Others" that did not result in any market conduct concerns. For example, dissatisfaction solely with firm's standard of service such as rude staff; delays or failure in processes resulting from system issues. (vii) Do not include "Complaints-LT A&H" relating to the provision of recommendation in respect of an LT A&H policy to any client or prospective client (a) who is an accredited investor, an expert investor or an institutional investor; or (b) who is not a natural person. (viii) Do not include internally-triggered cases, e.g. cases triggered by FA firm's mystery shopping exercise.

Sheet Form LTAHO Rep count
B2: Number of retail representatives for FA and LT A&H services | K2: Further comments can be included in this column:
B3: Please fill in the quarterly figures based on the submission period. For e.g., if submission is for 1H20XX, you are only required to provide the figures for 31 Mar and 30 Jun. If submission is for 2H20XX, you are only required to provide the figures for 30 Sep and 31 Dec.
F5: 1H | H5: 2H
B6: 1 | C6: Please provide the number of representatives who have been designated by the firm at the end of each quarter | F6: 45382 | G6: 45473 | H6: 45565 | I6: 45657
B8: 1a) | C8: To/be able to serve individual retail clients, i.e. individual clients who are not accredited investors as defined under Regulation 2 of the Financial Advisers Regulations ("FAR")
B9: 1b) | C9: Not to/be unable to serve individual retail clients
F12: ='Form LTAHO Rep count'!F9 -> 0

Sheet Form LTAHO General
B1: Please use one row for each Complaint-LT A&H or Complaint-Others. You may insert rows if more rows are required.
B2: Unique identifier | C2: Complaint-LT A&H / Complaint-Others type | D2: Complaint-LT A&H / Complaint-Others status | E2: Date received by the firm | F2: Compensation requested at the point of complaint (SGD) | G2: Complainant’s expectation(s) for resolution (non-monetary) | H2: Complainant’s expectation(s) for resolution (non-monetary) (if Others is chosen) | I2: Date that Complaint-LT A&H/Complaint-Others was escalated for investigation (if applicable) | J2: Reason(s) if not escalated for investigation | K2: Complaint-LT A&H / Complaint-Others outcome | L2: Complaint-LT A&H / Complaint-Others outcome if FI did not fully agree to complainant's requests | M2: Complaint-LT A&H / Complaint-Others outcome (if Others is chosen) | N2: Monetary compensation (if any) (SGD) | O2: Remarks on complaint outcome | P2: Date of resolution | Q2: Has legal action been taken by the complainant? | R2: Did the complainant file a police report? | S2: FIDReC case ID | T2: MAS Case Reference Number | U2: Has a misconduct report been filed or will a misconduct report be filed? | V2: Misconduct report number | X2: MAX | Y2: =MAX(Z:AT) -> #REF!
A3: Fields that are submitted through the reporting of misconduct and hence need not be filled in this Form LTAHO report | E3: X | F3: X | G3: X | H3: X | K3: X | L3: X | M3: X
Z7: =IF('Form LTAHO Instructions'!#REF!="yes",COUNTA('Form LTAHO General'!B7),0) -> #REF! | AA7: =IF(COUNTA(B7:V7)>0,3-(COUNTA('Form LTAHO General'!B7)+COUNTA('Form LTAHO General'!D7)+COUNTA('Form LTAHO General'!U7)),0) -> 0 | AB7: =IF('Form LTAHO General'!U7="No",COUNTBLANK('Form LTAHO General'!E7:G7)+COUNTBLANK('Form LTAHO General'!K7),0) -> 0 | AC7: =IF('Form LTAHO General'!G7="Others",COUNTBLANK('Form LTAHO General'!H7),0) -> 0 | AD7: =IF(AND(U7="No",COUNTA('Form LTAHO General'!B7),ISBLANK('Form LTAHO General'!I7)),COUNTBLANK('Form LTAHO General'!J7),0) -> 0 | AE7: =IF(ISBLANK(K7),0,IF(ISNUMBER(SEARCH("FI fully agreed with the client's requests/appeals",'Form LTAHO General'!K7)),0,COUNTBLANK('Form LTAHO General'!L7))) -> 0 | AF7: =IF(OR('Form LTAHO General'!K7="Others",'Form LTAHO General'!L7="Others"),COUNTBLANK('Form LTAHO General'!M7),0) -> 0 | AG7: =IF(ISBLANK(B7),0,IF(AND(ISBLANK('Form LTAHO General'!P7),NETWORKDAYS(IFERROR(DATE(LEFT('Form LTAHO General'!E7,4),MID('Form LTAHO General'!E7,5,2),RIGHT('Form LTAHO General'!E7,2)),0),IFERROR(DATE(LEFT('Form LTAHO Instructions'!#REF!,4),MID('Form LTAHO Instructions'!#REF!,5,2),RIGHT('Form LTAHO Instructions'!#REF!,2)),0),7)>27),COUNTBLANK('Form LTAHO General'!#REF!),0)) -> 0 | AH7: =IF(ISBLANK(E7),0,IF(AND(LEN(E7)=8, VALUE(MID(E7,5,2))<13,VALUE(RIGHT(E7,2))<32),0,1)) -> 0 | AI7: =IF(ISBLANK(I7),0,IF(AND(LEN(I7)=8, VALUE(MID(I7,5,2))<13,VALUE(RIGHT(I7,2))<32),0,1)) -> 0 | AJ7: =IF(ISBLANK(P7),0,IF(AND(LEN(P7)=8, VALUE(MID(P7,5,2))<13,VALUE(RIGHT(P7,2))<32),0,1)) -> 0 | AK7: =IF(ISBLANK(E7),0,IF(IFERROR(DATE(LEFT(E7,4),MID(E7,5,2),RIGHT(E7,2)),0)<IFERROR(DATE(LEFT('Form LTAHO Instructions'!#REF!,4),MID('Form LTAHO Instructions'!#REF!,5,2),RIGHT('Form LTAHO Instructions'!#REF!,2)),0),0,1)) -> 0 | AL7: =IF('Form LTAHO General'!U7="Misconduct report has been filed",COUNTBLANK('Form LTAHO General'!V7),0) -> 0 | AM7: =IF(ISBLANK(V7),0,IF(AND(LEFT(V7,2)="MR",LEN(V7)>=17),0,1)) -> 0 | AN7: =IF(ISBLANK(D7),0,IF(ISNA(VLOOKUP(D7,'Form LTAHO Dropdowns (Hidden)'!$B$1:$B$4,1,FALSE)),1,0)) -> 0 | AO7: =IF(ISBLANK(G7),0,IF(ISNA(VLOOKUP(G7,'Form LTAHO Dropdowns (Hidden)'!$J$1:$J$5,1,FALSE)),1,0)) -> 0 | AP7: =IF(ISBLANK(K7),0,IF(ISNA(VLOOKUP(K7,'Form LTAHO Dropdowns (Hidden)'!$M$1:$M$4,1,FALSE)),1,0)) -> 0 | AQ7: =IF(ISBLANK(L7),0,IF(ISNA(VLOOKUP(L7,'Form LTAHO Dropdowns (Hidden)'!$K$1:$K$4,1,FALSE)),1,0)) -> 0 | AR7: =IF(ISBLANK(Q7),0,IF(OR(Q7="YES",Q7="No"),0,1)) -> 0 | AS7: =IF(ISBLANK(R7),0,IF(OR(R7="Yes",R7="No"),0,1)) -> 0 | AT7: =IF(ISBLANK(U7),0,IF(OR(U7="No",U7="Misconduct report has been filed",U7="Misconduct report will be filed"),0,1)) -> 0
Z8: =IF('Form LTAHO Instructions'!#REF!="yes",COUNTA('Form LTAHO General'!B8),0) -> #REF! | AA8: =IF(COUNTA(B8:V8)>0,3-(COUNTA('Form LTAHO General'!B8)+COUNTA('Form LTAHO General'!D8)+COUNTA('Form LTAHO General'!U8)),0) -> 0 | AB8: =IF('Form LTAHO General'!U8="No",COUNTBLANK('Form LTAHO General'!E8:G8)+COUNTBLANK('Form LTAHO General'!K8),0) -> 0 | AC8: =IF('Form LTAHO General'!G8="Others",COUNTBLANK('Form LTAHO General'!H8),0) -> 0 | AD8: =IF(AND(U8="No",COUNTA('Form LTAHO General'!B8),ISBLANK('Form LTAHO General'!I8)),COUNTBLANK('Form LTAHO General'!J8),0) -> 0 | AE8: =IF(ISBLANK(K8),0,IF(ISNUMBER(SEARCH("FI fully agreed with the client's requests/appeals",'Form LTAHO General'!K8)),0,COUNTBLANK('Form LTAHO General'!L8))) -> 0 | AF8: =IF(OR('Form LTAHO General'!K8="Others",'Form LTAHO General'!L8="Others"),COUNTBLANK('Form LTAHO General'!M8),0) -> 0 | AG8: =IF(ISBLANK(B8),0,IF(AND(ISBLANK('Form LTAHO General'!P8),NETWORKDAYS(IFERROR(DATE(LEFT('Form LTAHO General'!E8,4),MID('Form LTAHO General'!E8,5,2),RIGHT('Form LTAHO General'!E8,2)),0),IFERROR(DATE(LEFT('Form LTAHO Instructions'!#REF!,4),MID('Form LTAHO Instructions'!#REF!,5,2),RIGHT('Form LTAHO Instructions'!#REF!,2)),0),7)>27),COUNTBLANK('Form LTAHO General'!#REF!),0)) -> 0 | AH8: =IF(ISBLANK(E8),0,IF(AND(LEN(E8)=8, VALUE(MID(E8,5,2))<13,VALUE(RIGHT(E8,2))<32),0,1)) -> 0 | AI8: =IF(ISBLANK(I8),0,IF(AND(LEN(I8)=8, VALUE(MID(I8,5,2))<13,VALUE(RIGHT(I8,2))<32),0,1)) -> 0 | AJ8: =IF(ISBLANK(P8),0,IF(AND(LEN(P8)=8, VALUE(MID(P8,5,2))<13,VALUE(RIGHT(P8,2))<32),0,1)) -> 0 | AK8: =IF(ISBLANK(E8),0,IF(IFERROR(DATE(LEFT(E8,4),MID(E8,5,2),RIGHT(E8,2)),0)<IFERROR(DATE(LEFT('Form LTAHO Instructions'!#REF!,4),MID('Form LTAHO Instructions'!#REF!,5,2),RIGHT('Form LTAHO Instructions'!#REF!,2)),0),0,1)) -> 0 | AL8: =IF('Form LTAHO General'!U8="Misconduct report has been filed",COUNTBLANK('Form LTAHO General'!V8),0) -> 0 | AM8: =IF(ISBLANK(V8),0,IF(AND(LEFT(V8,2)="MR",LEN(V8)>=17),0,1)) -> 0 | AN8: =IF(ISBLANK(D8),0,IF(ISNA(VLOOKUP(D8,'Form LTAHO Dropdowns (Hidden)'!$B$1:$B$4,1,FALSE)),1,0)) -> 0 | AO8: =IF(ISBLANK(G8),0,IF(ISNA(VLOOKUP(G8,'Form LTAHO Dropdowns (Hidden)'!$J$1:$J$5,1,FALSE)),1,0)) -> 0 | AP8: =IF(ISBLANK(K8),0,IF(ISNA(VLOOKUP(K8,'Form LTAHO Dropdowns (Hidden)'!$M$1:$M$4,1,FALSE)),1,0)) -> 0 | AQ8: =IF(ISBLANK(L8),0,IF(ISNA(VLOOKUP(L8,'Form LTAHO Dropdowns (Hidden)'!$K$1:$K$4,1,FALSE)),1,0)) -> 0 | AR8: =IF(ISBLANK(Q8),0,IF(OR(Q8="YES",Q8="No"),0,1)) -> 0 | AS8: =IF(ISBLANK(R8),0,IF(OR(R8="Yes",R8="No"),0,1)) -> 0 | AT8: =IF(ISBLANK(U8),0,IF(OR(U8="No",U8="Misconduct report has been filed",U8="Misconduct report will be filed"),0,1)) -> 0
Z9: =IF('Form LTAHO Instructions'!#REF!="yes",COUNTA('Form LTAHO General'!B9),0) -> #REF! | AA9: =IF(COUNTA(B9:V9)>0,3-(COUNTA('Form LTAHO General'!B9)+COUNTA('Form LTAHO General'!D9)+COUNTA('Form LTAHO General'!U9)),0) -> 0 | AB9: =IF('Form LTAHO General'!U9="No",COUNTBLANK('Form LTAHO General'!E9:G9)+COUNTBLANK('Form LTAHO General'!K9),0) -> 0 | AC9: =IF('Form LTAHO General'!G9="Others",COUNTBLANK('Form LTAHO General'!H9),0) -> 0 | AD9: =IF(AND(U9="No",COUNTA('Form LTAHO General'!B9),ISBLANK('Form LTAHO General'!I9)),COUNTBLANK('Form LTAHO General'!J9),0) -> 0 | AE9: =IF(ISBLANK(K9),0,IF(ISNUMBER(SEARCH("FI fully agreed with the client's requests/appeals",'Form LTAHO General'!K9)),0,COUNTBLANK('Form LTAHO General'!L9))) -> 0 | AF9: =IF(OR('Form LTAHO General'!K9="Others",'Form LTAHO General'!L9="Others"),COUNTBLANK('Form LTAHO General'!M9),0) -> 0 | AG9: =IF(ISBLANK(B9),0,IF(AND(ISBLANK('Form LTAHO General'!P9),NETWORKDAYS(IFERROR(DATE(LEFT('Form LTAHO General'!E9,4),MID('Form LTAHO General'!E9,5,2),RIGHT('Form LTAHO General'!E9,2)),0),IFERROR(DATE(LEFT('Form LTAHO Instructions'!#REF!,4),MID('Form LTAHO Instructions'!#REF!,5,2),RIGHT('Form LTAHO Instructions'!#REF!,2)),0),7)>27),COUNTBLANK('Form LTAHO General'!#REF!),0)) -> 0 | AH9: =IF(ISBLANK(E9),0,IF(AND(LEN(E9)=8, VALUE(MID(E9,5,2))<13,VALUE(RIGHT(E9,2))<32),0,1)) -> 0 | AI9: =IF(ISBLANK(I9),0,IF(AND(LEN(I9)=8, VALUE(MID(I9,5,2))<13,VALUE(RIGHT(I9,2))<32),0,1)) -> 0 | AJ9: =IF(ISBLANK(P9),0,IF(AND(LEN(P9)=8, VALUE(MID(P9,5,2))<13,VALUE(RIGHT(P9,2))<32),0,1)) -> 0 | AK9: =IF(ISBLANK(E9),0,IF(IFERROR(DATE(LEFT(E9,4),MID(E9,5,2),RIGHT(E9,2)),0)<IFERROR(DATE(LEFT('Form LTAHO Instructions'!#REF!,4),MID('Form LTAHO Instructions'!#REF!,5,2),RIGHT('Form LTAHO Instructions'!#REF!,2)),0),0,1)) -> 0 | AL9: =IF('Form LTAHO General'!U9="Misconduct report has been filed",COUNTBLANK('Form LTAHO General'!V9),0) -> 0 | AM9: =IF(ISBLANK(V9),0,IF(AND(LEFT(V9,2)="MR",LEN(V9)>=17),0,1)) -> 0 | AN9: =IF(ISBLANK(D9),0,IF(ISNA(VLOOKUP(D9,'Form LTAHO Dropdowns (Hidden)'!$B$1:$B$4,1,FALSE)),1,0)) -> 0 | AO9: =IF(ISBLANK(G9),0,IF(ISNA(VLOOKUP(G9,'Form LTAHO Dropdowns (Hidden)'!$J$1:$J$5,1,FALSE)),1,0)) -> 0 | AP9: =IF(ISBLANK(K9),0,IF(ISNA(VLOOKUP(K9,'Form LTAHO Dropdowns (Hidden)'!$M$1:$M$4,1,FALSE)),1,0)) -> 0 | AQ9: =IF(ISBLANK(L9),0,IF(ISNA(VLOOKUP(L9,'Form LTAHO Dropdowns (Hidden)'!$K$1:$K$4,1,FALSE)),1,0)) -> 0 | AR9: =IF(ISBLANK(Q9),0,IF(OR(Q9="YES",Q9="No"),0,1)) -> 0 | AS9: =IF(ISBLANK(R9),0,IF(OR(R9="Yes",R9="No"),0,1)) -> 0 | AT9: =IF(ISBLANK(U9),0,IF(OR(U9="No",U9="Misconduct report has been filed",U9="Misconduct report will be filed"),0,1)) -> 0
Z10: =IF('Form LTAHO Instructions'!#REF!="yes",COUNTA('Form LTAHO General'!B10),0) -> #REF! | AA10: =IF(COUNTA(B10:V10)>0,3-(COUNTA('Form LTAHO General'!B10)+COUNTA('Form LTAHO General'!D10)+COUNTA('Form LTAHO General'!U10)),0) -> 0 | AB10: =IF('Form LTAHO General'!U10="No",COUNTBLANK('Form LTAHO General'!E10:G10)+COUNTBLANK('Form LTAHO General'!K10),0) -> 0 | AC10: =IF('Form LTAHO General'!G10="Others",COUNTBLANK('Form LTAHO General'!H10),0) -> 0 | AD10: =IF(AND(U10="No",COUNTA('Form LTAHO General'!B10),ISBLANK('Form LTAHO General'!I10)),COUNTBLANK('Form LTAHO General'!J10),0) -> 0 | AE10: =IF(ISBLANK(K10),0,IF(ISNUMBER(SEARCH("FI fully agreed with the client's requests/appeals",'Form LTAHO General'!K10)),0,COUNTBLANK('Form LTAHO General'!L10))) -> 0 | AF10: =IF(OR('Form LTAHO General'!K10="Others",'Form LTAHO General'!L10="Others"),COUNTBLANK('Form LTAHO General'!M10),0) -> 0 | AG10: =IF(ISBLANK(B10),0,IF(AND(ISBLANK('Form LTAHO General'!P10),NETWORKDAYS(IFERROR(DATE(LEFT('Form LTAHO General'!E10,4),MID('Form LTAHO General'!E10,5,2),RIGHT('Form LTAHO General'!E10,2)),0),IFERROR(DATE(LEFT('Form LTAHO Instructions'!#REF!,4),MID('Form LTAHO Instructions'!#REF!,5,2),RIGHT('Form LTAHO Instructions'!#REF!,2)),0),7)>27),COUNTBLANK('Form LTAHO General'!#REF!),0)) -> 0 | AH10: =IF(ISBLANK(E10),0,IF(AND(LEN(E10)=8, VALUE(MID(E10,5,2))<13,VALUE(RIGHT(E10,2))<32),0,1)) -> 0 | AI10: =IF(ISBLANK(I10),0,IF(AND(LEN(I10)=8, VALUE(MID(I10,5,2))<13,VALUE(RIGHT(I10,2))<32),0,1)) -> 0 | AJ10: =IF(ISBLANK(P10),0,IF(AND(LEN(P10)=8, VALUE(MID(P10,5,2))<13,VALUE(RIGHT(P10,2))<32),0,1)) -> 0 | AK10: =IF(ISBLANK(E10),0,IF(IFERROR(DATE(LEFT(E10,4),MID(E10,5,2),RIGHT(E10,2)),0)<IFERROR(DATE(LEFT('Form LTAHO Instructions'!#REF!,4),MID('Form LTAHO Instructions'!#REF!,5,2),RIGHT('Form LTAHO Instructions'!#REF!,2)),0),0,1)) -> 0 | AL10: =IF('Form LTAHO General'!U10="Misconduct report has been filed",COUNTBLANK('Form LTAHO General'!V10),0) -> 0 | AM10: =IF(ISBLANK(V10),0,IF(AND(LEFT(V10,2)="MR",LEN(V10)>=17),0,1)) -> 0 | AN10: =IF(ISBLANK(D10),0,IF(ISNA(VLOOKUP(D10,'Form LTAHO Dropdowns (Hidden)'!$B$1:$B$4,1,FALSE)),1,0)) -> 0 | AO10: =IF(ISBLANK(G10),0,IF(ISNA(VLOOKUP(G10,'Form LTAHO Dropdowns (Hidden)'!$J$1:$J$5,1,FALSE)),1,0)) -> 0 | AP10: =IF(ISBLANK(K10),0,IF(ISNA(VLOOKUP(K10,'Form LTAHO Dropdowns (Hidden)'!$M$1:$M$4,1,FALSE)),1,0)) -> 0 | AQ10: =IF(ISBLANK(L10),0,IF(ISNA(VLOOKUP(L10,'Form LTAHO Dropdowns (Hidden)'!$K$1:$K$4,1,FALSE)),1,0)) -> 0 | AR10: =IF(ISBLANK(Q10),0,IF(OR(Q10="YES",Q10="No"),0,1)) -> 0 | AS10: =IF(ISBLANK(R10),0,IF(OR(R10="Yes",R10="No"),0,1)) -> 0 | AT10: =IF(ISBLANK(U10),0,IF(OR(U10="No",U10="Misconduct report has been filed",U10="Misconduct report will be filed"),0,1)) -> 0
Z11: =IF('Form LTAHO Instructions'!#REF!="yes",COUNTA('Form LTAHO General'!B11),0) -> #REF! | AA11: =IF(COUNTA(B11:V11)>0,3-(COUNTA('Form LTAHO General'!B11)+COUNTA('Form LTAHO General'!D11)+COUNTA('Form LTAHO General'!U11)),0) -> 0 | AB11: =IF('Form LTAHO General'!U11="No",COUNTBLANK('Form LTAHO General'!E11:G11)+COUNTBLANK('Form LTAHO General'!K11),0) -> 0 | AC11: =IF('Form LTAHO General'!G11="Others",COUNTBLANK('Form LTAHO General'!H11),0) -> 0 | AD11: =IF(AND(U11="No",COUNTA('Form LTAHO General'!B11),ISBLANK('Form LTAHO General'!I11)),COUNTBLANK('Form LTAHO General'!J11),0) -> 0 | AE11: =IF(ISBLANK(K11),0,IF(ISNUMBER(SEARCH("FI fully agreed with the client's requests/appeals",'Form LTAHO General'!K11)),0,COUNTBLANK('Form LTAHO General'!L11))) -> 0 | AF11: =IF(OR('Form LTAHO General'!K11="Others",'Form LTAHO General'!L11="Others"),COUNTBLANK('Form LTAHO General'!M11),0) -> 0 | AG11: =IF(ISBLANK(B11),0,IF(AND(ISBLANK('Form LTAHO General'!P11),NETWORKDAYS(IFERROR(DATE(LEFT('Form LTAHO General'!E11,4),MID('Form LTAHO General'!E11,5,2),RIGHT('Form LTAHO General'!E11,2)),0),IFERROR(DATE(LEFT('Form LTAHO Instructions'!#REF!,4),MID('Form LTAHO Instructions'!#REF!,5,2),RIGHT('Form LTAHO Instructions'!#REF!,2)),0),7)>27),COUNTBLANK('Form LTAHO General'!#REF!),0)) -> 0 | AH11: =IF(ISBLANK(E11),0,IF(AND(LEN(E11)=8, VALUE(MID(E11,5,2))<13,VALUE(RIGHT(E11,2))<32),0,1)) -> 0 | AI11: =IF(ISBLANK(I11),0,IF(AND(LEN(I11)=8, VALUE(MID(I11,5,2))<13,VALUE(RIGHT(I11,2))<32),0,1)) -> 0 | AJ11: =IF(ISBLANK(P11),0,IF(AND(LEN(P11)=8, VALUE(MID(P11,5,2))<13,VALUE(RIGHT(P11,2))<32),0,1)) -> 0 | AK11: =IF(ISBLANK(E11),0,IF(IFERROR(DATE(LEFT(E11,4),MID(E11,5,2),RIGHT(E11,2)),0)<IFERROR(DATE(LEFT('Form LTAHO Instructions'!#REF!,4),MID('Form LTAHO Instructions'!#REF!,5,2),RIGHT('Form LTAHO Instructions'!#REF!,2)),0),0,1)) -> 0 | AL11: =IF('Form LTAHO General'!U11="Misconduct report has been filed",COUNTBLANK('Form LTAHO General'!V11),0) -> 0 | AM11: =IF(ISBLANK(V11),0,IF(AND(LEFT(V11,2)="MR",LEN(V11)>=17),0,1)) -> 0 | AN11: =IF(ISBLANK(D11),0,IF(ISNA(VLOOKUP(D11,'Form LTAHO Dropdowns (Hidden)'!$B$1:$B$4,1,FALSE)),1,0)) -> 0 | AO11: =IF(ISBLANK(G11),0,IF(ISNA(VLOOKUP(G11,'Form LTAHO Dropdowns (Hidden)'!$J$1:$J$5,1,FALSE)),1,0)) -> 0 | AP11: =IF(ISBLANK(K11),0,IF(ISNA(VLOOKUP(K11,'Form LTAHO Dropdowns (Hidden)'!$M$1:$M$4,1,FALSE)),1,0)) -> 0 | AQ11: =IF(ISBLANK(L11),0,IF(ISNA(VLOOKUP(L11,'Form LTAHO Dropdowns (Hidden)'!$K$1:$K$4,1,FALSE)),1,0)) -> 0 | AR11: =IF(ISBLANK(Q11),0,IF(OR(Q11="YES",Q11="No"),0,1)) -> 0 | AS11: =IF(ISBLANK(R11),0,IF(OR(R11="Yes",R11="No"),0,1)) -> 0 | AT11: =IF(ISBLANK(U11),0,IF(OR(U11="No",U11="Misconduct report has been filed",U11="Misconduct report will be filed"),0,1)) -> 0
Z12: =IF('Form LTAHO Instructions'!#REF!="yes",COUNTA('Form LTAHO General'!B12),0) -> #REF! | AA12: =IF(COUNTA(B12:V12)>0,3-(COUNTA('Form LTAHO General'!B12)+COUNTA('Form LTAHO General'!D12)+COUNTA('Form LTAHO General'!U12)),0) -> 0 | AB12: =IF('Form LTAHO General'!U12="No",COUNTBLANK('Form LTAHO General'!E12:G12)+COUNTBLANK('Form LTAHO General'!K12),0) -> 0 | AC12: =IF('Form LTAHO General'!G12="Others",COUNTBLANK('Form LTAHO General'!H12),0) -> 0 | AD12: =IF(AND(U12="No",COUNTA('Form LTAHO General'!B12),ISBLANK('Form LTAHO General'!I12)),COUNTBLANK('Form LTAHO General'!J12),0) -> 0 | AE12: =IF(ISBLANK(K12),0,IF(ISNUMBER(SEARCH("FI fully agreed with the client's requests/appeals",'Form LTAHO General'!K12)),0,COUNTBLANK('Form LTAHO General'!L12))) -> 0 | AF12: =IF(OR('Form LTAHO General'!K12="Others",'Form LTAHO General'!L12="Others"),COUNTBLANK('Form LTAHO General'!M12),0) -> 0 | AG12: =IF(ISBLANK(B12),0,IF(AND(ISBLANK('Form LTAHO General'!P12),NETWORKDAYS(IFERROR(DATE(LEFT('Form LTAHO General'!E12,4),MID('Form LTAHO General'!E12,5,2),RIGHT('Form LTAHO General'!E12,2)),0),IFERROR(DATE(LEFT('Form LTAHO Instructions'!#REF!,4),MID('Form LTAHO Instructions'!#REF!,5,2),RIGHT('Form LTAHO Instructions'!#REF!,2)),0),7)>27),COUNTBLANK('Form LTAHO General'!#REF!),0)) -> 0 | AH12: =IF(ISBLANK(E12),0,IF(AND(LEN(E12)=8, VALUE(MID(E12,5,2))<13,VALUE(RIGHT(E12,2))<32),0,1)) -> 0 | AI12: =IF(ISBLANK(I12),0,IF(AND(LEN(I12)=8, VALUE(MID(I12,5,2))<13,VALUE(RIGHT(I12,2))<32),0,1)) -> 0 | AJ12: =IF(ISBLANK(P12),0,IF(AND(LEN(P12)=8, VALUE(MID(P12,5,2))<13,VALUE(RIGHT(P12,2))<32),0,1)) -> 0 | AK12: =IF(ISBLANK(E12),0,IF(IFERROR(DATE(LEFT(E12,4),MID(E12,5,2),RIGHT(E12,2)),0)<IFERROR(DATE(LEFT('Form LTAHO Instructions'!#REF!,4),MID('Form LTAHO Instructions'!#REF!,5,2),RIGHT('Form LTAHO Instructions'!#REF!,2)),0),0,1)) -> 0 | AL12: =IF('Form LTAHO General'!U12="Misconduct report has been filed",COUNTBLANK('Form LTAHO General'!V12),0) -> 0 | AM12: =IF(ISBLANK(V12),0,IF(AND(LEFT(V12,2)="MR",LEN(V12)>=17),0,1)) -> 0 | AN12: =IF(ISBLANK(D12),0,IF(ISNA(VLOOKUP(D12,'Form LTAHO Dropdowns (Hidden)'!$B$1:$B$4,1,FALSE)),1,0)) -> 0 | AO12: =IF(ISBLANK(G12),0,IF(ISNA(VLOOKUP(G12,'Form LTAHO Dropdowns (Hidden)'!$J$1:$J$5,1,FALSE)),1,0)) -> 0 | AP12: =IF(ISBLANK(K12),0,IF(ISNA(VLOOKUP(K12,'Form LTAHO Dropdowns (Hidden)'!$M$1:$M$4,1,FALSE)),1,0)) -> 0 | AQ12: =IF(ISBLANK(L12),0,IF(ISNA(VLOOKUP(L12,'Form LTAHO Dropdowns (Hidden)'!$K$1:$K$4,1,FALSE)),1,0)) -> 0 | AR12: =IF(ISBLANK(Q12),0,IF(OR(Q12="YES",Q12="No"),0,1)) -> 0 | AS12: =IF(ISBLANK(R12),0,IF(OR(R12="Yes",R12="No"),0,1)) -> 0 | AT12: =IF(ISBLANK(U12),0,IF(OR(U12="No",U12="Misconduct report has been filed",U12="Misconduct report will be filed"),0,1)) -> 0
Z13: =IF('Form LTAHO Instructions'!#REF!="yes",COUNTA('Form LTAHO General'!B13),0) -> #REF! | AA13: =IF(COUNTA(B13:V13)>0,3-(COUNTA('Form LTAHO General'!B13)+COUNTA('Form LTAHO General'!D13)+COUNTA('Form LTAHO General'!U13)),0) -> 0 | AB13: =IF('Form LTAHO General'!U13="No",COUNTBLANK('Form LTAHO General'!E13:G13)+COUNTBLANK('Form LTAHO General'!K13),0) -> 0 | AC13: =IF('Form LTAHO General'!G13="Others",COUNTBLANK('Form LTAHO General'!H13),0) -> 0 | AD13: =IF(AND(U13="No",COUNTA('Form LTAHO General'!B13),ISBLANK('Form LTAHO General'!I13)),COUNTBLANK('Form LTAHO General'!J13),0) -> 0 | AE13: =IF(ISBLANK(K13),0,IF(ISNUMBER(SEARCH("FI fully agreed with the client's requests/appeals",'Form LTAHO General'!K13)),0,COUNTBLANK('Form LTAHO General'!L13))) -> 0 | AF13: =IF(OR('Form LTAHO General'!K13="Others",'Form LTAHO General'!L13="Others"),COUNTBLANK('Form LTAHO General'!M13),0) -> 0 | AG13: =IF(ISBLANK(B13),0,IF(AND(ISBLANK('Form LTAHO General'!P13),NETWORKDAYS(IFERROR(DATE(LEFT('Form LTAHO General'!E13,4),MID('Form LTAHO General'!E13,5,2),RIGHT('Form LTAHO General'!E13,2)),0),IFERROR(DATE(LEFT('Form LTAHO Instructions'!#REF!,4),MID('Form LTAHO Instructions'!#REF!,5,2),RIGHT('Form LTAHO Instructions'!#REF!,2)),0),7)>27),COUNTBLANK('Form LTAHO General'!#REF!),0)) -> 0 | AH13: =IF(ISBLANK(E13),0,IF(AND(LEN(E13)=8, VALUE(MID(E13,5,2))<13,VALUE(RIGHT(E13,2))<32),0,1)) -> 0 | AI13: =IF(ISBLANK(I13),0,IF(AND(LEN(I13)=8, VALUE(MID(I13,5,2))<13,VALUE(RIGHT(I13,2))<32),0,1)) -> 0 | AJ13: =IF(ISBLANK(P13),0,IF(AND(LEN(P13)=8, VALUE(MID(P13,5,2))<13,VALUE(RIGHT(P13,2))<32),0,1)) -> 0 | AK13: =IF(ISBLANK(E13),0,IF(IFERROR(DATE(LEFT(E13,4),MID(E13,5,2),RIGHT(E13,2)),0)<IFERROR(DATE(LEFT('Form LTAHO Instructions'!#REF!,4),MID('Form LTAHO Instructions'!#REF!,5,2),RIGHT('Form LTAHO Instructions'!#REF!,2)),0),0,1)) -> 0 | AL13: =IF('Form LTAHO General'!U13="Misconduct report has been filed",COUNTBLANK('Form LTAHO General'!V13),0) -> 0 | AM13: =IF(ISBLANK(V13),0,IF(AND(LEFT(V13,2)="MR",LEN(V13)>=17),0,1)) -> 0 | AN13: =IF(ISBLANK(D13),0,IF(ISNA(VLOOKUP(D13,'Form LTAHO Dropdowns (Hidden)'!$B$1:$B$4,1,FALSE)),1,0)) -> 0 | AO13: =IF(ISBLANK(G13),0,IF(ISNA(VLOOKUP(G13,'Form LTAHO Dropdowns (Hidden)'!$J$1:$J$5,1,FALSE)),1,0)) -> 0 | AP13: =IF(ISBLANK(K13),0,IF(ISNA(VLOOKUP(K13,'Form LTAHO Dropdowns (Hidden)'!$M$1:$M$4,1,FALSE)),1,0)) -> 0 | AQ13: =IF(ISBLANK(L13),0,IF(ISNA(VLOOKUP(L13,'Form LTAHO Dropdowns (Hidden)'!$K$1:$K$4,1,FALSE)),1,0)) -> 0 | AR13: =IF(ISBLANK(Q13),0,IF(OR(Q13="YES",Q13="No"),0,1)) -> 0 | AS13: =IF(ISBLANK(R13),0,IF(OR(R13="Yes",R13="No"),0,1)) -> 0 | AT13: =IF(ISBLANK(U13),0,IF(OR(U13="No",U13="Misconduct report has been filed",U13="Misconduct report will be filed"),0,1)) -> 0
Z14: =IF('Form LTAHO Instructions'!#REF!="yes",COUNTA('Form LTAHO General'!B14),0) -> #REF! | AA14: =IF(COUNTA(B14:V14)>0,3-(COUNTA('Form LTAHO General'!B14)+COUNTA('Form LTAHO General'!D14)+COUNTA('Form LTAHO General'!U14)),0) -> 0 | AB14: =IF('Form LTAHO General'!U14="No",COUNTBLANK('Form LTAHO General'!E14:G14)+COUNTBLANK('Form LTAHO General'!K14),0) -> 0 | AC14: =IF('Form LTAHO General'!G14="Others",COUNTBLANK('Form LTAHO General'!H14),0) -> 0 | AD14: =IF(AND(U14="No",COUNTA('Form LTAHO General'!B14),ISBLANK('Form LTAHO General'!I14)),COUNTBLANK('Form LTAHO General'!J14),0) -> 0 | AE14: =IF(ISBLANK(K14),0,IF(ISNUMBER(SEARCH("FI fully agreed with the client's requests/appeals",'Form LTAHO General'!K14)),0,COUNTBLANK('Form LTAHO General'!L14))) -> 0 | AF14: =IF(OR('Form LTAHO General'!K14="Others",'Form LTAHO General'!L14="Others"),COUNTBLANK('Form LTAHO General'!M14),0) -> 0 | AG14: =IF(ISBLANK(B14),0,IF(AND(ISBLANK('Form LTAHO General'!P14),NETWORKDAYS(IFERROR(DATE(LEFT('Form LTAHO General'!E14,4),MID('Form LTAHO General'!E14,5,2),RIGHT('Form LTAHO General'!E14,2)),0),IFERROR(DATE(LEFT('Form LTAHO Instructions'!#REF!,4),MID('Form LTAHO Instructions'!#REF!,5,2),RIGHT('Form LTAHO Instructions'!#REF!,2)),0),7)>27),COUNTBLANK('Form LTAHO General'!#REF!),0)) -> 0 | AH14: =IF(ISBLANK(E14),0,IF(AND(LEN(E14)=8, VALUE(MID(E14,5,2))<13,VALUE(RIGHT(E14,2))<32),0,1)) -> 0 | AI14: =IF(ISBLANK(I14),0,IF(AND(LEN(I14)=8, VALUE(MID(I14,5,2))<13,VALUE(RIGHT(I14,2))<32),0,1)) -> 0 | AJ14: =IF(ISBLANK(P14),0,IF(AND(LEN(P14)=8, VALUE(MID(P14,5,2))<13,VALUE(RIGHT(P14,2))<32),0,1)) -> 0 | AK14: =IF(ISBLANK(E14),0,IF(IFERROR(DATE(LEFT(E14,4),MID(E14,5,2),RIGHT(E14,2)),0)<IFERROR(DATE(LEFT('Form LTAHO Instructions'!#REF!,4),MID('Form LTAHO Instructions'!#REF!,5,2),RIGHT('Form LTAHO Instructions'!#REF!,2)),0),0,1)) -> 0 | AL14: =IF('Form LTAHO General'!U14="Misconduct report has been filed",COUNTBLANK('Form LTAHO General'!V14),0) -> 0 | AM14: =IF(ISBLANK(V14),0,IF(AND(LEFT(V14,2)="MR",LEN(V14)>=17),0,1)) -> 0 | AN14: =IF(ISBLANK(D14),0,IF(ISNA(VLOOKUP(D14,'Form LTAHO Dropdowns (Hidden)'!$B$1:$B$4,1,FALSE)),1,0)) -> 0 | AO14: =IF(ISBLANK(G14),0,IF(ISNA(VLOOKUP(G14,'Form LTAHO Dropdowns (Hidden)'!$J$1:$J$5,1,FALSE)),1,0)) -> 0 | AP14: =IF(ISBLANK(K14),0,IF(ISNA(VLOOKUP(K14,'Form LTAHO Dropdowns (Hidden)'!$M$1:$M$4,1,FALSE)),1,0)) -> 0 | AQ14: =IF(ISBLANK(L14),0,IF(ISNA(VLOOKUP(L14,'Form LTAHO Dropdowns (Hidden)'!$K$1:$K$4,1,FALSE)),1,0)) -> 0 | AR14: =IF(ISBLANK(Q14),0,IF(OR(Q14="YES",Q14="No"),0,1)) -> 0 | AS14: =IF(ISBLANK(R14),0,IF(OR(R14="Yes",R14="No"),0,1)) -> 0 | AT14: =IF(ISBLANK(U14),0,IF(OR(U14="No",U14="Misconduct report has been filed",U14="Misconduct report will be filed"),0,1)) -> 0
Z15: =IF('Form LTAHO Instructions'!#REF!="yes",COUNTA('Form LTAHO General'!B15),0) -> #REF! | AA15: =IF(COUNTA(B15:V15)>0,3-(COUNTA('Form LTAHO General'!B15)+COUNTA('Form LTAHO General'!D15)+COUNTA('Form LTAHO General'!U15)),0) -> 0 | AB15: =IF('Form LTAHO General'!U15="No",COUNTBLANK('Form LTAHO General'!E15:G15)+COUNTBLANK('Form LTAHO General'!K15),0) -> 0 | AC15: =IF('Form LTAHO General'!G15="Others",COUNTBLANK('Form LTAHO General'!H15),0) -> 0 | AD15: =IF(AND(U15="No",COUNTA('Form LTAHO General'!B15),ISBLANK('Form LTAHO General'!I15)),COUNTBLANK('Form LTAHO General'!J15),0) -> 0 | AE15: =IF(ISBLANK(K15),0,IF(ISNUMBER(SEARCH("FI fully agreed with the client's requests/appeals",'Form LTAHO General'!K15)),0,COUNTBLANK('Form LTAHO General'!L15))) -> 0 | AF15: =IF(OR('Form LTAHO General'!K15="Others",'Form LTAHO General'!L15="Others"),COUNTBLANK('Form LTAHO General'!M15),0) -> 0 | AG15: =IF(ISBLANK(B15),0,IF(AND(ISBLANK('Form LTAHO General'!P15),NETWORKDAYS(IFERROR(DATE(LEFT('Form LTAHO General'!E15,4),MID('Form LTAHO General'!E15,5,2),RIGHT('Form LTAHO General'!E15,2)),0),IFERROR(DATE(LEFT('Form LTAHO Instructions'!#REF!,4),MID('Form LTAHO Instructions'!#REF!,5,2),RIGHT('Form LTAHO Instructions'!#REF!,2)),0),7)>27),COUNTBLANK('Form LTAHO General'!#REF!),0)) -> 0 | AH15: =IF(ISBLANK(E15),0,IF(AND(LEN(E15)=8, VALUE(MID(E15,5,2))<13,VALUE(RIGHT(E15,2))<32),0,1)) -> 0 | AI15: =IF(ISBLANK(I15),0,IF(AND(LEN(I15)=8, VALUE(MID(I15,5,2))<13,VALUE(RIGHT(I15,2))<32),0,1)) -> 0 | AJ15: =IF(ISBLANK(P15),0,IF(AND(LEN(P15)=8, VALUE(MID(P15,5,2))<13,VALUE(RIGHT(P15,2))<32),0,1)) -> 0 | AK15: =IF(ISBLANK(E15),0,IF(IFERROR(DATE(LEFT(E15,4),MID(E15,5,2),RIGHT(E15,2)),0)<IFERROR(DATE(LEFT('Form LTAHO Instructions'!#REF!,4),MID('Form LTAHO Instructions'!#REF!,5,2),RIGHT('Form LTAHO Instructions'!#REF!,2)),0),0,1)) -> 0 | AL15: =IF('Form LTAHO General'!U15="Misconduct report has been filed",COUNTBLANK('Form LTAHO General'!V15),0) -> 0 | AM15: =IF(ISBLANK(V15),0,IF(AND(LEFT(V15,2)="MR",LEN(V15)>=17),0,1)) -> 0 | AN15: =IF(ISBLANK(D15),0,IF(ISNA(VLOOKUP(D15,'Form LTAHO Dropdowns (Hidden)'!$B$1:$B$4,1,FALSE)),1,0)) -> 0 | AO15: =IF(ISBLANK(G15),0,IF(ISNA(VLOOKUP(G15,'Form LTAHO Dropdowns (Hidden)'!$J$1:$J$5,1,FALSE)),1,0)) -> 0 | AP15: =IF(ISBLANK(K15),0,IF(ISNA(VLOOKUP(K15,'Form LTAHO Dropdowns (Hidden)'!$M$1:$M$4,1,FALSE)),1,0)) -> 0 | AQ15: =IF(ISBLANK(L15),0,IF(ISNA(VLOOKUP(L15,'Form LTAHO Dropdowns (Hidden)'!$K$1:$K$4,1,FALSE)),1,0)) -> 0 | AR15: =IF(ISBLANK(Q15),0,IF(OR(Q15="YES",Q15="No"),0,1)) -> 0 | AS15: =IF(ISBLANK(R15),0,IF(OR(R15="Yes",R15="No"),0,1)) -> 0 | AT15: =IF(ISBLANK(U15),0,IF(OR(U15="No",U15="Misconduct report has been filed",U15="Misconduct report will be filed"),0,1)) -> 0
Z16: =IF('Form LTAHO Instructions'!#REF!="yes",COUNTA('Form LTAHO General'!B16),0) -> #REF! | AA16: =IF(COUNTA(B16:V16)>0,3-(COUNTA('Form LTAHO General'!B16)+COUNTA('Form LTAHO General'!D16)+COUNTA('Form LTAHO General'!U16)),0) -> 0 | AB16: =IF('Form LTAHO General'!U16="No",COUNTBLANK('Form LTAHO General'!E16:G16)+COUNTBLANK('Form LTAHO General'!K16),0) -> 0 | AC16: =IF('Form LTAHO General'!G16="Others",COUNTBLANK('Form LTAHO General'!H16),0) -> 0 | AD16: =IF(AND(U16="No",COUNTA('Form LTAHO General'!B16),ISBLANK('Form LTAHO General'!I16)),COUNTBLANK('Form LTAHO General'!J16),0) -> 0 | AE16: =IF(ISBLANK(K16),0,IF(ISNUMBER(SEARCH("FI fully agreed with the client's requests/appeals",'Form LTAHO General'!K16)),0,COUNTBLANK('Form LTAHO General'!L16))) -> 0 | AF16: =IF(OR('Form LTAHO General'!K16="Others",'Form LTAHO General'!L16="Others"),COUNTBLANK('Form LTAHO General'!M16),0) -> 0 | AG16: =IF(ISBLANK(B16),0,IF(AND(ISBLANK('Form LTAHO General'!P16),NETWORKDAYS(IFERROR(DATE(LEFT('Form LTAHO General'!E16,4),MID('Form LTAHO General'!E16,5,2),RIGHT('Form LTAHO General'!E16,2)),0),IFERROR(DATE(LEFT('Form LTAHO Instructions'!#REF!,4),MID('Form LTAHO Instructions'!#REF!,5,2),RIGHT('Form LTAHO Instructions'!#REF!,2)),0),7)>27),COUNTBLANK('Form LTAHO General'!#REF!),0)) -> 0 | AH16: =IF(ISBLANK(E16),0,IF(AND(LEN(E16)=8, VALUE(MID(E16,5,2))<13,VALUE(RIGHT(E16,2))<32),0,1)) -> 0 | AI16: =IF(ISBLANK(I16),0,IF(AND(LEN(I16)=8, VALUE(MID(I16,5,2))<13,VALUE(RIGHT(I16,2))<32),0,1)) -> 0 | AJ16: =IF(ISBLANK(P16),0,IF(AND(LEN(P16)=8, VALUE(MID(P16,5,2))<13,VALUE(RIGHT(P16,2))<32),0,1)) -> 0 | AK16: =IF(ISBLANK(E16),0,IF(IFERROR(DATE(LEFT(E16,4),MID(E16,5,2),RIGHT(E16,2)),0)<IFERROR(DATE(LEFT('Form LTAHO Instructions'!#REF!,4),MID('Form LTAHO Instructions'!#REF!,5,2),RIGHT('Form LTAHO Instructions'!#REF!,2)),0),0,1)) -> 0 | AL16: =IF('Form LTAHO General'!U16="Misconduct report has been filed",COUNTBLANK('Form LTAHO General'!V16),0) -> 0 | AM16: =IF(ISBLANK(V16),0,IF(AND(LEFT(V16,2)="MR",LEN(V16)>=17),0,1)) -> 0 | AN16: =IF(ISBLANK(D16),0,IF(ISNA(VLOOKUP(D16,'Form LTAHO Dropdowns (Hidden)'!$B$1:$B$4,1,FALSE)),1,0)) -> 0 | AO16: =IF(ISBLANK(G16),0,IF(ISNA(VLOOKUP(G16,'Form LTAHO Dropdowns (Hidden)'!$J$1:$J$5,1,FALSE)),1,0)) -> 0 | AP16: =IF(ISBLANK(K16),0,IF(ISNA(VLOOKUP(K16,'Form LTAHO Dropdowns (Hidden)'!$M$1:$M$4,1,FALSE)),1,0)) -> 0 | AQ16: =IF(ISBLANK(L16),0,IF(ISNA(VLOOKUP(L16,'Form LTAHO Dropdowns (Hidden)'!$K$1:$K$4,1,FALSE)),1,0)) -> 0 | AR16: =IF(ISBLANK(Q16),0,IF(OR(Q16="YES",Q16="No"),0,1)) -> 0 | AS16: =IF(ISBLANK(R16),0,IF(OR(R16="Yes",R16="No"),0,1)) -> 0 | AT16: =IF(ISBLANK(U16),0,IF(OR(U16="No",U16="Misconduct report has been filed",U16="Misconduct report will be filed"),0,1)) -> 0
Z17: =IF('Form LTAHO Instructions'!#REF!="yes",COUNTA('Form LTAHO General'!B17),0) -> #REF! | AA17: =IF(COUNTA(B17:V17)>0,3-(COUNTA('Form LTAHO General'!B17)+COUNTA('Form LTAHO General'!D17)+COUNTA('Form LTAHO General'!U17)),0) -> 0 | AB17: =IF('Form LTAHO General'!U17="No",COUNTBLANK('Form LTAHO General'!E17:G17)+COUNTBLANK('Form LTAHO General'!K17),0) -> 0 | AC17: =IF('Form LTAHO General'!G17="Others",COUNTBLANK('Form LTAHO General'!H17),0) -> 0 | AD17: =IF(AND(U17="No",COUNTA('Form LTAHO General'!B17),ISBLANK('Form LTAHO General'!I17)),COUNTBLANK('Form LTAHO General'!J17),0) -> 0 | AE17: =IF(ISBLANK(K17),0,IF(ISNUMBER(SEARCH("FI fully agreed with the client's requests/appeals",'Form LTAHO General'!K17)),0,COUNTBLANK('Form LTAHO General'!L17))) -> 0 | AF17: =IF(OR('Form LTAHO General'!K17="Others",'Form LTAHO General'!L17="Others"),COUNTBLANK('Form LTAHO General'!M17),0) -> 0 | AG17: =IF(ISBLANK(B17),0,IF(AND(ISBLANK('Form LTAHO General'!P17),NETWORKDAYS(IFERROR(DATE(LEFT('Form LTAHO General'!E17,4),MID('Form LTAHO General'!E17,5,2),RIGHT('Form LTAHO General'!E17,2)),0),IFERROR(DATE(LEFT('Form LTAHO Instructions'!#REF!,4),MID('Form LTAHO Instructions'!#REF!,5,2),RIGHT('Form LTAHO Instructions'!#REF!,2)),0),7)>27),COUNTBLANK('Form LTAHO General'!#REF!),0)) -> 0 | AH17: =IF(ISBLANK(E17),0,IF(AND(LEN(E17)=8, VALUE(MID(E17,5,2))<13,VALUE(RIGHT(E17,2))<32),0,1)) -> 0 | AI17: =IF(ISBLANK(I17),0,IF(AND(LEN(I17)=8, VALUE(MID(I17,5,2))<13,VALUE(RIGHT(I17,2))<32),0,1)) -> 0 | AJ17: =IF(ISBLANK(P17),0,IF(AND(LEN(P17)=8, VALUE(MID(P17,5,2))<13,VALUE(RIGHT(P17,2))<32),0,1)) -> 0 | AK17: =IF(ISBLANK(E17),0,IF(IFERROR(DATE(LEFT(E17,4),MID(E17,5,2),RIGHT(E17,2)),0)<IFERROR(DATE(LEFT('Form LTAHO Instructions'!#REF!,4),MID('Form LTAHO Instructions'!#REF!,5,2),RIGHT('Form LTAHO Instructions'!#REF!,2)),0),0,1)) -> 0 | AL17: =IF('Form LTAHO General'!U17="Misconduct report has been filed",COUNTBLANK('Form LTAHO General'!V17),0) -> 0 | AM17: =IF(ISBLANK(V17),0,IF(AND(LEFT(V17,2)="MR",LEN(V17)>=17),0,1)) -> 0 | AN17: =IF(ISBLANK(D17),0,IF(ISNA(VLOOKUP(D17,'Form LTAHO Dropdowns (Hidden)'!$B$1:$B$4,1,FALSE)),1,0)) -> 0 | AO17: =IF(ISBLANK(G17),0,IF(ISNA(VLOOKUP(G17,'Form LTAHO Dropdowns (Hidden)'!$J$1:$J$5,1,FALSE)),1,0)) -> 0 | AP17: =IF(ISBLANK(K17),0,IF(ISNA(VLOOKUP(K17,'Form LTAHO Dropdowns (Hidden)'!$M$1:$M$4,1,FALSE)),1,0)) -> 0 | AQ17: =IF(ISBLANK(L17),0,IF(ISNA(VLOOKUP(L17,'Form LTAHO Dropdowns (Hidden)'!$K$1:$K$4,1,FALSE)),1,0)) -> 0 | AR17: =IF(ISBLANK(Q17),0,IF(OR(Q17="YES",Q17="No"),0,1)) -> 0 | AS17: =IF(ISBLANK(R17),0,IF(OR(R17="Yes",R17="No"),0,1)) -> 0 | AT17: =IF(ISBLANK(U17),0,IF(OR(U17="No",U17="Misconduct report has been filed",U17="Misconduct report will be filed"),0,1)) -> 0
Z18: =IF('Form LTAHO Instructions'!#REF!="yes",COUNTA('Form LTAHO General'!B18),0) -> #REF! | AA18: =IF(COUNTA(B18:V18)>0,3-(COUNTA('Form LTAHO General'!B18)+COUNTA('Form LTAHO General'!D18)+COUNTA('Form LTAHO General'!U18)),0) -> 0 | AB18: =IF('Form LTAHO General'!U18="No",COUNTBLANK('Form LTAHO General'!E18:G18)+COUNTBLANK('Form LTAHO General'!K18),0) -> 0 | AC18: =IF('Form LTAHO General'!G18="Others",COUNTBLANK('Form LTAHO General'!H18),0) -> 0 | AD18: =IF(AND(U18="No",COUNTA('Form LTAHO General'!B18),ISBLANK('Form LTAHO General'!I18)),COUNTBLANK('Form LTAHO General'!J18),0) -> 0 | AE18: =IF(ISBLANK(K18),0,IF(ISNUMBER(SEARCH("FI fully agreed with the client's requests/appeals",'Form LTAHO General'!K18)),0,COUNTBLANK('Form LTAHO General'!L18))) -> 0 | AF18: =IF(OR('Form LTAHO General'!K18="Others",'Form LTAHO General'!L18="Others"),COUNTBLANK('Form LTAHO General'!M18),0) -> 0 | AG18: =IF(ISBLANK(B18),0,IF(AND(ISBLANK('Form LTAHO General'!P18),NETWORKDAYS(IFERROR(DATE(LEFT('Form LTAHO General'!E18,4),MID('Form LTAHO General'!E18,5,2),RIGHT('Form LTAHO General'!E18,2)),0),IFERROR(DATE(LEFT('Form LTAHO Instructions'!#REF!,4),MID('Form LTAHO Instructions'!#REF!,5,2),RIGHT('Form LTAHO Instructions'!#REF!,2)),0),7)>27),COUNTBLANK('Form LTAHO General'!#REF!),0)) -> 0 | AH18: =IF(ISBLANK(E18),0,IF(AND(LEN(E18)=8, VALUE(MID(E18,5,2))<13,VALUE(RIGHT(E18,2))<32),0,1)) -> 0 | AI18: =IF(ISBLANK(I18),0,IF(AND(LEN(I18)=8, VALUE(MID(I18,5,2))<13,VALUE(RIGHT(I18,2))<32),0,1)) -> 0 | AJ18: =IF(ISBLANK(P18),0,IF(AND(LEN(P18)=8, VALUE(MID(P18,5,2))<13,VALUE(RIGHT(P18,2))<32),0,1)) -> 0 | AK18: =IF(ISBLANK(E18),0,IF(IFERROR(DATE(LEFT(E18,4),MID(E18,5,2),RIGHT(E18,2)),0)<IFERROR(DATE(LEFT('Form LTAHO Instructions'!#REF!,4),MID('Form LTAHO Instructions'!#REF!,5,2),RIGHT('Form LTAHO Instructions'!#REF!,2)),0),0,1)) -> 0 | AL18: =IF('Form LTAHO General'!U18="Misconduct report has been filed",COUNTBLANK('Form LTAHO General'!V18),0) -> 0 | AM18: =IF(ISBLANK(V18),0,IF(AND(LEFT(V18,2)="MR",LEN(V18)>=17),0,1)) -> 0 | AN18: =IF(ISBLANK(D18),0,IF(ISNA(VLOOKUP(D18,'Form LTAHO Dropdowns (Hidden)'!$B$1:$B$4,1,FALSE)),1,0)) -> 0 | AO18: =IF(ISBLANK(G18),0,IF(ISNA(VLOOKUP(G18,'Form LTAHO Dropdowns (Hidden)'!$J$1:$J$5,1,FALSE)),1,0)) -> 0 | AP18: =IF(ISBLANK(K18),0,IF(ISNA(VLOOKUP(K18,'Form LTAHO Dropdowns (Hidden)'!$M$1:$M$4,1,FALSE)),1,0)) -> 0 | AQ18: =IF(ISBLANK(L18),0,IF(ISNA(VLOOKUP(L18,'Form LTAHO Dropdowns (Hidden)'!$K$1:$K$4,1,FALSE)),1,0)) -> 0 | AR18: =IF(ISBLANK(Q18),0,IF(OR(Q18="YES",Q18="No"),0,1)) -> 0 | AS18: =IF(ISBLANK(R18),0,IF(OR(R18="Yes",R18="No"),0,1)) -> 0 | AT18: =IF(ISBLANK(U18),0,IF(OR(U18="No",U18="Misconduct report has been filed",U18="Misconduct report will be filed"),0,1)) -> 0
... Z504: =IF('Form LTAHO Instructions'!#REF!="yes",COUNTA('Form LTAHO General'!B504),0) -> #REF! | AA504: =IF(COUNTA(B504:V504)>0,3-(COUNTA('Form LTAHO General'!B504)+COUNTA('Form LTAHO General'!D504)+COUNTA('Form LTAHO General'!U504)),0) -> 0 | AB504: =IF('Form LTAHO General'!U504="No",COUNTBLANK('Form LTAHO General'!E504:G504)+COUNTBLANK('Form LTAHO General'!K504),0) -> 0 | AC504: =IF('Form LTAHO General'!G504="Others",COUNTBLANK('Form LTAHO General'!H504),0) -> 0 | AD504: =IF(AND(U504="No",COUNTA('Form LTAHO General'!B504),ISBLANK('Form LTAHO General'!I504)),COUNTBLANK('Form LTAHO General'!J504),0) -> 0 | AE504: =IF(ISBLANK(K504),0,IF(ISNUMBER(SEARCH("FI fully agreed with the client's requests/appeals",'Form LTAHO General'!K504)),0,COUNTBLANK('Form LTAHO General'!L504))) -> 0 | AF504: =IF(OR('Form LTAHO General'!K504="Others",'Form LTAHO General'!L504="Others"),COUNTBLANK('Form LTAHO General'!M504),0) -> 0 | AG504: =IF(ISBLANK(B504),0,IF(AND(ISBLANK('Form LTAHO General'!P504),NETWORKDAYS(IFERROR(DATE(LEFT('Form LTAHO General'!E504,4),MID('Form LTAHO General'!E504,5,2),RIGHT('Form LTAHO General'!E504,2)),0),IFERROR(DATE(LEFT('Form LTAHO Instructions'!#REF!,4),MID('Form LTAHO Instructions'!#REF!,5,2),RIGHT('Form LTAHO Instructions'!#REF!,2)),0),7)>27),COUNTBLANK('Form LTAHO General'!#REF!),0)) -> 0 | AH504: =IF(ISBLANK(E504),0,IF(AND(LEN(E504)=8, VALUE(MID(E504,5,2))<13,VALUE(RIGHT(E504,2))<32),0,1)) -> 0 | AI504: =IF(ISBLANK(I504),0,IF(AND(LEN(I504)=8, VALUE(MID(I504,5,2))<13,VALUE(RIGHT(I504,2))<32),0,1)) -> 0 | AJ504: =IF(ISBLANK(P504),0,IF(AND(LEN(P504)=8, VALUE(MID(P504,5,2))<13,VALUE(RIGHT(P504,2))<32),0,1)) -> 0 | AK504: =IF(ISBLANK(E504),0,IF(IFERROR(DATE(LEFT(E504,4),MID(E504,5,2),RIGHT(E504,2)),0)<IFERROR(DATE(LEFT('Form LTAHO Instructions'!#REF!,4),MID('Form LTAHO Instructions'!#REF!,5,2),RIGHT('Form LTAHO Instructions'!#REF!,2)),0),0,1)) -> 0 | AL504: =IF('Form LTAHO General'!U504="Misconduct report has been filed",COUNTBLANK('Form LTAHO General'!V504),0) -> 0 | AM504: =IF(ISBLANK(V504),0,IF(AND(LEFT(V504,2)="MR",LEN(V504)>=17),0,1)) -> 0 | AN504: =IF(ISBLANK(D504),0,IF(ISNA(VLOOKUP(D504,'Form LTAHO Dropdowns (Hidden)'!$B$1:$B$4,1,FALSE)),1,0)) -> 0 | AO504: =IF(ISBLANK(G504),0,IF(ISNA(VLOOKUP(G504,'Form LTAHO Dropdowns (Hidden)'!$J$1:$J$5,1,FALSE)),1,0)) -> 0 | AP504: =IF(ISBLANK(K504),0,IF(ISNA(VLOOKUP(K504,'Form LTAHO Dropdowns (Hidden)'!$M$1:$M$4,1,FALSE)),1,0)) -> 0 | AQ504: =IF(ISBLANK(L504),0,IF(ISNA(VLOOKUP(L504,'Form LTAHO Dropdowns (Hidden)'!$K$1:$K$4,1,FALSE)),1,0)) -> 0 | AR504: =IF(ISBLANK(Q504),0,IF(OR(Q504="YES",Q504="No"),0,1)) -> 0 | AS504: =IF(ISBLANK(R504),0,IF(OR(R504="Yes",R504="No"),0,1)) -> 0 | AT504: =IF(ISBLANK(U504),0,IF(OR(U504="No",U504="Misconduct report has been filed",U504="Misconduct report will be filed"),0,1)) -> 0

Sheet Form LTAHO Dropdowns (Hidden)
A1: Online M&P Complaint-LT A&H | B1: Not resolved | C1: Written and spoken | D1: Below GCE ‘N’ or ‘O’ Level, or equivalent | E1: FA firm's own premises (e.g. branch, office) | F1: FA firm's own premises (e.g. branch, office) | G1: Equity securities (e.g. shares) | H1: Allegation | I1: Inadequate fact-find | J1: Request for reinstatement of policy | K1: Monetary compensation | L1: Single premium | M1: FI fully agreed with the client's requests/appeals | N1: Under investigation | O1: Original
A2: Complaint-LT A&H (other than online M&P) | B2: New information | C2: Not proficient in written or spoken | D2: GCE ‘N’ or ‘O’ Level, or equivalent, or higher | E2: Rep/agency's premises | F2: Client’s premises (e.g. home, place of work, family/friend's premises) | G2: Fixed income securities (e.g. debentures, asset-backed securities) | H2: Finding | I2: Sub-agency/pooling | J2: Request for transaction to be cancelled and investment amount/premiums to be refunded | K2: Policy reinstated | L2: Annual premium | M2: FI partially agreed with the client's requests/appeals | N2: Substantiated | O2: Reopened
A3: Online M&P Other Feedback | B3: Resolved | C3: Unknown | D3: Unknown | E3: Client’s premises (e.g. home, place of work, family/friend's premises) | F3: Rep/agency's premises | G3: Exchange-traded derivatives contracts (e.g. options, warrants, rights, futures) | I3: Mis-selling/unsuitable recommendation | J3: Request for waiver of exclusion clauses | K3: Client accepted explanation given by FI | L3: Semi-annual premium | M3: FI did not agree with the client's requests/appeals | N3: Unsubstantiated
A4: Other Feedback (other than online M&P) | E4: Roadshow (e.g. temporary / short-term arrangements) | F4: Roadshow (e.g. temporary / short-term arrangements) | G4: Over-the-counter derivatives contracts (e.g. contracts-for-difference) | I4: Switching detrimental to the interest of the client | J4: Others | K4: Others | L4: Quarterly premium | M4: Others | N4: Inconclusive
E5: Retailer (tie-up with FI) (e.g. long term arrangements) | F5: Retailer (tie-up with FI) (e.g. long term arrangements) | G5: Collective investment schemes including exchange traded funds, that invests only in 'Excluded Investment Products' | I5: Inadequate information disclosure/misrepresentation | J5: Not applicable | L5: Monthly premium | N5: No investigation conducted
E6: Street canvassing | F6: Retailer (no tie-up with FI) (e.g. at a restaurant/café where there is no arrangement made between FI and retailer) | G6: Collective investment schemes excluding those that invests in 'Excluded Investment Products' only | I6: Lapses in executing client's transaction instructions that result in client incurring losses
E7: Seminar | F7: Seminar | G7: Spot foreign exchange contracts for the purposes of leveraged foreign exchange trading | I7: Aggressive sales tactics, e.g. hard-selling, physical / verbal harassment
E8: Over the phone | F8: Over the phone | G8: Spot foreign exchange contracts other than for the purposes of leveraged foreign exchange trading | I8: Financing of client’s premiums
E9: Over video conference | F9: Over video conference | G9: Structured notes | I9: Impersonation
E10: Internet / social media | F10: Unable to recall | G10: Structured deposits | I10: Other acts involving fraud, dishonesty or other offences of a similar nature (e.g. cheating, fraud, forgery, misappropriation of monies or criminal breach of trust, money laundering)
E11: Referral | F11: Others | G11: Participating endowment life policies | I11: Breach of client confidentiality
E12: Unable to recall | G12: Participating whole life policies | I12: Others
E13: Others | G13: Investment-linked life policies defined as 'Excluded Investment Products'
G14: Investment-linked life policies not defined as 'Excluded Investment Products'
G15: Non-participating term life policies
G16: Non-participating life policies (other than term life policies)
G17: Universal life policies
G18: LT A&H medical expense policies
G19: LT A&H critical illness policies
